- Раздел: Другое, разное
- Дата съёмки: 07.04.2013 18:42
- Дата загрузки фото: 04.01.2015 20:23
- Оригинальная фотография: 1000 x 726 (167 Кб)
- Технические характеристики:
- Фотоаппарат: Canon EOS Kiss X6i
- Выдержка: 1/50
- Светочувствительность: 200
- Экспокоррекция: -2
- Полный EXIF
- Composite
- CircleOfConfusion: 0,004 mm
- ScaleFactor35efl: 8,0
- ShutterSpeed: 1/50
- ExifIFD
- CreateDate: 2013:04:07 18:42:52
- CustomRendered: Normal
- DateTimeOriginal: 2013:04:07 18:42:52
- ExposureCompensation: -2
- ExposureMode: Auto
- ExposureProgram: Aperture-priority AE
- ExposureTime: 1/50
- Flash: Off, Did not fire
- ISO: 200
- LensSerialNumber: 0000000000
- MeteringMode: Partial
- RecommendedExposureIndex: 200
- SceneCaptureType: Standard
- SensitivityType: Recommended Exposure Index
- SerialNumber: 033021001137
- ShutterSpeedValue: 1/50
- WhiteBalance: Auto
- ICC-header
- ICC-meas
- ICC-view
- IFD0
- Artist: VLADIMIR T
- Copyright: VLADIMIR T.saratovskaya oblast
- Make: Canon
- Model: Canon EOS Kiss X6i
- ModifyDate: 2013:05:02 17:50:04
- IFD1
- IPTC
- By-line: VLADIMIR T
- CopyrightNotice: VLADIMIR T.saratovskaya oblast
- DateCreated: 2013:04:07
- System
- XMP-aux
- Firmware: 1.0.1
- FlashCompensation: 0
- ImageNumber: 0
- XMP-crs
- AlreadyApplied: True
- AutoLateralCA: 0
- Blacks2012: +6
- BlueHue: 0
- BlueSaturation: 0
- CameraProfile: Embedded
- Clarity2012: +15
- ColorNoiseReduction: 51
- ColorNoiseReductionDetail: 2
- Contrast2012: +28
- ConvertToGrayscale: False
- CropAngle: 1.70226
- CropBottom: 0.980257
- CropConstrainToWarp: 0
- CropHeight: 3256
- CropLeft: 0.018659
- CropRight: 0.863565
- CropTop: 0
- CropUnit: pixels
- CropWidth: 4479
- DefringeGreenAmount: 0
- DefringeGreenHueHi: 60
- DefringeGreenHueLo: 40
- DefringePurpleAmount: 0
- DefringePurpleHueHi: 70
- DefringePurpleHueLo: 30
- Exposure2012: -1.06
- GrainAmount: 0
- GreenHue: 0
- GreenSaturation: 0
- HasCrop: True
- HasSettings: True
- Highlights2012: +23
- HueAdjustmentAqua: 0
- HueAdjustmentBlue: 0
- HueAdjustmentGreen: 0
- HueAdjustmentMagenta: 0
- HueAdjustmentOrange: 0
- HueAdjustmentPurple: 0
- HueAdjustmentRed: 0
- HueAdjustmentYellow: 0
- IncrementalTemperature: 0
- IncrementalTint: 0
- LensManualDistortionAmount: 0
- LensProfileChromaticAberrationScale: 100
- LensProfileDistortionScale: 100
- LensProfileEnable: 1
- LensProfileFilename: Canon EOS-1Ds Mark III (Canon EF 50mm f1.4 USM).lcp
- LensProfileSetup: Custom
- LensProfileVignettingScale: 100
- LuminanceAdjustmentAqua: 0
- LuminanceAdjustmentBlue: 0
- LuminanceAdjustmentGreen: 0
- LuminanceAdjustmentMagenta: 0
- LuminanceAdjustmentOrange: -27
- LuminanceAdjustmentPurple: +5
- LuminanceAdjustmentRed: 0
- LuminanceAdjustmentYellow: -61
- LuminanceNoiseReductionContrast: 0
- LuminanceNoiseReductionDetail: 5
- LuminanceSmoothing: 51
- ParametricDarks: +45
- ParametricHighlightSplit: 75
- ParametricHighlights: -69
- ParametricLights: -5
- ParametricMidtoneSplit: 50
- ParametricShadowSplit: 25
- ParametricShadows: -3
- PerspectiveHorizontal: 0
- PerspectiveRotate: 0.0
- PerspectiveScale: 100
- PerspectiveVertical: 0
- PostCropVignetteAmount: 0
- ProcessVersion: 6.7
- RedHue: 0
- RedSaturation: 0
- Saturation: -13
- SaturationAdjustmentAqua: 0
- SaturationAdjustmentBlue: 0
- SaturationAdjustmentGreen: 0
- SaturationAdjustmentMagenta: 0
- SaturationAdjustmentOrange: 0
- SaturationAdjustmentPurple: 0
- SaturationAdjustmentRed: 0
- SaturationAdjustmentYellow: 0
- ShadowTint: 0
- Shadows2012: +60
- SharpenDetail: 2
- SharpenEdgeMasking: 19
- SharpenRadius: +1.1
- Sharpness: 24
- SplitToningBalance: 0
- SplitToningHighlightHue: 0
- SplitToningHighlightSaturation: 0
- SplitToningShadowHue: 0
- SplitToningShadowSaturation: 0
- ToneCurveName2012: Linear
- ToneCurvePV2012: 0, 0, 255, 255
- ToneCurvePV2012Blue: 0, 0, 255, 255
- ToneCurvePV2012Green: 0, 0, 255, 255
- ToneCurvePV2012Red: 0, 0, 255, 255
- Version: 7.3
- Vibrance: +9
- VignetteAmount: 0
- WhiteBalance: Custom
- Whites2012: +43
- XMP-dc
- Creator: VLADIMIR T
- Format: image/jpeg
- Rights: VLADIMIR T.saratovskaya oblast
- XMP-xmp
- CreateDate: 2013:04:07 18:42:52.51
- ModifyDate: 2013:05:02 17:50:04+04:00
- XMP-xmpMM
- Просмотров: 149
- Рейтинг: голосов еще нет
- Отзывов: отключены