- Раздел: Другое, разное
- Дата съёмки: 27.01.2015 21:18
- Дата загрузки фото: 14.02.2015 08:31
- Оригинальная фотография: 6880 x 4540 (9,2 Мб)
- Технические характеристики:
- Фотоаппарат: Nikon D800
- Выдержка: 1,6
- Гиперфокальное расстояние: inf m
- Диафрагма: 11,0
- Светочувствительность: 200
- Фокусное расстояние: 50,0 mm (35 mm equivalent: 50,0 mm)
- Полный EXIF
- Adobe
- ColorTransform: YCbCr
- Composite
- Aperture: 11,0
- CircleOfConfusion: 0,030 mm
- FOV: 39,0 deg
- FocalLength35efl: 50,0 mm (35 mm equivalent: 50,0 mm)
- HyperfocalDistance: inf m
- LensID: AF Nikkor 50mm f/1.4D
- LightValue: 5,9
- ScaleFactor35efl: 1,0
- ShutterSpeed: 1,6
- ExifIFD
- ApertureValue: 11,0
- CFAPattern: [Red,Green][Green,Blue]
- Contrast: Normal
- CreateDate: 2015:01:27 21:18:37
- CustomRendered: Custom
- DateTimeOriginal: 2015:01:27 21:18:37
- DigitalZoomRatio: 1
- ExposureCompensation: 0
- ExposureMode: Manual
- ExposureProgram: Manual
- ExposureTime: 1,6
- FNumber: 11,0
- Flash: Off, Did not fire
- FocalLength: 50,0 mm
- FocalLengthIn35mmFormat: 50 mm
- GainControl: None
- ISO: 200
- LensInfo: 50mm f/1.4
- LensModel: 50.0 mm f/1.4
- LightSource: Unknown
- MaxApertureValue: 1,4
- MeteringMode: Multi-segment
- Saturation: Normal
- SceneCaptureType: Standard
- SceneType: Directly photographed
- SensingMethod: One-chip color area
- SensitivityType: Recommended Exposure Index
- SerialNumber: 8002139
- Sharpness: Normal
- ShutterSpeedValue: 1,6
- SubjectDistanceRange: Unknown
- UserComment: illya@xdevs.com (C) TSEMENKO ILYA
- WhiteBalance: Auto
- ICC-header
- ICC-meas
- ICC-view
- IFD0
- Artist: Tsemenko Illya xDevs.com
- Copyright: (C)TIN
- Make: NIKON CORPORATION
- Model: NIKON D800
- ModifyDate: 2015:01:27 23:18:51
- IFD1
- IPTC
- By-line: Tsemenko Illya xDevs.com
- CopyrightNotice: (C)TIN
- DateCreated: 2015:01:27
- System
- XMP-aux
- ApproximateFocusDistance: 1,33
- ImageNumber: 46397
- Lens: 50.0 mm f/1.4
- LensID: 67
- XMP-crs
- AlreadyApplied: True
- AutoLateralCA: 0
- AutoWhiteVersion: 134348800
- Blacks2012: 0
- BlueHue: 0
- BlueSaturation: 0
- Clarity2012: -7
- ColorNoiseReduction: 25
- ColorNoiseReductionDetail: 50
- ColorNoiseReductionSmoothness: 50
- ColorTemperature: 4250
- Contrast2012: +32
- ConvertToGrayscale: False
- CropAngle: -1.50864
- CropBottom: 0.95752
- CropConstrainToWarp: 0
- CropLeft: 0.045851
- CropRight: 0.996546
- CropTop: 0.070428
- DefringeGreenAmount: 0
- DefringeGreenHueHi: 60
- DefringeGreenHueLo: 40
- DefringePurpleAmount: 0
- DefringePurpleHueHi: 70
- DefringePurpleHueLo: 30
- Exposure2012: 0.00
- GrainAmount: 0
- GreenHue: 0
- GreenSaturation: 0
- HasCrop: True
- HasSettings: True
- Highlights2012: -36
- HueAdjustmentAqua: 0
- HueAdjustmentBlue: 0
- HueAdjustmentGreen: 0
- HueAdjustmentMagenta: 0
- HueAdjustmentOrange: 0
- HueAdjustmentPurple: 0
- HueAdjustmentRed: 0
- HueAdjustmentYellow: 0
- LensManualDistortionAmount: 0
- LensProfileEnable: 0
- LensProfileSetup: LensDefaults
- LuminanceAdjustmentAqua: 0
- LuminanceAdjustmentBlue: 0
- LuminanceAdjustmentGreen: 0
- LuminanceAdjustmentMagenta: 0
- LuminanceAdjustmentOrange: 0
- LuminanceAdjustmentPurple: 0
- LuminanceAdjustmentRed: 0
- LuminanceAdjustmentYellow: 0
- LuminanceSmoothing: 0
- ParametricDarks: 0
- ParametricHighlightSplit: 75
- ParametricHighlights: 0
- ParametricLights: 0
- ParametricMidtoneSplit: 50
- ParametricShadowSplit: 25
- ParametricShadows: 0
- PerspectiveAspect: 0
- PerspectiveHorizontal: 0
- PerspectiveRotate: 0.0
- PerspectiveScale: 100
- PerspectiveUpright: 0
- PerspectiveVertical: 0
- PostCropVignetteAmount: 0
- ProcessVersion: 6.7
- RedHue: 0
- RedSaturation: 0
- Saturation: 0
- SaturationAdjustmentAqua: 0
- SaturationAdjustmentBlue: 0
- SaturationAdjustmentGreen: 0
- SaturationAdjustmentMagenta: 0
- SaturationAdjustmentOrange: 0
- SaturationAdjustmentPurple: 0
- SaturationAdjustmentRed: 0
- SaturationAdjustmentYellow: 0
- ShadowTint: 0
- Shadows2012: +73
- SharpenDetail: 25
- SharpenEdgeMasking: 0
- SharpenRadius: +1.0
- Sharpness: 25
- SplitToningBalance: 0
- SplitToningHighlightHue: 0
- SplitToningHighlightSaturation: 0
- SplitToningShadowHue: 0
- SplitToningShadowSaturation: 0
- Tint: +65
- ToneCurveName2012: Linear
- ToneCurvePV2012: 0, 0, 255, 255
- ToneCurvePV2012Blue: 0, 0, 255, 255
- ToneCurvePV2012Green: 0, 0, 255, 255
- ToneCurvePV2012Red: 0, 0, 255, 255
- Version: 8.3
- Vibrance: 0
- VignetteAmount: 0
- WhiteBalance: Custom
- Whites2012: 0
- XMP-dc
- Creator: Tsemenko Illya xDevs.com
- Format: image/jpeg
- Rights: (C)TIN
- XMP-xmp
- CreateDate: 2015:01:27 21:18:37.10
- ModifyDate: 2015:01:27 23:18:51+08:00
- XMP-xmpMM