Уважаемые друзья и участники проекта iXBT.photo! К сожалению, 1 марта 2026 года проект iXBT.photo прекратит свою работу и будет закрыт. Мы высоко ценим ваше участие и тот вклад, который вы внесли в развитие нашего сообщества. Пожалуйста, не забудьте сохранить ваши фотографии до этой даты.
С уважением, команда iXBT.com
| 2014.10.31.14.08.10.jpg |
2014.10.31.14.08.10.jpg
- Раздел: Другое, разное
- Дата съёмки: 31.10.2014 14:08
- Дата загрузки фото: 24.02.2015 23:40
- Оригинальная фотография: 800 x 1200 (238 Кб)
- Технические характеристики:
- Фотоаппарат: Canon EOS REBEL T2i
- Выдержка: 1/250
- Гиперфокальное расстояние: inf m
- Диафрагма: 8,0
- Светочувствительность: 100
- Фокусное расстояние: 18,0 mm (35 mm equivalent: 108,0 mm)
- Экспокоррекция: -1
- Полный EXIF
- Adobe
- ColorTransform: YCbCr
- Composite
- Aperture: 8,0
- CircleOfConfusion: 0,004 mm
- FOV: 18,0 deg
- FocalLength35efl: 18,0 mm (35 mm equivalent: 108,0 mm)
- HyperfocalDistance: inf m
- LensID: Canon EF-S 18-200mm f/3.5-5.6 IS
- ScaleFactor35efl: 6,8
- ShutterSpeed: 1/250
- ExifIFD
- ApertureValue: 8,0
- ColorSpace: Uncalibrated
- CreateDate: 2014:10:31 14:08:10
- CustomRendered: Normal
- DateTimeOriginal: 2014:10:31 14:08:10
- ExifImageHeight: 1200
- ExifImageWidth: 800
- ExposureCompensation: -1
- ExposureMode: Auto
- ExposureProgram: Aperture-priority AE
- ExposureTime: 1/250
- FNumber: 8,0
- Flash: Off, Did not fire
- FocalLength: 18,0 mm
- ISO: 100
- LensInfo: 18-200mm f/?
- LensModel: EF-S18-200mm f/3.5-5.6 IS
- MaxApertureValue: 3,5
- MeteringMode: Multi-segment
- SceneCaptureType: Standard
- SerialNumber: 1222502897
- ShutterSpeedValue: 1/250
- WhiteBalance: Auto
- ICC-header
- IFD0
- BitsPerSample: 8 8 8
- ImageHeight: 5184
- ImageWidth: 3456
- Make: Canon
- Model: Canon EOS REBEL T2i
- ModifyDate: 2015:02:24 19:00:28
- Orientation: Horizontal (normal)
- PhotometricInterpretation: RGB
- SamplesPerPixel: 3
- IFD1
- IPTC
- DateCreated: 2014:10:31
- System
- XMP-aux
- ApproximateFocusDistance: 4294967295
- Firmware: 1.0.9
- FlashCompensation: 0
- ImageNumber: 0
- Lens: EF-S18-200mm f/3.5-5.6 IS
- LensID: 50
- XMP-crs
- AlreadyApplied: True
- AutoLateralCA: 0
- BlueHue: 0
- BlueSaturation: 0
- Brightness: +135
- Clarity: +91
- ColorNoiseReduction: 25
- ColorTemperature: 5300
- Contrast: +7
- ConvertToGrayscale: False
- DefringeGreenAmount: 0
- DefringeGreenHueHi: 60
- DefringeGreenHueLo: 40
- DefringePurpleAmount: 0
- DefringePurpleHueHi: 70
- DefringePurpleHueLo: 30
- Exposure: -1.35
- FillLight: 23
- GrainAmount: 0
- GreenHue: 0
- GreenSaturation: 0
- HasCrop: False
- HasSettings: True
- HighlightRecovery: 0
- HueAdjustmentAqua: 0
- HueAdjustmentBlue: 0
- HueAdjustmentGreen: 0
- HueAdjustmentMagenta: 0
- HueAdjustmentOrange: 0
- HueAdjustmentPurple: 0
- HueAdjustmentRed: 0
- HueAdjustmentYellow: 0
- LensManualDistortionAmount: 0
- LensProfileEnable: 0
- LensProfileSetup: LensDefaults
- LuminanceAdjustmentAqua: 0
- LuminanceAdjustmentBlue: 0
- LuminanceAdjustmentGreen: 0
- LuminanceAdjustmentMagenta: 0
- LuminanceAdjustmentOrange: 0
- LuminanceAdjustmentPurple: 0
- LuminanceAdjustmentRed: 0
- LuminanceAdjustmentYellow: 0
- LuminanceSmoothing: 0
- ParametricDarks: 0
- ParametricHighlightSplit: 75
- ParametricHighlights: 0
- ParametricLights: 0
- ParametricMidtoneSplit: 50
- ParametricShadowSplit: 25
- ParametricShadows: 0
- PerspectiveAspect: 0
- PerspectiveHorizontal: 0
- PerspectiveRotate: 0.0
- PerspectiveScale: 100
- PerspectiveUpright: 0
- PerspectiveVertical: 0
- PostCropVignetteAmount: 0
- ProcessVersion: 5.0
- RawFileName: 2014.10.31.14.08.10.CR2
- RedHue: 0
- RedSaturation: 0
- Saturation: 0
- SaturationAdjustmentAqua: 0
- SaturationAdjustmentBlue: 0
- SaturationAdjustmentGreen: 0
- SaturationAdjustmentMagenta: 0
- SaturationAdjustmentOrange: 0
- SaturationAdjustmentPurple: 0
- SaturationAdjustmentRed: 0
- SaturationAdjustmentYellow: 0
- ShadowTint: 0
- Shadows: 6
- SharpenDetail: 25
- SharpenEdgeMasking: 0
- SharpenRadius: +1.0
- Sharpness: 25
- SplitToningBalance: 0
- SplitToningHighlightHue: 0
- SplitToningHighlightSaturation: 0
- SplitToningShadowHue: 0
- SplitToningShadowSaturation: 0
- Tint: +13
- ToneCurve: 0, 0, 32, 22, 64, 56, 128, 128, 192, 196, 255, 255
- ToneCurveBlue: 0, 0, 255, 255
- ToneCurveGreen: 0, 0, 255, 255
- ToneCurveName: Medium Contrast
- ToneCurveRed: 0, 0, 255, 255
- Version: 8.1
- Vibrance: 0
- VignetteAmount: 0
- WhiteBalance: As Shot
- XMP-dc
- XMP-xmp
- ModifyDate: 2015:02:24 19:00:28+02:00
- XMP-xmpMM
- Просмотров: 147
- Рейтинг: голосов еще нет
- Отзывов: 0
Получить код для блога
| Вставка фотографии в текущем разрешении |
Вставка миниатюры |
HTML (для вставки в блог):
BBCode (для вставки в форум):
Ссылка на фото:
Ссылка на миниатюру:
- Послать ссылку другу
| Комментарии к фотографии |