- Раздел: Животные
- Дата съёмки: 15.04.2015 09:13
- Дата загрузки фото: 15.04.2015 17:46
- Оригинальная фотография: 3241 x 2161 (1,8 Мб)
- Технические характеристики:
- Фотоаппарат: Sony NEX-6 Canon FD 300/2.8L +1.4x F4
- Выдержка: 1/640
- Светочувствительность: 1250
- Полный EXIF
- Adobe
- ColorTransform: YCbCr
- Composite
- CircleOfConfusion: 0,013 mm
- ScaleFactor35efl: 2,3
- ShutterSpeed: 1/640
- ExifIFD
- BrightnessValue: 0,11875
- ColorSpace: sRGB
- Contrast: Normal
- CreateDate: 2015:04:15 09:13:53
- CustomRendered: Normal
- DateTimeOriginal: 2015:04:15 09:13:53
- DigitalZoomRatio: 1
- ExifImageHeight: 2161
- ExifImageWidth: 3241
- ExposureCompensation: 0
- ExposureMode: Auto
- ExposureProgram: Shutter speed priority AE
- ExposureTime: 1/640
- Flash: Off, Did not fire
- ISO: 1250
- LensModel: ----
- LightSource: Unknown
- MaxApertureValue: 1,0
- MeteringMode: Spot
- RecommendedExposureIndex: 1250
- Saturation: Normal
- SceneCaptureType: Standard
- SceneType: Directly photographed
- SensitivityType: Recommended Exposure Index
- Sharpness: Normal
- ShutterSpeedValue: 1/640
- WhiteBalance: Auto
- ICC-header
- ICC-meas
- ICC-view
- IFD0
- Make: SONY
- Model: NEX-6 Canon FD 300/2.8L +1.4x F4
- ModifyDate: 2015:04:15 14:02:23
- Orientation: Horizontal (normal)
- IFD1
- IPTC
- DateCreated: 2015:04:15
- System
- XMP-aux
- XMP-crs
- AlreadyApplied: True
- AutoLateralCA: 1
- Blacks2012: -24
- BlueHue: 0
- BlueSaturation: 0
- Clarity2012: 0
- ColorNoiseReduction: 20
- ColorNoiseReductionDetail: 50
- ColorTemperature: 5200
- Contrast2012: +27
- ConvertToGrayscale: False
- CropAngle: 0
- CropBottom: 0.825466
- CropConstrainToWarp: 1
- CropHeight: 3
- CropLeft: 0.179226
- CropRight: 0.839104
- CropTop: 0.163432
- CropUnit: Unknown (3)
- CropWidth: 2
- DefringeGreenAmount: 6
- DefringeGreenHueHi: 81
- DefringeGreenHueLo: 20
- DefringePurpleAmount: 6
- DefringePurpleHueHi: 66
- DefringePurpleHueLo: 22
- Exposure2012: +0.25
- GrainAmount: 0
- GreenHue: 0
- GreenSaturation: 0
- HasCrop: True
- HasSettings: True
- Highlights2012: -62
- HueAdjustmentAqua: 0
- HueAdjustmentBlue: 0
- HueAdjustmentGreen: 0
- HueAdjustmentMagenta: 0
- HueAdjustmentOrange: 0
- HueAdjustmentPurple: 0
- HueAdjustmentRed: 0
- HueAdjustmentYellow: 0
- LensManualDistortionAmount: 0
- LensProfileEnable: 0
- LensProfileSetup: LensDefaults
- LuminanceAdjustmentAqua: 0
- LuminanceAdjustmentBlue: 0
- LuminanceAdjustmentGreen: 0
- LuminanceAdjustmentMagenta: 0
- LuminanceAdjustmentOrange: 0
- LuminanceAdjustmentPurple: 0
- LuminanceAdjustmentRed: 0
- LuminanceAdjustmentYellow: 0
- LuminanceNoiseReductionContrast: 0
- LuminanceNoiseReductionDetail: 50
- LuminanceSmoothing: 20
- ParametricDarks: 0
- ParametricHighlightSplit: 75
- ParametricHighlights: 0
- ParametricLights: 0
- ParametricMidtoneSplit: 50
- ParametricShadowSplit: 25
- ParametricShadows: 0
- PerspectiveHorizontal: 0
- PerspectiveRotate: 0.0
- PerspectiveScale: 100
- PerspectiveVertical: 0
- PostCropVignetteAmount: 0
- ProcessVersion: 6.7
- RawFileName: DSC07219.ARW
- RedHue: 0
- RedSaturation: 0
- Saturation: +6
- SaturationAdjustmentAqua: 0
- SaturationAdjustmentBlue: 0
- SaturationAdjustmentGreen: 0
- SaturationAdjustmentMagenta: 0
- SaturationAdjustmentOrange: 0
- SaturationAdjustmentPurple: 0
- SaturationAdjustmentRed: 0
- SaturationAdjustmentYellow: 0
- ShadowTint: 0
- Shadows2012: +99
- SharpenDetail: 25
- SharpenEdgeMasking: 0
- SharpenRadius: +1.0
- Sharpness: 25
- SplitToningBalance: 0
- SplitToningHighlightHue: 0
- SplitToningHighlightSaturation: 0
- SplitToningShadowHue: 0
- SplitToningShadowSaturation: 0
- Tint: +8
- ToneCurveName2012: Linear
- ToneCurvePV2012: 0, 0, 255, 255
- ToneCurvePV2012Blue: 0, 0, 255, 255
- ToneCurvePV2012Green: 0, 0, 255, 255
- ToneCurvePV2012Red: 0, 0, 255, 255
- Version: 7.2
- Vibrance: 0
- VignetteAmount: 0
- WhiteBalance: As Shot
- Whites2012: -2
- XMP-dc
- XMP-xmp
- CreatorTool: NEX-6 v1.01
- ModifyDate: 2015:04:15 14:02:23Z
- Rating: 0
- XMP-xmpMM