- Раздел: Город
- Дата съёмки: 21.06.2015 00:55
- Дата загрузки фото: 21.06.2015 11:46
- Оригинальная фотография: 1600 x 1280 (585 Кб)
- Технические характеристики:
- Фотоаппарат: Canon EOS 7D
- Выдержка: 1/60
- Гиперфокальное расстояние: inf m
- Диафрагма: 3,5
- Светочувствительность: 1600
- Фокусное расстояние: 15,0 mm (35 mm equivalent: 60,0 mm)
- Полный EXIF
- Adobe
- ColorTransform: YCbCr
- Composite
- Aperture: 3,5
- CircleOfConfusion: 0,006 mm
- FOV: 33,0 deg
- FocalLength35efl: 15,0 mm (35 mm equivalent: 60,0 mm)
- HyperfocalDistance: inf m
- LensID: Canon EF-S 15-85mm f/3.5-5.6 IS USM
- ScaleFactor35efl: 4,8
- ShutterSpeed: 1/60
- ExifIFD
- ApertureValue: 3,5
- ColorSpace: sRGB
- CreateDate: 2015:06:21 00:55:24
- CustomRendered: Normal
- DateTimeOriginal: 2015:06:21 00:55:24
- ExifImageHeight: 1280
- ExifImageWidth: 1600
- ExposureCompensation: 0
- ExposureMode: Manual
- ExposureProgram: Manual
- ExposureTime: 1/60
- FNumber: 3,5
- Flash: Off, Did not fire
- FocalLength: 15,0 mm
- ISO: 1600
- LensInfo: 15-85mm f/?
- LensModel: EF-S15-85mm f/3.5-5.6 IS USM
- MaxApertureValue: 3,5
- MeteringMode: Center-weighted average
- RecommendedExposureIndex: 1600
- SceneCaptureType: Standard
- SensitivityType: Recommended Exposure Index
- SerialNumber: 3681504261
- ShutterSpeedValue: 1/60
- WhiteBalance: Auto
- ICC-header
- ICC-meas
- ICC-view
- IFD0
- Make: Canon
- Model: Canon EOS 7D
- ModifyDate: 2015:06:21 11:26:38
- Orientation: Horizontal (normal)
- IFD1
- IPTC
- DateCreated: 2015:06:21
- System
- XMP-aux
- ApproximateFocusDistance: 2,03
- Firmware: 2.0.3
- FlashCompensation: 0
- ImageNumber: 0
- Lens: EF-S15-85mm f/3.5-5.6 IS USM
- LensID: 488
- XMP-crs
- AlreadyApplied: True
- AutoLateralCA: 0
- AutoWhiteVersion: 134348800
- Blacks2012: 0
- BlueHue: 0
- BlueSaturation: 0
- Clarity2012: 0
- ColorNoiseReduction: 0
- ColorTemperature: 3450
- Contrast2012: 0
- ConvertToGrayscale: False
- CropAngle: -1.571311
- CropBottom: 0.966847
- CropConstrainToWarp: 1
- CropHeight: 5
- CropLeft: 0.126244
- CropRight: 0.949632
- CropTop: 0.033153
- CropUnit: Unknown (3)
- CropWidth: 4
- DefringeGreenAmount: 0
- DefringeGreenHueHi: 60
- DefringeGreenHueLo: 40
- DefringePurpleAmount: 0
- DefringePurpleHueHi: 70
- DefringePurpleHueLo: 30
- Exposure2012: 0.00
- GrainAmount: 0
- GreenHue: 0
- GreenSaturation: 0
- HasCrop: True
- HasSettings: True
- Highlights2012: 0
- HueAdjustmentAqua: 0
- HueAdjustmentBlue: 0
- HueAdjustmentGreen: 0
- HueAdjustmentMagenta: 0
- HueAdjustmentOrange: 0
- HueAdjustmentPurple: 0
- HueAdjustmentRed: 0
- HueAdjustmentYellow: 0
- LensManualDistortionAmount: 0
- LensProfileEnable: 0
- LensProfileSetup: LensDefaults
- LuminanceAdjustmentAqua: 0
- LuminanceAdjustmentBlue: 0
- LuminanceAdjustmentGreen: 0
- LuminanceAdjustmentMagenta: 0
- LuminanceAdjustmentOrange: 0
- LuminanceAdjustmentPurple: 0
- LuminanceAdjustmentRed: 0
- LuminanceAdjustmentYellow: 0
- LuminanceSmoothing: 0
- ParametricDarks: 0
- ParametricHighlightSplit: 75
- ParametricHighlights: 0
- ParametricLights: 0
- ParametricMidtoneSplit: 50
- ParametricShadowSplit: 25
- ParametricShadows: 0
- PerspectiveAspect: 0
- PerspectiveHorizontal: 0
- PerspectiveRotate: 0.0
- PerspectiveScale: 100
- PerspectiveUpright: 0
- PerspectiveVertical: 0
- PostCropVignetteAmount: 0
- ProcessVersion: 6.7
- RawFileName: IMG_2017.CR2
- RedHue: 0
- RedSaturation: 0
- Saturation: 0
- SaturationAdjustmentAqua: 0
- SaturationAdjustmentBlue: 0
- SaturationAdjustmentGreen: 0
- SaturationAdjustmentMagenta: 0
- SaturationAdjustmentOrange: 0
- SaturationAdjustmentPurple: 0
- SaturationAdjustmentRed: 0
- SaturationAdjustmentYellow: 0
- ShadowTint: 0
- Shadows2012: 0
- SharpenDetail: 0
- SharpenEdgeMasking: 0
- SharpenRadius: +0.5
- Sharpness: 0
- SplitToningBalance: 0
- SplitToningHighlightHue: 0
- SplitToningHighlightSaturation: 0
- SplitToningShadowHue: 0
- SplitToningShadowSaturation: 0
- Tint: 0
- ToneCurveName2012: Linear
- ToneCurvePV2012: 0, 0, 255, 255
- ToneCurvePV2012Blue: 0, 0, 255, 255
- ToneCurvePV2012Green: 0, 0, 255, 255
- ToneCurvePV2012Red: 0, 0, 255, 255
- Version: 8.2
- Vibrance: 0
- VignetteAmount: 0
- WhiteBalance: As Shot
- Whites2012: -2
- XMP-dc
- XMP-xmp
- ModifyDate: 2015:06:21 11:26:38+04:00
- Rating: 0
- XMP-xmpMM