| » Участники » vovka2011 » Июль 2015 » DSC_2614_DxO.jpg |
Уважаемые друзья и участники проекта iXBT.photo! К сожалению, 1 марта 2026 года проект iXBT.photo прекратит свою работу и будет закрыт. Мы высоко ценим ваше участие и тот вклад, который вы внесли в развитие нашего сообщества. Пожалуйста, не забудьте сохранить ваши фотографии до этой даты.
С уважением, команда iXBT.com
| DSC_2614_DxO.jpg |
DSC_2614_DxO.jpg
- Раздел: Пейзаж
- Дата съёмки: 26.07.2015 11:44
- Дата загрузки фото: 26.07.2015 17:07
- Оригинальная фотография: 2048 x 1373 (1,4 Мб)
- Технические характеристики:
- Фотоаппарат: Nikon D7100
- Выдержка: 1/60
- Гиперфокальное расстояние: inf m
- Диафрагма: 7,1
- Светочувствительность: 250
- Фокусное расстояние: 42,0 mm (35 mm equivalent: 42,0 mm)
- Полный EXIF
- Composite
- Aperture: 7,1
- CircleOfConfusion: 0,020 mm
- FOV: 46,0 deg
- FocalLength35efl: 42,0 mm (35 mm equivalent: 42,0 mm)
- HyperfocalDistance: inf m
- LensID: AF-S DX VR Zoom-Nikkor 18-105mm f/3.5-5.6G ED
- ScaleFactor35efl: 1,5
- ShutterSpeed: 1/60
- ExifIFD
- ApertureValue: 7,1
- CFAPattern: [Red,Green][Green,Blue]
- ColorSpace: sRGB
- Contrast: Normal
- CreateDate: 2015:07:26 11:44:13
- CustomRendered: Normal
- DateTimeOriginal: 2015:07:26 11:44:13
- DigitalZoomRatio: 1
- ExifImageHeight: 1373
- ExifImageWidth: 2048
- ExposureCompensation: 0
- ExposureMode: Auto
- ExposureProgram: Aperture-priority AE
- ExposureTime: 1/60
- FNumber: 7,1
- Flash: Off, Did not fire
- FocalLength: 42,0 mm
- FocalLengthIn35mmFormat: 63 mm
- GainControl: None
- ISO: 250
- LensInfo: 18-105mm f/3.5-5.6
- LensModel: 18.0-105.0 mm f/3.5-5.6
- LightSource: Unknown
- MaxApertureValue: 4,8
- MeteringMode: Multi-segment
- Saturation: Normal
- SceneCaptureType: Standard
- SceneType: Directly photographed
- SensingMethod: One-chip color area
- SensitivityType: Recommended Exposure Index
- SerialNumber: 4388785
- Sharpness: Hard
- ShutterSpeedValue: 1/60
- SubjectDistanceRange: Unknown
- WhiteBalance: Auto
- IFD0
- Copyright: Belov VA
- FillOrder: Normal
- Make: NIKON CORPORATION
- Model: NIKON D7100
- ModifyDate: 2015:07:26 16:04:16
- Orientation: Horizontal (normal)
- PageNumber: 0 1
- PrimaryChromaticities: 0, 6399999858 0, 3300000132 0, 300000012 0, 600000024 0, 150000006 0, 05999999867
- Software: DxO OpticsPro 10.4
- WhitePoint: 0,3127000035 0,3289999963
- IFD1
- IPTC
- CopyrightNotice: Belov VA
- DateCreated: 2015:07:26
- System
- XMP-aux
- ApproximateFocusDistance: 2147483647
- ImageNumber: 2807
- Lens: 18.0-105.0 mm f/3.5-5.6
- LensID: 158
- XMP-crs
- AlreadyApplied: True
- BlueHue: 0
- BlueSaturation: 0
- ColorNoiseReduction: 0
- ColorTemperature: 4950
- ConvertToGrayscale: False
- GrainAmount: 0
- GreenHue: 0
- GreenSaturation: 0
- HasCrop: False
- HasSettings: True
- HueAdjustmentAqua: 0
- HueAdjustmentBlue: 0
- HueAdjustmentGreen: 0
- HueAdjustmentMagenta: 0
- HueAdjustmentOrange: 0
- HueAdjustmentPurple: 0
- HueAdjustmentRed: 0
- HueAdjustmentYellow: 0
- LensManualDistortionAmount: 0
- LensProfileChromaticAberrationScale: 100
- LensProfileDistortionScale: 100
- LensProfileEnable: 1
- LensProfileFilename: NIKON D90 (Nikon AF-S DX NIKKOR 18-105mm f3.5-5.6G ED VR) - RAW.lcp
- LensProfileSetup: LensDefaults
- LensProfileVignettingScale: 100
- LuminanceAdjustmentAqua: 0
- LuminanceAdjustmentBlue: 0
- LuminanceAdjustmentGreen: 0
- LuminanceAdjustmentMagenta: 0
- LuminanceAdjustmentOrange: 0
- LuminanceAdjustmentPurple: 0
- LuminanceAdjustmentRed: 0
- LuminanceAdjustmentYellow: 0
- LuminanceSmoothing: 0
- ParametricDarks: 0
- ParametricHighlightSplit: 75
- ParametricHighlights: 0
- ParametricLights: 0
- ParametricMidtoneSplit: 50
- ParametricShadowSplit: 25
- ParametricShadows: 0
- PerspectiveHorizontal: 0
- PerspectiveRotate: 0.0
- PerspectiveScale: 100
- PerspectiveVertical: 0
- PostCropVignetteAmount: 0
- ProcessVersion: 6.7
- RedHue: 0
- RedSaturation: 0
- SaturationAdjustmentAqua: 0
- SaturationAdjustmentBlue: 0
- SaturationAdjustmentGreen: 0
- SaturationAdjustmentMagenta: 0
- SaturationAdjustmentOrange: 0
- SaturationAdjustmentPurple: 0
- SaturationAdjustmentRed: 0
- SaturationAdjustmentYellow: 0
- ShadowTint: 0
- SharpenDetail: 50
- SharpenEdgeMasking: 0
- SharpenRadius: +1.0
- SplitToningBalance: 0
- SplitToningHighlightHue: 0
- SplitToningHighlightSaturation: 0
- SplitToningShadowHue: 0
- SplitToningShadowSaturation: 0
- Tint: +16
- ToneCurve: 0, 0, 255, 255
- ToneCurveName: Linear
- Version: 8.7.1
- Vibrance: +25
- VignetteAmount: 0
- XMP-dc
- Format: image/tiff
- Rights: Belov VA
- XMP-exif
- Sharpness: Normal
- XMP-x
- XMP-xmp
- CreateDate: 2015:07:26 11:44:13.00
- ModifyDate: 2015:07:26 16:04:16+03:00
- XMP-xmpMM
- Просмотров: 119
- Рейтинг: голосов еще нет
- Отзывов: 0
Получить код для блога
| Вставка фотографии в текущем разрешении |
Вставка миниатюры |
HTML (для вставки в блог):
BBCode (для вставки в форум):
Ссылка на фото:
Ссылка на миниатюру:
- Послать ссылку другу
| Комментарии к фотографии |