- Раздел: Портрет
- Дата съёмки: 08.08.2015 14:54
- Дата загрузки фото: 13.08.2015 00:20
- Оригинальная фотография: 4992 x 2808 (8,0 Мб)
- Технические характеристики:
- Фотоаппарат: Canon EOS-1Ds Mark II
- Выдержка: 1/5000
- Гиперфокальное расстояние: inf m
- Диафрагма: 1,2
- Светочувствительность: 100
- Фокусное расстояние: 50,0 mm (35 mm equivalent: 50,0 mm)
- Полный EXIF
- Adobe
- ColorTransform: YCbCr
- Composite
- Aperture: 1,2
- CircleOfConfusion: 0,029 mm
- FOV: 39,0 deg
- FocalLength35efl: 50,0 mm (35 mm equivalent: 50,0 mm)
- HyperfocalDistance: inf m
- LensID: Canon 50.0 mm
- ScaleFactor35efl: 1,0
- ShutterSpeed: 1/5000
- ExifIFD
- ApertureValue: 1,2
- ColorSpace: sRGB
- CreateDate: 2015:08:08 14:54:39
- CustomRendered: Normal
- DateTimeOriginal: 2015:08:08 14:54:39
- ExposureCompensation: 0
- ExposureMode: Auto
- ExposureProgram: Aperture-priority AE
- ExposureTime: 1/5000
- FNumber: 1,2
- Flash: Off, Did not fire
- FocalLength: 50,0 mm
- ISO: 100
- LensInfo: 50mm f/?
- LensModel: 50.0 mm
- MaxApertureValue: 1,2
- MeteringMode: Multi-segment
- SceneCaptureType: Standard
- SerialNumber: 310476
- ShutterSpeedValue: 1/5000
- WhiteBalance: Auto
- ICC-header
- ICC-meas
- ICC-view
- IFD0
- Make: Canon
- Model: Canon EOS-1Ds Mark II
- ModifyDate: 2015:08:12 22:42:29
- IFD1
- IPTC
- DateCreated: 2015:08:08
- System
- XMP-aux
- Firmware: 1.1.6
- FlashCompensation: 0
- ImageNumber: 22641
- Lens: 50.0 mm
- LensID: 497
- XMP-crs
- AlreadyApplied: True
- AutoLateralCA: 0
- AutoWhiteVersion: 134348800
- Blacks2012: -9
- BlueHue: 0
- BlueSaturation: 0
- CameraProfile: Camera Neutral
- Clarity2012: -55
- ColorNoiseReduction: 25
- ColorNoiseReductionDetail: 50
- ColorNoiseReductionSmoothness: 50
- ColorTemperature: 4650
- Contrast2012: 0
- ConvertToGrayscale: True
- CropAngle: 0
- CropBottom: 1
- CropConstrainToWarp: 0
- CropLeft: 0
- CropRight: 1
- CropTop: 0.15625
- Exposure2012: 0.00
- GrainAmount: 0
- GrayMixerAqua: -16
- GrayMixerBlue: +16
- GrayMixerGreen: -27
- GrayMixerMagenta: +6
- GrayMixerOrange: -19
- GrayMixerPurple: +20
- GrayMixerRed: -9
- GrayMixerYellow: -23
- GreenHue: 0
- GreenSaturation: 0
- HasCrop: True
- HasSettings: True
- Highlights2012: 0
- LensManualDistortionAmount: 0
- LensProfileEnable: 0
- LensProfileSetup: LensDefaults
- LuminanceSmoothing: 0
- ParametricDarks: 0
- ParametricHighlightSplit: 75
- ParametricHighlights: 0
- ParametricLights: 0
- ParametricMidtoneSplit: 50
- ParametricShadowSplit: 25
- ParametricShadows: 0
- PerspectiveAspect: 0
- PerspectiveHorizontal: 0
- PerspectiveRotate: 0.0
- PerspectiveScale: 100
- PerspectiveUpright: 0
- PerspectiveVertical: 0
- PostCropVignetteAmount: -34
- PostCropVignetteFeather: 90
- PostCropVignetteHighlightContrast: 0
- PostCropVignetteMidpoint: 14
- PostCropVignetteRoundness: +41
- PostCropVignetteStyle: 1
- ProcessVersion: 6.7
- RedHue: 0
- RedSaturation: 0
- ShadowTint: 0
- Shadows2012: +100
- SharpenDetail: 25
- SharpenEdgeMasking: 0
- SharpenRadius: +1.0
- Sharpness: 25
- SplitToningBalance: 0
- SplitToningHighlightHue: 61
- SplitToningHighlightSaturation: 28
- SplitToningShadowHue: 331
- SplitToningShadowSaturation: 18
- Tint: +2
- ToneCurve: 0, 0, 255, 255
- ToneCurveBlue: 0, 0, 255, 255
- ToneCurveGreen: 0, 0, 255, 255
- ToneCurveName: Linear
- ToneCurveName2012: Custom
- ToneCurvePV2012: 0, 0, 62, 107, 103, 148, 170, 199, 255, 255
- ToneCurvePV2012Blue: 0, 0, 255, 255
- ToneCurvePV2012Green: 0, 0, 255, 255
- ToneCurvePV2012Red: 0, 0, 255, 255
- ToneCurveRed: 0, 0, 255, 255
- Version: 8.7
- VignetteAmount: 0
- WhiteBalance: As Shot
- Whites2012: +66
- XMP-dc
- XMP-xmp
- ModifyDate: 2015:08:12 22:42:29+03:00
- XMP-xmpMM
- Просмотров: 909
- Рейтинг: голосов еще нет
- Отзывов: 0