Уважаемые друзья и участники проекта iXBT.photo! К сожалению, 1 марта 2026 года проект iXBT.photo прекратит свою работу и будет закрыт. Мы высоко ценим ваше участие и тот вклад, который вы внесли в развитие нашего сообщества. Пожалуйста, не забудьте сохранить ваши фотографии до этой даты.
С уважением, команда iXBT.com
| P7250008.JPG |
P7250008.JPG
- Раздел: Тесты фототехники
- Дата съёмки: 25.07.2015 15:30
- Дата загрузки фото: 14.08.2015 12:00
- Оригинальная фотография: 4608 x 3456 (8,9 Мб)
- Технические характеристики:
- Фотоаппарат: Olympus E-M10
- Выдержка: 1/400
- Гиперфокальное расстояние: inf m
- Диафрагма: 2,0
- Светочувствительность: 200
- Фокусное расстояние: 25,0 mm (35 mm equivalent: 50,0 mm)
- Полный EXIF
- Composite
- Aperture: 2,0
- BlueBalance: 2,078125
- CircleOfConfusion: 0,015 mm
- DOF: inf (0,00 m - inf)
- ExtenderStatus: Not attached
- FOV: 39,0 deg
- FocalLength35efl: 25,0 mm (35 mm equivalent: 50,0 mm)
- HyperfocalDistance: inf m
- LensID: OLYMPUS M.25mm F1.8
- RedBalance: 1,828125
- ScaleFactor35efl: 2,0
- ShutterSpeed: 1/400
- ExifIFD
- ApertureValue: 2,0
- ColorSpace: sRGB
- Contrast: Normal
- CreateDate: 2015:07:25 15:30:12
- CustomRendered: Normal
- DateTimeOriginal: 2015:07:25 15:30:12
- DigitalZoomRatio: 1
- ExifImageHeight: 3456
- ExifImageWidth: 4608
- ExposureCompensation: 0
- ExposureMode: Auto
- ExposureProgram: Aperture-priority AE
- ExposureTime: 1/400
- FNumber: 2,0
- Flash: On, Did not fire
- FocalLength: 25,0 mm
- FocalLengthIn35mmFormat: 50 mm
- GainControl: Low gain up
- ISO: 200
- LensInfo: 25mm f/1.8
- LensModel: OLYMPUS M.25mm F1.8
- LightSource: Unknown
- MaxApertureValue: 1,8
- MeteringMode: Center-weighted average
- Saturation: Normal
- SceneCaptureType: Standard
- SensitivityType: Standard Output Sensitivity
- SerialNumber: V5PF16043
- Sharpness: Normal
- ShutterSpeedValue: 1/400
- WhiteBalance: Auto
- GPS
- IFD0
- ImageDescription: OLYMPUS DIGITAL CAMERA
- Make: OLYMPUS IMAGING CORP.
- Model: E-M10
- ModifyDate: 2015:07:25 15:30:12
- Orientation: Horizontal (normal)
- Software: Version 1.2
- IFD1
- IPTC
- Caption-Abstract: OLYMPUS DIGITAL CAMERA
- DateCreated: 2015:07:25
- Olympus
- AELock: Off
- AFAreas: (115,117)-(138,137)
- AFFineTune: Off
- AFFineTuneAdj: 0 0 0
- AFPoint: Left (or n/a)
- AFPointSelected: (0%,0%) (0%,0%)
- AFSearch: Ready
- ArtFilter: Off; 0; 0; 0
- ArtFilterEffect: Off; 0; 0; 0; No Effect; 0; 0; 0; 0; 0; 0; 0; 0; 0; 0; 0; 0; 0; 0; 0
- AspectFrame: 0 0 4607 3455
- AspectRatio: 4:3
- BlackLevel2: 254 254 254 254
- BodyFirmwareVersion: 1.201
- CameraID: OLYMPUS DIGITAL CAMERA
- CameraSettingsVersion: 0100
- CameraType2: Unknown (S0051)
- ColorMatrix: 416 -140 -20 -60 360 -44 18 -116 354
- ContrastSetting: 0 (min -5, max 5)
- CropHeight: 3456
- CropLeft: 8 0
- CropTop: 8 0
- CropWidth: 4608
- CustomSaturation: 0 (min -5, max 5)
- DistortionCorrection: Off
- DistortionCorrection2: Off
- DriveMode: Single Shot
- EquipmentVersion: 0100
- ExposureMode: Aperture-priority AE
- ExposureShift: 0
- ExtendedWBDetect: Off
- Extender: None
- ExtenderFirmwareVersion: 0
- ExtenderModel:
- ExtenderSerialNumber:
- ExternalFlash: Off
- ExternalFlashBounce: Bounce or Off
- ExternalFlashZoom: 0
- FaceDetectFrameCrop: 0 0 640 480 0 0 640 480 0 0 0 0
- FaceDetectFrameSize: 640 480 640 480 0 0
- FacesDetected: 0 0 0
- FlashControlMode: Off; 0; 0; 0
- FlashExposureComp: 0
- FlashFirmwareVersion: 0
- FlashIntensity: undef undef undef undef
- FlashMode: Fill-in
- FlashModel: None
- FlashRemoteControl: Off
- FlashSerialNumber:
- FlashType: None
- FocusDistance: 0,28 m
- FocusInfoVersion: 0100
- FocusMode: Single AF; S-AF, Imager AF
- FocusProcess: AF Used; 64
- FocusStepCount: 872
- FocusStepInfinity: 0
- FocusStepNear: 0
- GainBase: 256
- Gradation: Normal; Auto-Override
- ImageProcessingVersion: 0112
- ImageStabilization: On, Mode 1
- InternalFlash: Off
- InternalSerialNumber: 4158312007341001
- LensFirmwareVersion: 1.000
- LensProperties: 0x4100
- LensSerialNumber: 345006516
- LensType: Unknown (0 34 16)
- MacroLED: Off
- MacroMode: Off
- ManometerPressure: 0 kPa
- ManometerReading: 0 m, 0 ft
- ManualFlash: Off
- ManualFlashStrength: undef undef undef undef
- MaxAperture: 1,8
- MaxApertureAtMaxFocal: 1,8
- MaxApertureAtMinFocal: 1,8
- MaxFaces: 8 8 0
- MaxFocalLength: 25
- MinFocalLength: 25
- ModifiedSaturation: Off
- MultipleExposureMode: Off; 1
- NoiseFilter: Off
- NoiseReduction: Auto
- NoiseReduction2: (none)
- PanoramaMode: Off
- PictureMode: Natural; 2
- PictureModeBWFilter: n/a
- PictureModeContrast: 0 (min -2, max 2)
- PictureModeEffect: Standard
- PictureModeSaturation: 0 (min -2, max 2)
- PictureModeSharpness: 0 (min -2, max 2)
- PictureModeTone: n/a
- RawDevColorSpace: sRGB
- RawDevContrastValue: 0 0 0
- RawDevEditStatus: Original
- RawDevEngine: High Speed
- RawDevExposureBiasValue: 0
- RawDevGrayPoint: 0 0 0
- RawDevMemoryColorEmphasis: 0
- RawDevNoiseReduction: (none)
- RawDevSaturationEmphasis: 0 0 0
- RawDevSettings: (none)
- RawDevSharpnessValue: 0 0 0
- RawDevVersion: 0100
- RawDevWBFineAdjustment: 0
- RawDevWhiteBalanceValue: 0
- SceneDetect: 0
- SceneMode: Standard
- SensorTemperature: 37 37 0
- ShadingCompensation: On
- ShadingCompensation2: On
- SharpnessSetting: 0 (min -5, max 5)
- SpecialMode: Normal, Sequence: 0, Panorama: (none)
- WB_RBLevels: 468 532 256 256
- WhiteBalance2: Unknown (1)
- WhiteBalanceBracket: 0 0
- WhiteBalanceTemperature: Auto
- ZoomStepCount: 0
- PrintIM
- System
- XMP-aux
- ApproximateFocusDistance: 0,28
- FlashCompensation: 0
- Lens: OLYMPUS M.25mm F1.8
- XMP-crs
- AlreadyApplied: False
- AutoLateralCA: 0
- AutoWhiteVersion: 134348800
- Blacks2012: +5
- BlueHue: 0
- BlueSaturation: 0
- CameraProfile: Embedded
- Clarity2012: +25
- ColorNoiseReduction: 0
- Contrast2012: +20
- ConvertToGrayscale: False
- DefringeGreenAmount: 0
- DefringeGreenHueHi: 60
- DefringeGreenHueLo: 40
- DefringePurpleAmount: 0
- DefringePurpleHueHi: 70
- DefringePurpleHueLo: 30
- Dehaze: +10
- Exposure2012: 0.00
- GrainAmount: 0
- GreenHue: 0
- GreenSaturation: 0
- HasCrop: False
- HasSettings: True
- Highlights2012: -100
- HueAdjustmentAqua: 0
- HueAdjustmentBlue: 0
- HueAdjustmentGreen: 0
- HueAdjustmentMagenta: 0
- HueAdjustmentOrange: 0
- HueAdjustmentPurple: 0
- HueAdjustmentRed: 0
- HueAdjustmentYellow: 0
- IncrementalTemperature: 0
- IncrementalTint: +15
- LensManualDistortionAmount: 0
- LensProfileEnable: 0
- LensProfileSetup: LensDefaults
- LuminanceAdjustmentAqua: -45
- LuminanceAdjustmentBlue: -18
- LuminanceAdjustmentGreen: -48
- LuminanceAdjustmentMagenta: +23
- LuminanceAdjustmentOrange: +18
- LuminanceAdjustmentPurple: +18
- LuminanceAdjustmentRed: +23
- LuminanceAdjustmentYellow: 0
- LuminanceSmoothing: 0
- ParametricDarks: 0
- ParametricHighlightSplit: 75
- ParametricHighlights: 0
- ParametricLights: 0
- ParametricMidtoneSplit: 50
- ParametricShadowSplit: 25
- ParametricShadows: 0
- PerspectiveAspect: 0
- PerspectiveHorizontal: 0
- PerspectiveRotate: 0.0
- PerspectiveScale: 100
- PerspectiveUpright: 0
- PerspectiveVertical: 0
- PostCropVignetteAmount: 0
- ProcessVersion: 6.7
- RawFileName: P7250008.JPG
- RedHue: 0
- RedSaturation: 0
- Saturation: -5
- SaturationAdjustmentAqua: 0
- SaturationAdjustmentBlue: 0
- SaturationAdjustmentGreen: 0
- SaturationAdjustmentMagenta: 0
- SaturationAdjustmentOrange: 0
- SaturationAdjustmentPurple: 0
- SaturationAdjustmentRed: 0
- SaturationAdjustmentYellow: 0
- ShadowTint: 0
- Shadows2012: +25
- SharpenDetail: 25
- SharpenEdgeMasking: 0
- SharpenRadius: +1.0
- Sharpness: 25
- SplitToningBalance: 0
- SplitToningHighlightHue: 113
- SplitToningHighlightSaturation: 0
- SplitToningShadowHue: 126
- SplitToningShadowSaturation: 8
- ToneCurve: 0, 0, 255, 255
- ToneCurveBlue: 0, 0, 255, 255
- ToneCurveGreen: 0, 0, 255, 255
- ToneCurveName: Linear
- ToneCurveName2012: Linear
- ToneCurvePV2012: 0, 0, 255, 255
- ToneCurvePV2012Blue: 0, 0, 255, 255
- ToneCurvePV2012Green: 0, 0, 255, 255
- ToneCurvePV2012Red: 0, 0, 255, 255
- ToneCurveRed: 0, 0, 255, 255
- ToneMapStrength: 0
- Version: 9.1
- Vibrance: +15
- VignetteAmount: -53
- VignetteMidpoint: 50
- WhiteBalance: Custom
- Whites2012: 0
- XMP-dc
- Description: OLYMPUS DIGITAL CAMERA
- Format: image/jpeg
- XMP-xmp
- CreatorTool: Version 1.2
- Rating: 0
- XMP-xmpMM
- Просмотров: 158
- Рейтинг: голосов еще нет
- Отзывов: 0
Получить код для блога
| Вставка фотографии в текущем разрешении |
Вставка миниатюры |
HTML (для вставки в блог):
BBCode (для вставки в форум):
Ссылка на фото:
Ссылка на миниатюру:
- Послать ссылку другу
| Комментарии к фотографии |