- Раздел: Другое, разное
- Дата съёмки: 01.08.2015 12:50
- Дата загрузки фото: 18.08.2015 09:12
- Оригинальная фотография: 1200 x 800 (1,1 Мб)
- Технические характеристики:
- Фотоаппарат: Canon EOS 5D Mark II
- Выдержка: 1/30
- Гиперфокальное расстояние: inf m
- Диафрагма: 4,0
- Светочувствительность: 800
- Фокусное расстояние: 40,0 mm (35 mm equivalent: 120,0 mm)
- Экспокоррекция: +1/3
- Полный EXIF
- Adobe
- ColorTransform: YCbCr
- Composite
- Aperture: 4,0
- CircleOfConfusion: 0,010 mm
- FOV: 17,0 deg
- FocalLength35efl: 40,0 mm (35 mm equivalent: 120,0 mm)
- HyperfocalDistance: inf m
- LensID: Canon EF 17-40mm f/4L
- ScaleFactor35efl: 3,1
- ShutterSpeed: 1/30
- ExifIFD
- ApertureValue: 4,0
- CreateDate: 2015:08:01 12:50:13
- CustomRendered: Normal
- DateTimeOriginal: 2015:08:01 12:50:13
- ExposureCompensation: +1/3
- ExposureMode: Auto
- ExposureProgram: Aperture-priority AE
- ExposureTime: 1/30
- FNumber: 4,0
- Flash: Off, Did not fire
- FocalLength: 40,0 mm
- ISO: 800
- LensInfo: 17-40mm f/?
- LensModel: EF17-40mm f/4L USM
- MaxApertureValue: 4,0
- MeteringMode: Multi-segment
- OwnerName: Fiodar Sabodash-Radzko
- SceneCaptureType: Standard
- SerialNumber: 2831509911
- ShutterSpeedValue: 1/30
- WhiteBalance: Auto
- ICC-header
- ICC-meas
- ICC-view
- IFD0
- Artist: Fiodar Sabodash-Radzko
- Copyright: Fiodar Sabodash-Radzko
- Make: Canon
- Model: Canon EOS 5D Mark II
- ModifyDate: 2015:08:18 09:11:37
- IFD1
- IPTC
- By-line: Fiodar Sabodash-Radzko
- CopyrightNotice: Fiodar Sabodash-Radzko
- DateCreated: 2015:08:01
- System
- XMP-aux
- ApproximateFocusDistance: 4294967295
- Firmware: 2.1.2
- FlashCompensation: 0
- ImageNumber: 0
- Lens: EF17-40mm f/4L USM
- LensID: 231
- XMP-crs
- AlreadyApplied: True
- AutoLateralCA: 0
- Blacks2012: -15
- BlueHue: 0
- BlueSaturation: 0
- Clarity2012: +15
- ColorNoiseReduction: 25
- ColorNoiseReductionDetail: 50
- ColorTemperature: 4050
- Contrast2012: +25
- ConvertToGrayscale: False
- DefringeGreenAmount: 0
- DefringeGreenHueHi: 60
- DefringeGreenHueLo: 40
- DefringePurpleAmount: 0
- DefringePurpleHueHi: 70
- DefringePurpleHueLo: 30
- Exposure2012: -1.00
- GrainAmount: 0
- GreenHue: 0
- GreenSaturation: 0
- HasCrop: False
- HasSettings: True
- Highlights2012: -100
- HueAdjustmentAqua: 0
- HueAdjustmentBlue: 0
- HueAdjustmentGreen: 0
- HueAdjustmentMagenta: 0
- HueAdjustmentOrange: 0
- HueAdjustmentPurple: 0
- HueAdjustmentRed: 0
- HueAdjustmentYellow: 0
- LensManualDistortionAmount: 0
- LensProfileChromaticAberrationScale: 100
- LensProfileDistortionScale: 100
- LensProfileEnable: 1
- LensProfileFilename: Canon EOS-1Ds Mark III (Canon EF 17-40mm f4 L USM) - RAW.lcp
- LensProfileSetup: Custom
- LensProfileVignettingScale: 100
- LuminanceAdjustmentAqua: 0
- LuminanceAdjustmentBlue: 0
- LuminanceAdjustmentGreen: 0
- LuminanceAdjustmentMagenta: 0
- LuminanceAdjustmentOrange: 0
- LuminanceAdjustmentPurple: 0
- LuminanceAdjustmentRed: 0
- LuminanceAdjustmentYellow: 0
- LuminanceSmoothing: 0
- ParametricDarks: 0
- ParametricHighlightSplit: 75
- ParametricHighlights: 0
- ParametricLights: 0
- ParametricMidtoneSplit: 50
- ParametricShadowSplit: 25
- ParametricShadows: 0
- PerspectiveAspect: 0
- PerspectiveHorizontal: 0
- PerspectiveRotate: 0.0
- PerspectiveScale: 100
- PerspectiveUpright: 0
- PerspectiveVertical: 0
- PostCropVignetteAmount: 0
- ProcessVersion: 6.7
- RedHue: 0
- RedSaturation: 0
- Saturation: +5
- SaturationAdjustmentAqua: 0
- SaturationAdjustmentBlue: 0
- SaturationAdjustmentGreen: 0
- SaturationAdjustmentMagenta: 0
- SaturationAdjustmentOrange: 0
- SaturationAdjustmentPurple: 0
- SaturationAdjustmentRed: 0
- SaturationAdjustmentYellow: 0
- ShadowTint: 0
- Shadows2012: +60
- SharpenDetail: 25
- SharpenEdgeMasking: 0
- SharpenRadius: +1.5
- Sharpness: 70
- SplitToningBalance: 0
- SplitToningHighlightHue: 0
- SplitToningHighlightSaturation: 0
- SplitToningShadowHue: 0
- SplitToningShadowSaturation: 0
- Tint: +26
- ToneCurveName2012: Linear
- ToneCurvePV2012: 0, 0, 255, 255
- ToneCurvePV2012Blue: 0, 0, 255, 255
- ToneCurvePV2012Green: 0, 0, 255, 255
- ToneCurvePV2012Red: 0, 0, 255, 255
- Version: 8.1
- Vibrance: +15
- VignetteAmount: 0
- WhiteBalance: As Shot
- Whites2012: +32
- XMP-dc
- Creator: Fiodar Sabodash-Radzko
- Format: image/jpeg
- Rights: Fiodar Sabodash-Radzko
- XMP-xmp
- CreateDate: 2015:08:01 12:50:13.72
- ModifyDate: 2015:08:18 09:11:37+03:00
- Rating: 5
- XMP-xmpMM
- Просмотров: 156
- Рейтинг: голосов еще нет
- Отзывов: отключены