- Раздел: Другое, разное
- Дата съёмки: 01.05.2015 18:46
- Дата загрузки фото: 04.09.2015 19:51
- Оригинальная фотография: 1280 x 1280 (1,5 Мб)
- Технические характеристики:
- Фотоаппарат: Olympus E-PM1
- Выдержка: 1/800
- Светочувствительность: 200
- Полный EXIF
- Adobe
- ColorTransform: YCbCr
- Composite
- CircleOfConfusion: 0,005 mm
- ScaleFactor35efl: 5,6
- ShutterSpeed: 1/800
- ExifIFD
- CFAPattern: [Red,Green][Green,Blue]
- ColorSpace: sRGB
- Contrast: Normal
- CreateDate: 2015:05:01 18:46:12
- CustomRendered: Normal
- DateTimeOriginal: 2015:05:01 18:46:12
- DigitalZoomRatio: 1
- ExposureCompensation: 0
- ExposureMode: Auto
- ExposureProgram: Aperture-priority AE
- ExposureTime: 1/800
- Flash: On, Did not fire
- GainControl: None
- ISO: 200
- LightSource: Unknown
- MaxApertureValue: 1,0
- MeteringMode: Center-weighted average
- Saturation: Normal
- SceneCaptureType: Standard
- SerialNumber: BB9522680
- Sharpness: Normal
- ShutterSpeedValue: 1/800
- WhiteBalance: Auto
- ICC-header
- ICC-meas
- ICC-view
- IFD0
- ImageDescription: OLYMPUS DIGITAL CAMERA
- Make: OLYMPUS IMAGING CORP.
- Model: E-PM1
- ModifyDate: 2015:05:01 18:54:13
- IFD1
- IPTC
- Caption-Abstract: OLYMPUS DIGITAL CAMERA
- DateCreated: 2015:05:01
- System
- XMP-aux
- FlashCompensation: 0
- XMP-crs
- AlreadyApplied: True
- AutoLateralCA: 0
- AutoWhiteVersion: 134348800
- Blacks2012: +15
- BlueHue: -5
- BlueSaturation: +25
- CameraProfile: Kodak Gold 100 - O
- Clarity2012: 0
- ColorNoiseReduction: 25
- ColorNoiseReductionDetail: 50
- ColorNoiseReductionSmoothness: 50
- ColorTemperature: 6150
- Contrast2012: 0
- ConvertToGrayscale: False
- CropAngle: 1.02443
- CropBottom: 0.75402
- CropConstrainToWarp: 0
- CropLeft: 0.267918
- CropRight: 0.680058
- CropTop: 0.18449
- DefringeGreenAmount: 0
- DefringeGreenHueHi: 60
- DefringeGreenHueLo: 40
- DefringePurpleAmount: 0
- DefringePurpleHueHi: 70
- DefringePurpleHueLo: 30
- Exposure2012: +0.46
- GrainAmount: 15
- GrainFrequency: 45
- GrainSize: 40
- GreenHue: +35
- GreenSaturation: 0
- HasCrop: True
- HasSettings: True
- Highlights2012: -50
- HueAdjustmentAqua: +10
- HueAdjustmentBlue: -5
- HueAdjustmentGreen: +10
- HueAdjustmentMagenta: +20
- HueAdjustmentOrange: 0
- HueAdjustmentPurple: +20
- HueAdjustmentRed: 0
- HueAdjustmentYellow: 0
- LensManualDistortionAmount: 0
- LensProfileEnable: 0
- LensProfileSetup: LensDefaults
- LuminanceAdjustmentAqua: +10
- LuminanceAdjustmentBlue: -15
- LuminanceAdjustmentGreen: -5
- LuminanceAdjustmentMagenta: +20
- LuminanceAdjustmentOrange: -4
- LuminanceAdjustmentPurple: +20
- LuminanceAdjustmentRed: +5
- LuminanceAdjustmentYellow: +10
- LuminanceSmoothing: 0
- ParametricDarks: 0
- ParametricHighlightSplit: 75
- ParametricHighlights: 0
- ParametricLights: 0
- ParametricMidtoneSplit: 60
- ParametricShadowSplit: 14
- ParametricShadows: 0
- PerspectiveAspect: 0
- PerspectiveHorizontal: 0
- PerspectiveRotate: 0.0
- PerspectiveScale: 100
- PerspectiveUpright: 0
- PerspectiveVertical: 0
- PostCropVignetteAmount: 0
- ProcessVersion: 6.7
- RedHue: +18
- RedSaturation: +20
- Saturation: -5
- SaturationAdjustmentAqua: -50
- SaturationAdjustmentBlue: -30
- SaturationAdjustmentGreen: -50
- SaturationAdjustmentMagenta: -40
- SaturationAdjustmentOrange: -8
- SaturationAdjustmentPurple: -50
- SaturationAdjustmentRed: -30
- SaturationAdjustmentYellow: -15
- ShadowTint: -2
- Shadows2012: +30
- SharpenDetail: 25
- SharpenEdgeMasking: 0
- SharpenRadius: +1.0
- Sharpness: 46
- SplitToningBalance: 0
- SplitToningHighlightHue: 0
- SplitToningHighlightSaturation: 0
- SplitToningShadowHue: 0
- SplitToningShadowSaturation: 0
- Tint: +23
- ToneCurve: 0, 0, 255, 255
- ToneCurveBlue: 0, 0, 255, 255
- ToneCurveGreen: 0, 0, 255, 255
- ToneCurveName: Linear
- ToneCurveName2012: Custom
- ToneCurvePV2012: 0, 0, 76, 75, 186, 187, 255, 250
- ToneCurvePV2012Blue: 0, 0, 24, 11, 83, 70, 119, 122, 183, 200, 255, 255
- ToneCurvePV2012Green: 0, 0, 28, 9, 120, 124, 181, 198, 255, 255
- ToneCurvePV2012Red: 0, 0, 30, 11, 71, 51, 119, 122, 182, 196, 255, 255
- ToneCurveRed: 0, 0, 255, 255
- Version: 8.6
- Vibrance: 0
- VignetteAmount: 0
- WhiteBalance: As Shot
- Whites2012: -45
- XMP-dc
- Description: OLYMPUS DIGITAL CAMERA
- Format: image/jpeg
- XMP-xmp
- ModifyDate: 2015:05:01 18:54:13+03:00
- XMP-xmpMM