Уважаемые друзья и участники проекта iXBT.photo! К сожалению, 1 марта 2026 года проект iXBT.photo прекратит свою работу и будет закрыт. Мы высоко ценим ваше участие и тот вклад, который вы внесли в развитие нашего сообщества. Пожалуйста, не забудьте сохранить ваши фотографии до этой даты.
С уважением, команда iXBT.com
| _DSC5097.jpg |
_DSC5097.jpg
- Раздел: Другое, разное
- Дата съёмки: 28.06.2007 19:01
- Дата загрузки фото: 16.07.2007 19:03
- Оригинальная фотография: 800 x 535 (155 Кб)
- Технические характеристики:
- Фотоаппарат: Nikon D80
- Выдержка: 1/500
- Гиперфокальное расстояние: 3,54 m
- Диафрагма: 4,0
- Светочувствительность: 200
- Фокусное расстояние: 17,0mm (35mm эквивалент: 25,0mm)
- Полный EXIF
- Composite
- Aperture: 4,0
- CircleOfConfusion: 0,020 mm
- EV: 12,0
- FocalLength35efl: 17,0mm (35mm equivalent: 25,0mm)
- HyperfocalDistance: 3,54 m
- ScaleFactor35efl: 1,5
- ShutterSpeed: 1/500
- ExifIFD
- ApertureValue: 4,0
- CFAPattern: [Green,Blue][Red,Green]
- Contrast: Normal
- CreateDate: 2007:06:28 19:01:47
- CustomRendered: Normal
- DateTimeOriginal: 2007:06:28 19:01:47
- ExifImageLength: 535
- ExifImageWidth: 800
- ExposureCompensation: 0
- ExposureMode: Auto
- ExposureProgram: Aperture-priority AE
- ExposureTime: 1/500
- FNumber: 4,0
- Flash: No Flash
- FocalLength: 17,0mm
- FocalLengthIn35mmFormat: 25
- GainControl: None
- ISO: 200
- LightSource: Unknown (0)
- MaxApertureValue: 2,8
- MeteringMode: Multi-segment
- Saturation: High
- SceneCaptureType: Standard
- SceneType: Directly photographed
- SensingMethod: One-chip color area
- Sharpness: Hard
- ShutterSpeedValue: 1/500
- UserComment: Copyright by Alexander Avdeev
- WhiteBalance: Auto
- ICC-header
- ICC-meas
- ICC-view
- IFD0
- Make: NIKON CORPORATION
- Model: NIKON D80
- ModifyDate: 2007:07:16 12:36:18
- Orientation: Horizontal (normal)
- Software: ACD Systems Digital Imaging
- XMP-aux
- ImageNumber: 5468
- Lens: 17.0-50.0 mm f/2.8
- LensInfo: 17
- XMP-crs
- AlreadyApplied: True
- BlueHue: 0
- BlueSaturation: 0
- Brightness: +65
- CameraProfile: ACR 3.6
- ChromaticAberrationB: 0
- ChromaticAberrationR: 0
- ColorNoiseReduction: 25
- Contrast: +45
- ConvertToGrayscale: False
- CropAngle: 1.414645
- CropBottom: 1
- CropHeight: 2501
- CropLeft: 0.025761
- CropRight: 0.974239
- CropTop: 0
- CropUnit: 0
- CropWidth: 3735
- Exposure: 0.00
- FillLight: 0
- GreenHue: 0
- GreenSaturation: 0
- HasCrop: True
- HasSettings: True
- HighlightRecovery: 16
- HueAdjustmentAqua: 0
- HueAdjustmentBlue: 0
- HueAdjustmentGreen: 0
- HueAdjustmentMagenta: 0
- HueAdjustmentOrange: 0
- HueAdjustmentPurple: 0
- HueAdjustmentRed: 0
- HueAdjustmentYellow: 0
- LuminanceAdjustmentAqua: 0
- LuminanceAdjustmentBlue: 0
- LuminanceAdjustmentGreen: 0
- LuminanceAdjustmentMagenta: 0
- LuminanceAdjustmentOrange: 0
- LuminanceAdjustmentPurple: 0
- LuminanceAdjustmentRed: 0
- LuminanceAdjustmentYellow: 0
- LuminanceSmoothing: 0
- ParametricDarks: 0
- ParametricHighlightSplit: 75
- ParametricHighlights: 0
- ParametricLights: 0
- ParametricMidtoneSplit: 50
- ParametricShadowSplit: 25
- ParametricShadows: 0
- RedHue: 0
- RedSaturation: 0
- Saturation: +4
- SaturationAdjustmentAqua: 0
- SaturationAdjustmentBlue: 0
- SaturationAdjustmentGreen: 0
- SaturationAdjustmentMagenta: 0
- SaturationAdjustmentOrange: 0
- SaturationAdjustmentPurple: 0
- SaturationAdjustmentRed: 0
- SaturationAdjustmentYellow: 0
- ShadowTint: 0
- Shadows: 5
- Sharpness: 25
- SplitToningBalance: 0
- SplitToningHighlightHue: 0
- SplitToningHighlightSaturation: 0
- SplitToningShadowHue: 0
- SplitToningShadowSaturation: 0
- Temperature: 4950
- Tint: 0
- ToneCurve: 0, 0, 32, 22, 64, 56, 128, 128, 192, 196, 255, 255
- ToneCurveName: Medium Contrast
- Version: 1.0
- Vibrance: 0
- VignetteAmount: +72
- VignetteMidpoint: 50
- WhiteBalance: As Shot
- XMP-exif
- DateTimeDigitized: 2007:06:28 19:01:47.20+04:00
- DateTimeOriginal: 2007:06:28 19:01:47.20+04:00
- DigitalZoomRatio: 1
- FlashFired: False
- FlashFunction: False
- FlashMode: Unknown
- FlashRedEyeMode: False
- FlashReturn: No return detection
- SubjectDistanceRange: Unknown
- XMP-tiff
- ImageHeight: 2501
- ImageWidth: 3735
- XMP-xmp
- ModifyDate: 2007:07:14 01:32:32+04:00
- Просмотров: 160
- Рейтинг: голосов еще нет
- Отзывов: 0
Получить код для блога
| Вставка фотографии в текущем разрешении |
Вставка миниатюры |
HTML (для вставки в блог):
BBCode (для вставки в форум):
Ссылка на фото:
Ссылка на миниатюру:
- Послать ссылку другу
| Комментарии к фотографии |