Уважаемые друзья и участники проекта iXBT.photo! К сожалению, 1 марта 2026 года проект iXBT.photo прекратит свою работу и будет закрыт. Мы высоко ценим ваше участие и тот вклад, который вы внесли в развитие нашего сообщества. Пожалуйста, не забудьте сохранить ваши фотографии до этой даты.
С уважением, команда iXBT.com
| _DSC5220.jpg |
_DSC5220.jpg
- Раздел: Другое, разное
- Дата съёмки: 29.06.2007 11:41
- Дата загрузки фото: 16.07.2007 19:36
- Оригинальная фотография: 535 x 800 (137 Кб)
- Технические характеристики:
- Фотоаппарат: Nikon D80
- Выдержка: 1/125
- Гиперфокальное расстояние: 3,16 m
- Диафрагма: 5,6
- Светочувствительность: 100
- Фокусное расстояние: 19,0mm (35mm эквивалент: 28,0mm)
- Полный EXIF
- Composite
- Aperture: 5,6
- CircleOfConfusion: 0,020 mm
- EV: 11,9
- FocalLength35efl: 19,0mm (35mm equivalent: 28,0mm)
- HyperfocalDistance: 3,16 m
- ScaleFactor35efl: 1,5
- ShutterSpeed: 1/125
- ExifIFD
- ApertureValue: 5,6
- CFAPattern: [Green,Blue][Red,Green]
- Contrast: Normal
- CreateDate: 2007:06:29 11:41:43
- CustomRendered: Normal
- DateTimeOriginal: 2007:06:29 11:41:43
- ExifImageLength: 800
- ExifImageWidth: 535
- ExposureCompensation: 0
- ExposureMode: Auto
- ExposureProgram: Aperture-priority AE
- ExposureTime: 1/125
- FNumber: 5,6
- Flash: No Flash
- FocalLength: 19,0mm
- FocalLengthIn35mmFormat: 28
- GainControl: None
- ISO: 100
- LightSource: Unknown (0)
- MaxApertureValue: 2,8
- MeteringMode: Center-weighted average
- Saturation: High
- SceneCaptureType: Standard
- SceneType: Directly photographed
- SensingMethod: One-chip color area
- Sharpness: Hard
- ShutterSpeedValue: 1/125
- UserComment: Copyright by Alexander Avdeev
- WhiteBalance: Auto
- ICC-header
- ICC-meas
- ICC-view
- IFD0
- Make: NIKON CORPORATION
- Model: NIKON D80
- ModifyDate: 2007:07:16 12:38:11
- Orientation: Horizontal (normal)
- Software: ACD Systems Digital Imaging
- XMP-aux
- ImageNumber: 5589
- Lens: 17.0-50.0 mm f/2.8
- LensInfo: 17
- XMP-crs
- AlreadyApplied: True
- BlueHue: 0
- BlueSaturation: 0
- Brightness: +50
- CameraProfile: ACR 3.6
- ChromaticAberrationB: 0
- ChromaticAberrationR: 0
- ColorNoiseReduction: 25
- Contrast: +35
- ConvertToGrayscale: False
- CropAngle: 0.347599
- CropBottom: 0.999844
- CropHeight: 2524
- CropLeft: 0.006433
- CropRight: 0.97633
- CropTop: 0.017167
- CropUnit: 0
- CropWidth: 3771
- Exposure: 0.00
- FillLight: 0
- GreenHue: 0
- GreenSaturation: 0
- HasCrop: True
- HasSettings: True
- HighlightRecovery: 10
- HueAdjustmentAqua: 0
- HueAdjustmentBlue: 0
- HueAdjustmentGreen: 0
- HueAdjustmentMagenta: 0
- HueAdjustmentOrange: 0
- HueAdjustmentPurple: 0
- HueAdjustmentRed: 0
- HueAdjustmentYellow: 0
- LuminanceAdjustmentAqua: 0
- LuminanceAdjustmentBlue: 0
- LuminanceAdjustmentGreen: 0
- LuminanceAdjustmentMagenta: 0
- LuminanceAdjustmentOrange: 0
- LuminanceAdjustmentPurple: 0
- LuminanceAdjustmentRed: 0
- LuminanceAdjustmentYellow: 0
- LuminanceSmoothing: 0
- ParametricDarks: 0
- ParametricHighlightSplit: 75
- ParametricHighlights: 0
- ParametricLights: 0
- ParametricMidtoneSplit: 50
- ParametricShadowSplit: 25
- ParametricShadows: 0
- RedHue: 0
- RedSaturation: 0
- Saturation: +4
- SaturationAdjustmentAqua: 0
- SaturationAdjustmentBlue: 0
- SaturationAdjustmentGreen: 0
- SaturationAdjustmentMagenta: 0
- SaturationAdjustmentOrange: 0
- SaturationAdjustmentPurple: 0
- SaturationAdjustmentRed: 0
- SaturationAdjustmentYellow: 0
- ShadowTint: 0
- Shadows: 5
- Sharpness: 25
- SplitToningBalance: 0
- SplitToningHighlightHue: 0
- SplitToningHighlightSaturation: 0
- SplitToningShadowHue: 0
- SplitToningShadowSaturation: 0
- Temperature: 4300
- Tint: +3
- ToneCurve: 0, 0, 32, 22, 64, 56, 128, 128, 192, 196, 255, 255
- ToneCurveName: Medium Contrast
- Version: 1.0
- Vibrance: 0
- VignetteAmount: +60
- VignetteMidpoint: 50
- WhiteBalance: As Shot
- XMP-exif
- DateTimeDigitized: 2007:06:29 11:41:43.60+04:00
- DateTimeOriginal: 2007:06:29 11:41:43.60+04:00
- DigitalZoomRatio: 1
- FlashFired: False
- FlashFunction: False
- FlashMode: Unknown
- FlashRedEyeMode: False
- FlashReturn: No return detection
- SubjectDistanceRange: Unknown
- XMP-tiff
- ImageHeight: 3771
- ImageWidth: 2524
- XMP-xmp
- ModifyDate: 2007:07:14 01:39:57+04:00
- Просмотров: 138
- Рейтинг: голосов еще нет
- Отзывов: 0
Получить код для блога
| Вставка фотографии в текущем разрешении |
Вставка миниатюры |
HTML (для вставки в блог):
BBCode (для вставки в форум):
Ссылка на фото:
Ссылка на миниатюру:
- Послать ссылку другу
| Комментарии к фотографии |