- Раздел: Тесты фототехники
- Дата съёмки: 04.10.2015 11:28
- Дата загрузки фото: 07.10.2015 08:59
- Оригинальная фотография: 4800 x 3200 (1,6 Мб)
- Технические характеристики:
- Фотоаппарат: Samsung NX2000
- Выдержка: 1/800
- Гиперфокальное расстояние: inf m
- Диафрагма: 4,0
- Светочувствительность: 100
- Фокусное расстояние: 45,0 mm (35 mm equivalent: 45,0 mm)
- Экспокоррекция: +0,6
- Полный EXIF
- Adobe
- ColorTransform: YCbCr
- Composite
- Aperture: 4,0
- CircleOfConfusion: 0,020 mm
- FOV: 43,0 deg
- FocalLength35efl: 45,0 mm (35 mm equivalent: 45,0 mm)
- HyperfocalDistance: inf m
- LensID: Unknown (11)
- ScaleFactor35efl: 1,5
- ShutterSpeed: 1/800
- ExifIFD
- ApertureValue: 4,0
- ColorSpace: sRGB
- Contrast: Low
- DateTimeOriginal: 2015:10:04 11:28:40
- DigitalZoomRatio: 1
- ExifImageHeight: 3200
- ExifImageWidth: 4800
- ExposureCompensation: +0,6
- ExposureMode: Unknown (3)
- ExposureProgram: Aperture-priority AE
- ExposureTime: 1/800
- FNumber: 4,0
- Flash: No Flash
- FocalLength: 45,0 mm
- FocalLengthIn35mmFormat: 69 mm
- ISO: 100
- LensSerialNumber: 191915054252
- LightSource: Daylight
- MeteringMode: Spot
- Saturation: Normal
- SceneCaptureType: Standard
- SerialNumber: 0
- Sharpness: Soft
- ShutterSpeedValue: 1/800
- WhiteBalance: Manual
- ICC-header
- ICC-meas
- ICC-view
- IFD0
- Make: SAMSUNG
- Model: NX2000
- ModifyDate: 2015:10:06 21:02:04
- Orientation: Horizontal (normal)
- IFD1
- IPTC
- DateCreated: 2015:10:04
- System
- XMP-aux
- DistortionCorrectionAlreadyApplied: True
- Firmware: 1.14
- LateralChromaticAberrationCorrectionAlreadyApplied: True
- LensID: 11
- XMP-crs
- AlreadyApplied: True
- AutoLateralCA: 1
- AutoWhiteVersion: 134348800
- Blacks2012: 0
- BlueHue: 0
- BlueSaturation: 0
- Clarity2012: -10
- ColorNoiseReduction: 25
- ColorNoiseReductionDetail: 50
- ColorNoiseReductionSmoothness: 50
- ColorTemperature: 4900
- Contrast2012: +10
- ConvertToGrayscale: False
- DefringeGreenAmount: 1
- DefringeGreenHueHi: 80
- DefringeGreenHueLo: 20
- DefringePurpleAmount: 1
- DefringePurpleHueHi: 85
- DefringePurpleHueLo: 30
- Dehaze: 0
- Exposure2012: 0.00
- GrainAmount: 0
- GreenHue: 0
- GreenSaturation: 0
- HasCrop: False
- HasSettings: True
- Highlights2012: 0
- HueAdjustmentAqua: 0
- HueAdjustmentBlue: 0
- HueAdjustmentGreen: 0
- HueAdjustmentMagenta: 0
- HueAdjustmentOrange: 0
- HueAdjustmentPurple: 0
- HueAdjustmentRed: 0
- HueAdjustmentYellow: 0
- LensManualDistortionAmount: 0
- LensProfileEnable: 0
- LensProfileSetup: LensDefaults
- LuminanceAdjustmentAqua: 0
- LuminanceAdjustmentBlue: 0
- LuminanceAdjustmentGreen: 0
- LuminanceAdjustmentMagenta: 0
- LuminanceAdjustmentOrange: 0
- LuminanceAdjustmentPurple: 0
- LuminanceAdjustmentRed: 0
- LuminanceAdjustmentYellow: 0
- LuminanceSmoothing: 0
- ParametricDarks: 0
- ParametricHighlightSplit: 75
- ParametricHighlights: -50
- ParametricLights: 0
- ParametricMidtoneSplit: 50
- ParametricShadowSplit: 25
- ParametricShadows: 0
- PerspectiveAspect: 0
- PerspectiveHorizontal: 0
- PerspectiveRotate: 0.0
- PerspectiveScale: 100
- PerspectiveUpright: 0
- PerspectiveVertical: 0
- PostCropVignetteAmount: 0
- ProcessVersion: 6.7
- RawFileName: SAM_0123.SRW
- RedHue: 0
- RedSaturation: 0
- Saturation: +10
- SaturationAdjustmentAqua: 0
- SaturationAdjustmentBlue: 0
- SaturationAdjustmentGreen: 0
- SaturationAdjustmentMagenta: 0
- SaturationAdjustmentOrange: 0
- SaturationAdjustmentPurple: 0
- SaturationAdjustmentRed: 0
- SaturationAdjustmentYellow: 0
- ShadowTint: 0
- Shadows2012: 0
- SharpenDetail: 0
- SharpenEdgeMasking: 0
- SharpenRadius: +0.5
- Sharpness: 0
- SplitToningBalance: 0
- SplitToningHighlightHue: 0
- SplitToningHighlightSaturation: 0
- SplitToningShadowHue: 0
- SplitToningShadowSaturation: 0
- Tint: +14
- ToneCurve: 0, 0, 32, 22, 64, 56, 128, 128, 192, 196, 255, 255
- ToneCurveBlue: 0, 0, 255, 255
- ToneCurveGreen: 0, 0, 255, 255
- ToneCurveName: Medium Contrast
- ToneCurveName2012: Linear
- ToneCurvePV2012: 0, 0, 255, 255
- ToneCurvePV2012Blue: 0, 0, 255, 255
- ToneCurvePV2012Green: 0, 0, 255, 255
- ToneCurvePV2012Red: 0, 0, 255, 255
- ToneCurveRed: 0, 0, 255, 255
- ToneMapStrength: 0
- Version: 9.1
- Vibrance: +10
- VignetteAmount: 0
- WhiteBalance: Custom
- Whites2012: -20
- XMP-dc
- XMP-xmp
- CreateDate: 2015:10:04 11:28:40
- ModifyDate: 2015:10:06 21:02:04+03:00
- Rating: 0
- XMP-xmpMM
- Просмотров: 320
- Рейтинг: голосов еще нет
- Отзывов: 0