- Раздел: Другое, разное
- Дата съёмки: 20.10.2015 15:04
- Дата загрузки фото: 09.11.2015 15:17
- Оригинальная фотография: 5368 x 3579 (13,1 Мб)
- Технические характеристики:
- Фотоаппарат: Canon EOS 6D
- Выдержка: 1/160
- Гиперфокальное расстояние: inf m
- Диафрагма: 2,2
- Светочувствительность: 800
- Фокусное расстояние: 28,0 mm (35 mm equivalent: 28,0 mm)
- Полный EXIF
- Adobe
- ColorTransform: YCbCr
- Composite
- Aperture: 2,2
- CircleOfConfusion: 0,029 mm
- FOV: 65,0 deg
- FocalLength35efl: 28,0 mm (35 mm equivalent: 28,0 mm)
- HyperfocalDistance: inf m
- LensID: Canon EF 28mm f/1.8 USM
- ScaleFactor35efl: 1,0
- ShutterSpeed: 1/160
- ExifIFD
- ApertureValue: 2,2
- ColorSpace: sRGB
- CreateDate: 2015:10:20 15:04:52
- CustomRendered: Normal
- DateTimeOriginal: 2015:10:20 15:04:52
- ExposureCompensation: 0
- ExposureMode: Manual
- ExposureProgram: Manual
- ExposureTime: 1/160
- FNumber: 2,2
- Flash: On, Fired
- FocalLength: 28,0 mm
- ISO: 800
- LensInfo: 28mm f/?
- LensModel: EF28mm f/1.8 USM
- LensSerialNumber: 0000000000
- MaxApertureValue: 1,8
- MeteringMode: Spot
- RecommendedExposureIndex: 800
- SceneCaptureType: Standard
- SensitivityType: Recommended Exposure Index
- SerialNumber: 168029000791
- ShutterSpeedValue: 1/160
- WhiteBalance: Manual
- ICC-header
- ICC-meas
- ICC-view
- IFD0
- Artist: Андрей Шелякин
- Copyright: Андрей Шелякин feodosiafoto.com
- Make: Canon
- Model: Canon EOS 6D
- ModifyDate: 2015:11:07 12:09:13
- IFD1
- IPTC
- By-line: Андрей Шелякин
- City: Феодосия
- CopyrightNotice: Андрей Шелякин feodosiafoto.com
- Country-PrimaryLocationName: Р РѕСЃСЃРёСЏ
- DateCreated: 2015:10:20
- Keywords: feodosiafoto.com, http://feodosiafoto.com/, love story, lovestory, Алушта, Андрей Шелякин, Керчь, Крым, Новый Свет, Севастополь, Судак, Феодосия, Фотограф, Ялта, архитектура, гостиниц, лав стори, лавстори, панорама, пейзаж, пляжная фотосессия, свадьба, съемка, фото, фото съемка, фотосессия, фотосет
- Province-State: Крым
- System
- XMP-aux
- ApproximateFocusDistance: 1,28
- Firmware: 1.1.3
- FlashCompensation: -1,33333333333333
- ImageNumber: 0
- Lens: EF28mm f/1.8 USM
- LensID: 168
- XMP-crs
- AlreadyApplied: True
- AutoLateralCA: 1
- AutoWhiteVersion: 134348800
- Blacks2012: +50
- BlueHue: -5
- BlueSaturation: 0
- CameraProfile: 160S - C
- Clarity2012: +6
- ColorNoiseReduction: 25
- ColorNoiseReductionDetail: 80
- ColorNoiseReductionSmoothness: 50
- ColorTemperature: 5000
- Contrast2012: 0
- ConvertToGrayscale: False
- CropAngle: 0
- CropBottom: 0.980967
- CropConstrainToWarp: 0
- CropLeft: 0
- CropRight: 0.980967
- CropTop: 0
- DefringeGreenAmount: 0
- DefringeGreenHueHi: 60
- DefringeGreenHueLo: 40
- DefringePurpleAmount: 0
- DefringePurpleHueHi: 70
- DefringePurpleHueLo: 30
- Exposure2012: +0.70
- GradientBasedCorrActive: true
- GradientBasedCorrAmount: 1.000000
- GradientBasedCorrBrightness: 0.000000
- GradientBasedCorrHue: 0.000000
- GradientBasedCorrMaskFullX: 1.011390
- GradientBasedCorrMaskFullY: 0.561334
- GradientBasedCorrMaskValue: 1.000000
- GradientBasedCorrMaskWhat: Mask/Gradient
- GradientBasedCorrMaskZeroX: 0.592755
- GradientBasedCorrMaskZeroY: 0.664898
- GradientBasedCorrSaturation: 0.000000
- GradientBasedCorrSharpness: 0.000000
- GradientBasedCorrWhat: Correction
- GradientBasedCorrectionsLocalClarity2012: 0.000000
- GradientBasedCorrectionsLocalContrast2012: 0.000000
- GradientBasedCorrectionsLocalDefringe: 0.000000
- GradientBasedCorrectionsLocalExposure2012: 0.166500
- GradientBasedCorrectionsLocalHighlights2012: -0.517730
- GradientBasedCorrectionsLocalLuminanceNoise: 0.000000
- GradientBasedCorrectionsLocalMoire: 0.000000
- GradientBasedCorrectionsLocalShadows2012: 0.000000
- GradientBasedCorrectionsLocalTemperature: 0.000000
- GradientBasedCorrectionsLocalTint: 0.000000
- GrainAmount: 0
- GreenHue: +35
- GreenSaturation: -10
- HasCrop: True
- HasSettings: True
- Highlights2012: -60
- HueAdjustmentAqua: +10
- HueAdjustmentBlue: -5
- HueAdjustmentGreen: +5
- HueAdjustmentMagenta: +30
- HueAdjustmentOrange: -17
- HueAdjustmentPurple: +20
- HueAdjustmentRed: -15
- HueAdjustmentYellow: -27
- LensManualDistortionAmount: 0
- LensProfileChromaticAberrationScale: 100
- LensProfileDistortionScale: 100
- LensProfileEnable: 1
- LensProfileFilename: Canon EOS 5D Mark II (Canon EF 28mm f1.8 USM) - RAW.lcp
- LensProfileSetup: LensDefaults
- LensProfileVignettingScale: 100
- LuminanceAdjustmentAqua: +15
- LuminanceAdjustmentBlue: -25
- LuminanceAdjustmentGreen: 0
- LuminanceAdjustmentMagenta: 0
- LuminanceAdjustmentOrange: +13
- LuminanceAdjustmentPurple: -15
- LuminanceAdjustmentRed: +9
- LuminanceAdjustmentYellow: 0
- LuminanceNoiseReductionContrast: 0
- LuminanceNoiseReductionDetail: 80
- LuminanceSmoothing: 25
- PaintBasedCorrectionsLocalClarity2012: 0.000000
- PaintBasedCorrectionsLocalContrast2012: 0.000000
- PaintBasedCorrectionsLocalDefringe: 0.000000
- PaintBasedCorrectionsLocalExposure2012: 0.000000
- PaintBasedCorrectionsLocalHighlights2012: 0.000000
- PaintBasedCorrectionsLocalLuminanceNoise: 0.000000
- PaintBasedCorrectionsLocalMoire: 0.000000
- PaintBasedCorrectionsLocalShadows2012: 0.820690
- PaintBasedCorrectionsLocalTemperature: 0.000000
- PaintBasedCorrectionsLocalTint: 0.000000
- PaintCorrectionActive: true
- PaintCorrectionAmount: 1.000000
- PaintCorrectionBrightness: 0.000000
- PaintCorrectionHue: 0.000000
- PaintCorrectionMaskCenterWeight: 0.109521
- PaintCorrectionMaskFlow: 0.859000
- PaintCorrectionMaskRadius: 0.053170
- PaintCorrectionMaskValue: 1.000000
- PaintCorrectionMaskWhat: Mask/Paint
- PaintCorrectionSaturation: 0.000000
- PaintCorrectionSharpness: 0.000000
- PaintCorrectionWhat: Correction
- ParametricDarks: 0
- ParametricHighlightSplit: 75
- ParametricHighlights: 0
- ParametricLights: 0
- ParametricMidtoneSplit: 48
- ParametricShadowSplit: 20
- ParametricShadows: 0
- PerspectiveAspect: 0
- PerspectiveHorizontal: 0
- PerspectiveRotate: 0.0
- PerspectiveScale: 100
- PerspectiveUpright: 0
- PerspectiveVertical: 0
- PostCropVignetteAmount: -7
- PostCropVignetteFeather: 50
- PostCropVignetteHighlightContrast: 0
- PostCropVignetteMidpoint: 50
- PostCropVignetteRoundness: 0
- PostCropVignetteStyle: 1
- ProcessVersion: 6.7
- RedHue: +20
- RedSaturation: +20
- Saturation: 0
- SaturationAdjustmentAqua: +11
- SaturationAdjustmentBlue: +14
- SaturationAdjustmentGreen: +7
- SaturationAdjustmentMagenta: -30
- SaturationAdjustmentOrange: -30
- SaturationAdjustmentPurple: -45
- SaturationAdjustmentRed: -38
- SaturationAdjustmentYellow: -5
- ShadowTint: -4
- Shadows2012: +50
- SharpenDetail: 25
- SharpenEdgeMasking: 0
- SharpenRadius: +1.0
- Sharpness: 41
- SplitToningBalance: 0
- SplitToningHighlightHue: 0
- SplitToningHighlightSaturation: 0
- SplitToningShadowHue: 0
- SplitToningShadowSaturation: 0
- Tint: +19
- ToneCurve: 0, 0, 255, 255
- ToneCurveBlue: 0, 0, 255, 255
- ToneCurveGreen: 0, 0, 255, 255
- ToneCurveName: Linear
- ToneCurveName2012: Custom
- ToneCurvePV2012: 0, 0, 18, 21, 70, 71, 127, 127, 215, 213, 255, 255
- ToneCurvePV2012Blue: 0, 0, 27, 14, 77, 63, 114, 120, 170, 196, 255, 255
- ToneCurvePV2012Green: 0, 0, 33, 13, 80, 65, 114, 120, 143, 165, 210, 230, 255, 255
- ToneCurvePV2012Red: 0, 0, 35, 11, 81, 62, 114, 121, 174, 199, 255, 255
- ToneCurveRed: 0, 0, 255, 255
- Version: 8.6
- Vibrance: 0
- VignetteAmount: 0
- WhiteBalance: Custom
- Whites2012: -40
- XMP-dc
- Creator: Андрей Шелякин
- Format: image/jpeg
- Rights: Андрей Шелякин feodosiafoto.com
- Subject: feodosiafoto.com, http://feodosiafoto.com/, love story, lovestory, Алушта, Андрей Шелякин, Керчь, Крым, Новый Свет, Севастополь, Судак, Феодосия, Фотограф, Ялта, архитектура, гостиниц, лав стори, лавстори, панорама, пейзаж, пляжная фотосессия, свадьба, съемка, фото, фото съемка, фотосессия, фотосет
- XMP-iptcCore
- CreatorWorkURL: http://feodosiafoto.com/
- XMP-xmp
- CreateDate: 2015:10:20 15:04:52.72
- ModifyDate: 2015:11:07 12:09:13+03:00
- XMP-xmpMM
- XMP-xmpRights
- Marked: True
- WebStatement: http://feodosiafoto.com/
- Просмотров: 235
- Рейтинг: голосов еще нет
- Отзывов: 0