- Раздел: Другое, разное
- Дата съёмки: 07.02.2006 11:23
- Дата загрузки фото: 01.12.2015 19:26
- Оригинальная фотография: 2000 x 3008 (3,5 Мб)
- Технические характеристики:
- Фотоаппарат: Nikon D50
- Выдержка: 1/640
- Гиперфокальное расстояние: inf m
- Диафрагма: 5,6
- Светочувствительность: 200
- Фокусное расстояние: 16,0 mm (35 mm equivalent: 16,0 mm)
- Экспокоррекция: +1
- Полный EXIF
- Composite
- Aperture: 5,6
- CircleOfConfusion: 0,020 mm
- FOV: 96,0 deg
- FocalLength35efl: 16,0 mm (35 mm equivalent: 16,0 mm)
- HyperfocalDistance: inf m
- LensID: Unknown (74) 16mm
- ScaleFactor35efl: 1,5
- ShutterSpeed: 1/640
- ExifIFD
- ApertureValue: 5,6
- CFAPattern: [Blue,Green][Green,Red]
- ColorSpace: Uncalibrated
- Contrast: Normal
- CreateDate: 2006:02:07 11:23:08
- CustomRendered: Normal
- DateTimeOriginal: 2006:02:07 11:23:08
- DigitalZoomRatio: 1
- ExifImageHeight: 3008
- ExifImageWidth: 2000
- ExposureCompensation: +1
- ExposureMode: Auto
- ExposureProgram: Aperture-priority AE
- ExposureTime: 1/640
- FNumber: 5,6
- Flash: No Flash
- FocalLength: 16,0 mm
- FocalLengthIn35mmFormat: 24 mm
- GainControl: None
- ISO: 200
- LensInfo: 16mm f/2-1.4
- LensModel: 16.0 mm f/2.0
- LightSource: Unknown
- MaxApertureValue: 2,0
- MeteringMode: Multi-segment
- Saturation: Normal
- SceneCaptureType: Standard
- SceneType: Directly photographed
- SensingMethod: One-chip color area
- Sharpness: Soft
- ShutterSpeedValue: 0,5
- SubjectDistanceRange: Unknown
- WhiteBalance: Auto
- ICC-header
- IFD0
- Make: NIKON CORPORATION
- Model: NIKON D50
- ModifyDate: 2015:11:29 18:29:27
- Orientation: Horizontal (normal)
- Software: Capture NX 2.2.4 W
- IFD1
- IPTC
- DateCreated: 2006:02:07
- Urgency: 1 (most urgent)
- Nikon
- IFD0_Offset: 1152
- ImageDataSize: 3549791
- MakerNoteVersion: 2.10
- NEFBitDepth: Unknown (16 16 16 0)
- NikonCaptureVersion: Capture NX 2.2.4 W
- PreviewIFD_Offset: 1052
- PreviewIFD
- System
- XMP-aux
- ApproximateFocusDistance: 2,99
- ImageNumber: 3749
- Lens: 16.0 mm f/2.0
- LensID: 74
- XMP-crs
- AlreadyApplied: True
- AutoLateralCA: 0
- Blacks2012: 0
- BlueHue: 0
- BlueSaturation: 0
- CameraProfile: Camera Neutral
- Clarity2012: 0
- ColorNoiseReduction: 25
- ColorNoiseReductionDetail: 50
- ColorTemperature: 5500
- Contrast2012: +15
- ConvertToGrayscale: False
- DefringeGreenAmount: 0
- DefringeGreenHueHi: 60
- DefringeGreenHueLo: 40
- DefringePurpleAmount: 0
- DefringePurpleHueHi: 70
- DefringePurpleHueLo: 30
- Exposure2012: +0.21
- GrainAmount: 0
- GreenHue: 0
- GreenSaturation: 0
- HasCrop: False
- HasSettings: True
- Highlights2012: -100
- HueAdjustmentAqua: 0
- HueAdjustmentBlue: 0
- HueAdjustmentGreen: 0
- HueAdjustmentMagenta: 0
- HueAdjustmentOrange: 0
- HueAdjustmentPurple: 0
- HueAdjustmentRed: 0
- HueAdjustmentYellow: 0
- LensManualDistortionAmount: 0
- LensProfileEnable: 0
- LensProfileSetup: LensDefaults
- LuminanceAdjustmentAqua: 0
- LuminanceAdjustmentBlue: 0
- LuminanceAdjustmentGreen: 0
- LuminanceAdjustmentMagenta: 0
- LuminanceAdjustmentOrange: 0
- LuminanceAdjustmentPurple: 0
- LuminanceAdjustmentRed: 0
- LuminanceAdjustmentYellow: 0
- LuminanceSmoothing: 0
- ParametricDarks: +10
- ParametricHighlightSplit: 75
- ParametricHighlights: 0
- ParametricLights: -10
- ParametricMidtoneSplit: 50
- ParametricShadowSplit: 25
- ParametricShadows: 0
- PerspectiveAspect: 0
- PerspectiveHorizontal: 0
- PerspectiveRotate: 0.0
- PerspectiveScale: 100
- PerspectiveUpright: 0
- PerspectiveVertical: 0
- PostCropVignetteAmount: 0
- ProcessVersion: 6.7
- RedHue: 0
- RedSaturation: 0
- Saturation: 0
- SaturationAdjustmentAqua: 0
- SaturationAdjustmentBlue: 0
- SaturationAdjustmentGreen: 0
- SaturationAdjustmentMagenta: 0
- SaturationAdjustmentOrange: 0
- SaturationAdjustmentPurple: 0
- SaturationAdjustmentRed: 0
- SaturationAdjustmentYellow: 0
- ShadowTint: 0
- Shadows2012: 0
- SharpenDetail: 25
- SharpenEdgeMasking: 0
- SharpenRadius: +1.0
- Sharpness: 25
- SplitToningBalance: 0
- SplitToningHighlightHue: 0
- SplitToningHighlightSaturation: 0
- SplitToningShadowHue: 0
- SplitToningShadowSaturation: 0
- Tint: -18
- ToneCurveName2012: Linear
- ToneCurvePV2012: 0, 0, 255, 255
- ToneCurvePV2012Blue: 0, 0, 255, 255
- ToneCurvePV2012Green: 0, 0, 255, 255
- ToneCurvePV2012Red: 0, 0, 255, 255
- Version: 8.1
- Vibrance: 0
- VignetteAmount: 0
- WhiteBalance: Custom
- Whites2012: 0
- XMP-dc
- XMP-microsoft
- XMP-xmp
- CreateDate: 2006:02:07 11:23:08.80
- Label: Red
- ModifyDate: 2015:11:29 18:27:56+03:00
- XMP-xmpMM
- Просмотров: 189
- Рейтинг: голосов еще нет
- Отзывов: 0