- Раздел: Другое, разное
- Дата съёмки: неизвестно
- Дата загрузки фото: 29.01.2016 08:15
- Оригинальная фотография: 5315 x 3300 (4,6 Мб)
- Технические характеристики:
- Фотоаппарат: Nikon D800
- Выдержка: 1/6
- Гиперфокальное расстояние: inf m
- Диафрагма: 2,8
- Светочувствительность: 1000
- Фокусное расстояние: 70,0 mm (35 mm equivalent: 70,0 mm)
- Экспокоррекция: +1/3
- Полный EXIF
- Adobe
- ColorTransform: YCbCr
- Composite
- Aperture: 2,8
- CircleOfConfusion: 0,030 mm
- FOV: 28,0 deg
- FocalLength35efl: 70,0 mm (35 mm equivalent: 70,0 mm)
- HyperfocalDistance: inf m
- LensID: AF-S Zoom-Nikkor 28-70mm f/2.8D IF-ED
- ScaleFactor35efl: 1,0
- ShutterSpeed: 1/6
- ExifIFD
- ApertureValue: 2,8
- CFAPattern: [Red,Green][Green,Blue]
- Contrast: Normal
- CreateDate: 2016:01:17 02:18:07
- CustomRendered: Normal
- DateTimeOriginal: 2016:01:17 02:18:07
- DigitalZoomRatio: 1
- ExposureCompensation: +1/3
- ExposureMode: Manual
- ExposureProgram: Manual
- ExposureTime: 1/6
- FNumber: 2,8
- Flash: Off, Did not fire
- FocalLength: 70,0 mm
- FocalLengthIn35mmFormat: 70 mm
- GainControl: High gain up
- ISO: 1000
- LensInfo: 28-70mm f/2.8
- LensModel: 28.0-70.0 mm f/2.8
- LightSource: Unknown
- MaxApertureValue: 2,8
- MeteringMode: Multi-segment
- Saturation: Normal
- SceneCaptureType: Standard
- SceneType: Directly photographed
- SensingMethod: One-chip color area
- SensitivityType: Recommended Exposure Index
- SerialNumber: 8002139
- Sharpness: Normal
- ShutterSpeedValue: 1/6
- SubjectDistanceRange: Unknown
- UserComment: illya@xdevs.com (C) TSEMENKO ILYA
- WhiteBalance: Auto
- ICC-header
- IFD0
- Artist: Tsemenko Illya xDevs.com
- Copyright: (C)TIN
- Make: NIKON CORPORATION
- Model: NIKON D800
- ModifyDate: 2016:01:17 22:51:01
- IFD1
- IPTC
- By-line: Tsemenko Illya xDevs.com
- CopyrightNotice: (C)TIN
- DateCreated: 2016:01:17
- System
- XMP-aux
- ApproximateFocusDistance: 0,71
- ImageNumber: 55012
- Lens: 28.0-70.0 mm f/2.8
- LensID: 93
- XMP-crs
- AlreadyApplied: True
- AutoLateralCA: 0
- AutoWhiteVersion: 134348800
- Blacks2012: -3
- BlueHue: 0
- BlueSaturation: 0
- Clarity2012: 0
- ColorNoiseReduction: 25
- ColorNoiseReductionDetail: 50
- ColorNoiseReductionSmoothness: 50
- ColorTemperature: 4650
- Contrast2012: +16
- ConvertToGrayscale: False
- CropAngle: 0.210066
- CropBottom: 0.728765
- CropConstrainToWarp: 0
- CropLeft: 0.154823
- CropRight: 0.875278
- CropTop: 0.053045
- DefringeGreenAmount: 0
- DefringeGreenHueHi: 60
- DefringeGreenHueLo: 40
- DefringePurpleAmount: 0
- DefringePurpleHueHi: 70
- DefringePurpleHueLo: 30
- Exposure2012: +1.02
- GrainAmount: 0
- GreenHue: 0
- GreenSaturation: 0
- HasCrop: True
- HasSettings: True
- Highlights2012: -84
- HueAdjustmentAqua: 0
- HueAdjustmentBlue: 0
- HueAdjustmentGreen: 0
- HueAdjustmentMagenta: 0
- HueAdjustmentOrange: 0
- HueAdjustmentPurple: 0
- HueAdjustmentRed: 0
- HueAdjustmentYellow: 0
- LensManualDistortionAmount: 0
- LensProfileEnable: 0
- LensProfileSetup: LensDefaults
- LuminanceAdjustmentAqua: 0
- LuminanceAdjustmentBlue: 0
- LuminanceAdjustmentGreen: 0
- LuminanceAdjustmentMagenta: 0
- LuminanceAdjustmentOrange: 0
- LuminanceAdjustmentPurple: 0
- LuminanceAdjustmentRed: 0
- LuminanceAdjustmentYellow: 0
- LuminanceSmoothing: 0
- ParametricDarks: 0
- ParametricHighlightSplit: 75
- ParametricHighlights: 0
- ParametricLights: 0
- ParametricMidtoneSplit: 50
- ParametricShadowSplit: 25
- ParametricShadows: 0
- PerspectiveAspect: 0
- PerspectiveHorizontal: 0
- PerspectiveRotate: 0.0
- PerspectiveScale: 100
- PerspectiveUpright: 0
- PerspectiveVertical: 0
- PostCropVignetteAmount: 0
- ProcessVersion: 6.7
- RedHue: 0
- RedSaturation: 0
- Saturation: 0
- SaturationAdjustmentAqua: 0
- SaturationAdjustmentBlue: 0
- SaturationAdjustmentGreen: 0
- SaturationAdjustmentMagenta: 0
- SaturationAdjustmentOrange: 0
- SaturationAdjustmentPurple: 0
- SaturationAdjustmentRed: 0
- SaturationAdjustmentYellow: 0
- ShadowTint: 0
- Shadows2012: +12
- SharpenDetail: 25
- SharpenEdgeMasking: 0
- SharpenRadius: +1.0
- Sharpness: 25
- SplitToningBalance: 0
- SplitToningHighlightHue: 0
- SplitToningHighlightSaturation: 0
- SplitToningShadowHue: 0
- SplitToningShadowSaturation: 0
- Tint: +18
- ToneCurveName2012: Linear
- ToneCurvePV2012: 0, 0, 255, 255
- ToneCurvePV2012Blue: 0, 0, 255, 255
- ToneCurvePV2012Green: 0, 0, 255, 255
- ToneCurvePV2012Red: 0, 0, 255, 255
- Version: 8.3
- Vibrance: 0
- VignetteAmount: 0
- WhiteBalance: As Shot
- Whites2012: 0
- XMP-dc
- Creator: Tsemenko Illya xDevs.com
- Format: image/jpeg
- Rights: (C)TIN
- XMP-xmp
- CreateDate: 2016:01:17 02:18:07.40
- ModifyDate: 2016:01:17 22:51:01+08:00
- Rating: 1
- XMP-xmpMM
- Просмотров: 137
- Рейтинг: голосов еще нет
- Отзывов: 0