- Раздел: Другое, разное
- Дата съёмки: 08.12.2002 12:00
- Дата загрузки фото: 12.04.2016 11:10
- Оригинальная фотография: 2648 x 1488 (2,1 Мб)
- Технические характеристики:
- Фотоаппарат: Lenovo VIBE Z2 Pro
- Выдержка: 1/4000
- Диафрагма: 2,1
- Светочувствительность: 100
- Фокусное расстояние: 4,0 mm
- Полный EXIF
- Adobe
- ColorTransform: YCbCr
- Composite
- Aperture: 2,1
- FocalLength35efl: 4,0 mm
- GPSDateTime: 2016:04:11 14:12:05Z
- ShutterSpeed: 1/4000
- ExifIFD
- ApertureValue: 2,1
- ColorSpace: sRGB
- CreateDate: 2002:12:08 12:00:00
- DateTimeOriginal: 2016:04:11 17:12:07
- ExifImageHeight: 1488
- ExifImageWidth: 2648
- ExposureIndex: 106
- ExposureTime: 1/4000
- FNumber: 2,1
- Flash: Off, Did not fire
- FocalLength: 4,3 mm
- GainControl: Low gain up
- ISO: 100
- ShutterSpeedValue: 1/4000
- GPS
- GPSDateStamp: 2016:04:11
- GPSImgDirection: 171
- GPSImgDirectionRef: Magnetic North
- GPSTimeStamp: 14:12:05
- ICC-header
- ICC-meas
- ICC-view
- IFD0
- Make: Lenovo
- Model: VIBE Z2 Pro
- ModifyDate: 2016:04:12 11:10:01
- Orientation: Horizontal (normal)
- IFD1
- IPTC
- DateCreated: 2016:04:11
- System
- XMP-aux
- LateralChromaticAberrationCorrectionAlreadyApplied: True
- XMP-crs
- AlreadyApplied: True
- AutoLateralCA: 1
- AutoWhiteVersion: 134348800
- Blacks2012: 0
- BlueHue: 0
- BlueSaturation: 0
- CameraProfile: Embedded
- Clarity2012: +25
- ColorNoiseReduction: 0
- Contrast2012: 0
- ConvertToGrayscale: False
- DefringeGreenAmount: 0
- DefringeGreenHueHi: 60
- DefringeGreenHueLo: 40
- DefringePurpleAmount: 0
- DefringePurpleHueHi: 70
- DefringePurpleHueLo: 30
- Dehaze: +50
- Exposure2012: +0.50
- GrainAmount: 0
- GreenHue: 0
- GreenSaturation: 0
- HasCrop: False
- HasSettings: True
- Highlights2012: -50
- HueAdjustmentAqua: 0
- HueAdjustmentBlue: 0
- HueAdjustmentGreen: 0
- HueAdjustmentMagenta: 0
- HueAdjustmentOrange: 0
- HueAdjustmentPurple: 0
- HueAdjustmentRed: 0
- HueAdjustmentYellow: 0
- IncrementalTemperature: 0
- IncrementalTint: 0
- LensManualDistortionAmount: 0
- LensProfileEnable: 0
- LensProfileSetup: LensDefaults
- LuminanceAdjustmentAqua: 0
- LuminanceAdjustmentBlue: 0
- LuminanceAdjustmentGreen: 0
- LuminanceAdjustmentMagenta: 0
- LuminanceAdjustmentOrange: 0
- LuminanceAdjustmentPurple: 0
- LuminanceAdjustmentRed: 0
- LuminanceAdjustmentYellow: 0
- LuminanceNoiseReductionContrast: 0
- LuminanceNoiseReductionDetail: 50
- LuminanceSmoothing: 25
- ParametricDarks: 0
- ParametricHighlightSplit: 75
- ParametricHighlights: 0
- ParametricLights: 0
- ParametricMidtoneSplit: 50
- ParametricShadowSplit: 25
- ParametricShadows: 0
- PerspectiveAspect: 0
- PerspectiveHorizontal: 0
- PerspectiveRotate: 0.0
- PerspectiveScale: 100
- PerspectiveUpright: 0
- PerspectiveVertical: 0
- PostCropVignetteAmount: 0
- ProcessVersion: 6.7
- RawFileName: IMG_20160411_171205.jpg
- RedHue: 0
- RedSaturation: 0
- Saturation: 0
- SaturationAdjustmentAqua: 0
- SaturationAdjustmentBlue: -20
- SaturationAdjustmentGreen: 0
- SaturationAdjustmentMagenta: 0
- SaturationAdjustmentOrange: 0
- SaturationAdjustmentPurple: 0
- SaturationAdjustmentRed: 0
- SaturationAdjustmentYellow: 0
- ShadowTint: 0
- Shadows2012: +50
- SharpenDetail: 0
- SharpenEdgeMasking: 0
- SharpenRadius: +0.5
- Sharpness: 0
- SplitToningBalance: 0
- SplitToningHighlightHue: 0
- SplitToningHighlightSaturation: 0
- SplitToningShadowHue: 0
- SplitToningShadowSaturation: 0
- ToneCurve: 0, 0, 255, 255
- ToneCurveBlue: 0, 0, 255, 255
- ToneCurveGreen: 0, 0, 255, 255
- ToneCurveName: Linear
- ToneCurveName2012: Linear
- ToneCurvePV2012: 0, 0, 255, 255
- ToneCurvePV2012Blue: 0, 0, 255, 255
- ToneCurvePV2012Green: 0, 0, 255, 255
- ToneCurvePV2012Red: 0, 0, 255, 255
- ToneCurveRed: 0, 0, 255, 255
- ToneMapStrength: 0
- Version: 9.5
- Vibrance: -30
- VignetteAmount: 0
- WhiteBalance: As Shot
- Whites2012: 0
- XMP-dc
- XMP-exifEX
- PhotographicSensitivity: 100
- XMP-xmp
- CreateDate: 2002:12:08 12:00
- ModifyDate: 2016:04:12 11:10:01+03:00
- Rating: 0
- XMP-xmpMM
- Просмотров: 180
- Рейтинг: голосов еще нет
- Отзывов: 0