Уважаемые друзья и участники проекта iXBT.photo! К сожалению, 1 марта 2026 года проект iXBT.photo прекратит свою работу и будет закрыт. Мы высоко ценим ваше участие и тот вклад, который вы внесли в развитие нашего сообщества. Пожалуйста, не забудьте сохранить ваши фотографии до этой даты.
С уважением, команда iXBT.com
| CRW_1159.jpg |
CRW_1159.jpg
- Раздел: Другое, разное
- Дата съёмки: 25.07.2007 22:38
- Дата загрузки фото: 25.07.2007 23:57
- Оригинальная фотография: 1907 x 2262 (3,5 Мб)
- Технические характеристики:
- Фотоаппарат: Canon PowerShotS3IS
- Выдержка: 1/160
- Диафрагма: 4,0
- Светочувствительность: 50
- Фокусное расстояние: 13,2mm
- Полный EXIF
- ColorTransform: YCbCr
- Composite
- Aperture: 4,0
- EV: 12,3
- FocalLength35efl: 13,2mm
- ShutterSpeed: 1/160
- ExifIFD
- ApertureValue: 4,0
- ColorSpace: Uncalibrated
- CreateDate: 2005:11:22 19:47:50
- DateTimeOriginal: 2005:11:22 19:47:50
- ExifImageLength: 2262
- ExifImageWidth: 1907
- ExposureCompensation: 0
- ExposureProgram: Shutter speed priority AE
- ExposureTime: 1/160
- FNumber: 4,0
- Flash: Fired
- FocalLength: 13,2mm
- ISO: 50
- MaxApertureValue: 4,2
- MeteringMode: Multi-segment
- ShutterSpeedValue: 1/160
- ICC-header
- IFD0
- Make: Canon
- Model: Canon PowerShotS3IS
- ModifyDate: 2007:07:25 22:38:29
- Orientation: Horizontal (normal)
- TimeZoneOffset: 3 3
- IFD1
- IPTC
- XMP-aux
- Firmware: 1.01
- Lens: 5.8-20.7 mm
- LensInfo: 5,8125
- XMP-crs
- AlreadyApplied: True
- BlueHue: 0
- BlueSaturation: 0
- Brightness: +73
- CameraProfile: Embedded
- ChromaticAberrationB: 0
- ChromaticAberrationR: 0
- ColorNoiseReduction: 25
- Contrast: +50
- ConvertToGrayscale: False
- CropAngle: 2.245743
- CropBottom: 1
- CropLeft: 0.03882
- CropRight: 0.96118
- CropTop: 0
- Exposure: 0.00
- FillLight: 0
- GreenHue: 0
- GreenSaturation: 0
- HasCrop: True
- HasSettings: True
- HighlightRecovery: 22
- HueAdjustmentAqua: 0
- HueAdjustmentBlue: 0
- HueAdjustmentGreen: 0
- HueAdjustmentMagenta: 0
- HueAdjustmentOrange: 0
- HueAdjustmentPurple: 0
- HueAdjustmentRed: 0
- HueAdjustmentYellow: 0
- LuminanceAdjustmentAqua: 0
- LuminanceAdjustmentBlue: 0
- LuminanceAdjustmentGreen: 0
- LuminanceAdjustmentMagenta: 0
- LuminanceAdjustmentOrange: 0
- LuminanceAdjustmentPurple: 0
- LuminanceAdjustmentRed: 0
- LuminanceAdjustmentYellow: 0
- LuminanceSmoothing: 0
- ParametricDarks: 0
- ParametricHighlightSplit: 75
- ParametricHighlights: 0
- ParametricLights: 0
- ParametricMidtoneSplit: 50
- ParametricShadowSplit: 25
- ParametricShadows: 0
- RawFileName: CRW_1159.DNG
- RedHue: 0
- RedSaturation: 0
- Saturation: 0
- SaturationAdjustmentAqua: 0
- SaturationAdjustmentBlue: 0
- SaturationAdjustmentGreen: 0
- SaturationAdjustmentMagenta: 0
- SaturationAdjustmentOrange: 0
- SaturationAdjustmentPurple: 0
- SaturationAdjustmentRed: 0
- SaturationAdjustmentYellow: 0
- ShadowTint: 0
- Shadows: 9
- Sharpness: 25
- SplitToningBalance: 0
- SplitToningHighlightHue: 0
- SplitToningHighlightSaturation: 0
- SplitToningShadowHue: 0
- SplitToningShadowSaturation: 0
- Temperature: 5500
- Tint: 0
- ToneCurve: 0, 0, 32, 22, 64, 56, 128, 128, 192, 196, 255, 255
- ToneCurveName: Medium Contrast
- Version: 4.0
- Vibrance: 0
- VignetteAmount: 0
- WhiteBalance: As Shot
- XMP-dc
- XMP-exif
- ColorSpace: Unknown (-1)
- DateTimeDigitized: 2005:11:22 19:47:50+03:00
- DateTimeOriginal: 2005:11:22 19:47:50+03:00
- ExifImageHeight: 2262
- FlashFired: True
- FlashFunction: False
- FlashMode: Unknown
- FlashRedEyeMode: False
- FlashReturn: No return detection
- XMP-tiff
- XMP-xmp
- CreateDate: 2007:07:25 22:38:29+04:00
- ModifyDate: 2007:07:25 22:38:29+04:00
- Rating: 0
- XMP-xmpMM
- DerivedFrom:
- Просмотров: 443
- Рейтинг: голосов еще нет
- Отзывов: 0
Получить код для блога
| Вставка фотографии в текущем разрешении |
Вставка миниатюры |
HTML (для вставки в блог):
BBCode (для вставки в форум):
Ссылка на фото:
Ссылка на миниатюру:
- Послать ссылку другу
| Комментарии к фотографии |