- Раздел: Тесты фототехники
- Дата съёмки: неизвестно
- Дата загрузки фото: 08.05.2016 01:09
- Оригинальная фотография: 4579 x 3053 (7,5 Мб)
- Технические характеристики:
- Фотоаппарат: Panasonic DMC-GH3
- Выдержка: 1/60
- Гиперфокальное расстояние: inf m
- Диафрагма: 1,7
- Светочувствительность: 1000
- Фокусное расстояние: 15,0 mm (35 mm equivalent: 30,0 mm)
- Полный EXIF
- Adobe
- ColorTransform: YCbCr
- Composite
- Aperture: 1,7
- CircleOfConfusion: 0,015 mm
- FOV: 61,0 deg
- FocalLength35efl: 15,0 mm (35 mm equivalent: 30,0 mm)
- HyperfocalDistance: inf m
- ScaleFactor35efl: 2,1
- ShutterSpeed: 1/60
- ExifIFD
- ApertureValue: 1,7
- ColorSpace: sRGB
- Contrast: Normal
- CreateDate: 2016:05:07 16:57:38
- CustomRendered: Normal
- DateTimeOriginal: 2016:05:07 16:57:38
- DigitalZoomRatio: 0
- ExifImageHeight: 3053
- ExifImageWidth: 4579
- ExposureCompensation: 0
- ExposureMode: Auto
- ExposureProgram: Aperture-priority AE
- ExposureTime: 1/60
- FNumber: 1,7
- Flash: Off, Did not fire
- FocalLength: 15,0 mm
- FocalLengthIn35mmFormat: 31 mm
- GainControl: High gain up
- ISO: 1000
- LensModel: LEICA DG SUMMILUX 15/F1.7
- LensSerialNumber: 14LIC118040N
- LightSource: Unknown
- MaxApertureValue: 1,7
- MeteringMode: Multi-segment
- Saturation: Normal
- SceneCaptureType: Standard
- SceneType: Directly photographed
- SensingMethod: One-chip color area
- Sharpness: Normal
- ShutterSpeedValue: 1/60
- WhiteBalance: Auto
- ICC-header
- ICC-meas
- ICC-view
- IFD0
- BitsPerSample: 8 8 8
- ImageHeight: 3053
- ImageWidth: 4579
- Make: Panasonic
- Model: DMC-GH3
- ModifyDate: 2016:05:08 01:06:51
- Orientation: Horizontal (normal)
- PhotometricInterpretation: RGB
- SamplesPerPixel: 3
- IFD1
- IPTC
- DateCreated: 2016:05:07
- System
- XMP-aux
- Lens: LEICA DG SUMMILUX 15/F1.7
- XMP-crs
- AlreadyApplied: True
- AutoLateralCA: 0
- AutoWhiteVersion: 134348800
- Blacks2012: 0
- BlueHue: 0
- BlueSaturation: 0
- Clarity2012: 0
- ColorNoiseReduction: 25
- ColorNoiseReductionDetail: 50
- ColorNoiseReductionSmoothness: 50
- ColorTemperature: 2750
- Contrast2012: 0
- ConvertToGrayscale: False
- CropAngle: 0.244852
- CropBottom: 1
- CropConstrainToWarp: 1
- CropLeft: 0.0046
- CropRight: 0.9954
- CropTop: -0
- DefringeGreenAmount: 0
- DefringeGreenHueHi: 60
- DefringeGreenHueLo: 40
- DefringePurpleAmount: 0
- DefringePurpleHueHi: 70
- DefringePurpleHueLo: 30
- Exposure2012: 0.00
- GrainAmount: 0
- GreenHue: 0
- GreenSaturation: 0
- HasCrop: True
- HasSettings: True
- Highlights2012: 0
- HueAdjustmentAqua: 0
- HueAdjustmentBlue: 0
- HueAdjustmentGreen: 0
- HueAdjustmentMagenta: 0
- HueAdjustmentOrange: 0
- HueAdjustmentPurple: 0
- HueAdjustmentRed: 0
- HueAdjustmentYellow: 0
- LensManualDistortionAmount: 0
- LensProfileEnable: 0
- LensProfileSetup: LensDefaults
- LuminanceAdjustmentAqua: 0
- LuminanceAdjustmentBlue: 0
- LuminanceAdjustmentGreen: 0
- LuminanceAdjustmentMagenta: 0
- LuminanceAdjustmentOrange: 0
- LuminanceAdjustmentPurple: 0
- LuminanceAdjustmentRed: 0
- LuminanceAdjustmentYellow: 0
- LuminanceSmoothing: 0
- ParametricDarks: 0
- ParametricHighlightSplit: 75
- ParametricHighlights: 0
- ParametricLights: 0
- ParametricMidtoneSplit: 50
- ParametricShadowSplit: 25
- ParametricShadows: 0
- PerspectiveAspect: 0
- PerspectiveHorizontal: 0
- PerspectiveRotate: 0.0
- PerspectiveScale: 100
- PerspectiveUpright: 0
- PerspectiveVertical: 0
- PostCropVignetteAmount: 0
- ProcessVersion: 6.7
- RawFileName: P1190990.RW2
- RedHue: 0
- RedSaturation: 0
- Saturation: 0
- SaturationAdjustmentAqua: 0
- SaturationAdjustmentBlue: 0
- SaturationAdjustmentGreen: 0
- SaturationAdjustmentMagenta: 0
- SaturationAdjustmentOrange: 0
- SaturationAdjustmentPurple: 0
- SaturationAdjustmentRed: 0
- SaturationAdjustmentYellow: 0
- ShadowTint: 0
- Shadows2012: 0
- SharpenDetail: 25
- SharpenEdgeMasking: 0
- SharpenRadius: +1.0
- Sharpness: 25
- SplitToningBalance: 0
- SplitToningHighlightHue: 0
- SplitToningHighlightSaturation: 0
- SplitToningShadowHue: 0
- SplitToningShadowSaturation: 0
- Tint: +8
- ToneCurve: 0, 0, 32, 22, 64, 56, 128, 128, 192, 196, 255, 255
- ToneCurveBlue: 0, 0, 255, 255
- ToneCurveGreen: 0, 0, 255, 255
- ToneCurveName: Medium Contrast
- ToneCurveName2012: Linear
- ToneCurvePV2012: 0, 0, 255, 255
- ToneCurvePV2012Blue: 0, 0, 255, 255
- ToneCurvePV2012Green: 0, 0, 255, 255
- ToneCurvePV2012Red: 0, 0, 255, 255
- ToneCurveRed: 0, 0, 255, 255
- Version: 8.4
- Vibrance: 0
- VignetteAmount: 0
- WhiteBalance: Custom
- Whites2012: +37
- XMP-dc
- XMP-xmp
- ModifyDate: 2016:05:08 01:06:51+03:00
- Rating: 0
- XMP-xmpMM
- Просмотров: 722
- Рейтинг: голосов еще нет
- Отзывов: отключены