- Раздел: Другое, разное
- Дата съёмки: неизвестно
- Дата загрузки фото: 29.05.2016 13:30
- Оригинальная фотография: 4003 x 5670 (4,7 Мб)
- Технические характеристики:
- Фотоаппарат: Sony DSLR-A850
- Выдержка: 1/2500
- Гиперфокальное расстояние: inf m
- Диафрагма: 2,2
- Светочувствительность: 400
- Фокусное расстояние: 135,0 mm (35 mm equivalent: 135,0 mm)
- Полный EXIF
- Adobe
- ColorTransform: YCbCr
- Composite
- Aperture: 2,2
- CircleOfConfusion: 0,030 mm
- FOV: 15,0 deg
- FocalLength35efl: 135,0 mm (35 mm equivalent: 135,0 mm)
- HyperfocalDistance: inf m
- LensID: Carl Zeiss Sonnar T* 135mm F1.8 ZA (SAL135F18Z)
- ScaleFactor35efl: 1,0
- ShutterSpeed: 1/2500
- ExifIFD
- ApertureValue: 2,2
- BrightnessValue: 6,62
- ColorSpace: Uncalibrated
- Contrast: Normal
- CreateDate: 2016:05:28 19:04:27
- CustomRendered: Normal
- DateTimeOriginal: 2016:05:28 19:04:27
- ExifImageHeight: 5670
- ExifImageWidth: 4003
- ExposureCompensation: 0
- ExposureMode: Auto
- ExposureProgram: Aperture-priority AE
- ExposureTime: 1/2500
- FNumber: 2,2
- Flash: Off, Did not fire
- FocalLength: 135,0 mm
- FocalLengthIn35mmFormat: 135 mm
- ISO: 400
- LensInfo: 135mm f/1.8
- LensModel: 135mm F1.8 ZA
- LightSource: Unknown
- MaxApertureValue: 1,8
- MeteringMode: Multi-segment
- Saturation: High
- SceneCaptureType: Standard
- SceneType: Directly photographed
- Sharpness: Hard
- ShutterSpeedValue: 1/2500
- WhiteBalance: Auto
- ICC-header
- IFD0
- ImageDescription: SONY DSC
- Make: SONY
- Model: DSLR-A850
- ModifyDate: 2016:05:29 11:38:04
- Orientation: Horizontal (normal)
- IFD1
- IPTC
- Caption-Abstract: SONY DSC
- DateCreated: 2016:05:28
- System
- XMP-aux
- Lens: 135mm F1.8 ZA
- LensID: 47
- XMP-crs
- AlreadyApplied: True
- AutoLateralCA: 0
- Blacks2012: 0
- BlueHue: 0
- BlueSaturation: 0
- Brightness: +28
- Clarity: 0
- Clarity2012: 0
- ColorNoiseReduction: 25
- ColorNoiseReductionDetail: 50
- ColorTemperature: 5300
- Contrast: +49
- Contrast2012: 0
- ConvertToGrayscale: False
- CropAngle: -0.280859
- CropBottom: 0.992701
- CropConstrainToWarp: 1
- CropLeft: 0.002028
- CropRight: 0.997972
- CropTop: 0.007299
- Defringe: 0
- Exposure: 0.00
- Exposure2012: 0.00
- FillLight: 10
- GrainAmount: 0
- GreenHue: 0
- GreenSaturation: 0
- HasCrop: True
- HasSettings: True
- HighlightRecovery: 24
- Highlights2012: 0
- HueAdjustmentAqua: 0
- HueAdjustmentBlue: 0
- HueAdjustmentGreen: 0
- HueAdjustmentMagenta: 0
- HueAdjustmentOrange: 0
- HueAdjustmentPurple: 0
- HueAdjustmentRed: 0
- HueAdjustmentYellow: 0
- LensManualDistortionAmount: 0
- LensProfileEnable: 0
- LensProfileSetup: LensDefaults
- LuminanceAdjustmentAqua: 0
- LuminanceAdjustmentBlue: 0
- LuminanceAdjustmentGreen: 0
- LuminanceAdjustmentMagenta: 0
- LuminanceAdjustmentOrange: -8
- LuminanceAdjustmentPurple: 0
- LuminanceAdjustmentRed: -10
- LuminanceAdjustmentYellow: 0
- LuminanceSmoothing: 0
- ParametricDarks: 0
- ParametricHighlightSplit: 75
- ParametricHighlights: 0
- ParametricLights: 0
- ParametricMidtoneSplit: 50
- ParametricShadowSplit: 25
- ParametricShadows: 0
- PerspectiveHorizontal: 0
- PerspectiveRotate: 0.0
- PerspectiveScale: 100
- PerspectiveVertical: 0
- PostCropVignetteAmount: 0
- ProcessVersion: 5.7
- RawFileName: DSC09687.ARW
- RedHue: 0
- RedSaturation: 0
- Saturation: +38
- SaturationAdjustmentAqua: -28
- SaturationAdjustmentBlue: -34
- SaturationAdjustmentGreen: +10
- SaturationAdjustmentMagenta: -13
- SaturationAdjustmentOrange: -11
- SaturationAdjustmentPurple: -28
- SaturationAdjustmentRed: -21
- SaturationAdjustmentYellow: +13
- ShadowTint: 0
- Shadows: 8
- Shadows2012: 0
- SharpenDetail: 25
- SharpenEdgeMasking: 0
- SharpenRadius: +1.0
- Sharpness: 25
- SplitToningBalance: 0
- SplitToningHighlightHue: 0
- SplitToningHighlightSaturation: 0
- SplitToningShadowHue: 0
- SplitToningShadowSaturation: 0
- Tint: +25
- ToneCurve: 0, 0, 32, 22, 64, 56, 128, 128, 192, 196, 255, 255
- ToneCurveBlue: 0, 0, 255, 255
- ToneCurveGreen: 0, 0, 255, 255
- ToneCurveName: Medium Contrast
- ToneCurveName2012: Linear
- ToneCurvePV2012: 0, 0, 255, 255
- ToneCurvePV2012Blue: 0, 0, 255, 255
- ToneCurvePV2012Green: 0, 0, 255, 255
- ToneCurvePV2012Red: 0, 0, 255, 255
- ToneCurveRed: 0, 0, 255, 255
- Version: 6.7
- Vibrance: +31
- VignetteAmount: 0
- Whites2012: 0
- XMP-dc
- Description: SONY DSC
- Format: image/jpeg
- XMP-xmp
- CreatorTool: DSLR-A850 v1.00
- ModifyDate: 2016:05:29 11:38:04+03:00
- Rating: 0
- XMP-xmpMM
- Просмотров: 262
- Рейтинг: голосов еще нет
- Отзывов: 0