- Раздел: Другое, разное
- Дата съёмки: 30.07.2007 20:03
- Дата загрузки фото: 30.07.2007 23:05
- Оригинальная фотография: 1595 x 1063 (1,6 Мб)
- Технические характеристики:
- Фотоаппарат: FujiFilm FinePix S6500fd
- Выдержка: 1/45
- Гиперфокальное расстояние: 3,31 m
- Диафрагма: 3,1
- Светочувствительность: 100
- Фокусное расстояние: 8,1mm (35mm эквивалент: 38,0mm)
- Полный EXIF
- ColorTransform: YCbCr
- Composite
- Aperture: 3,1
- CircleOfConfusion: 0,006 mm
- EV: 8,8
- FocalLength35efl: 8,1mm (35mm equivalent: 38,0mm)
- HyperfocalDistance: 3,31 m
- ScaleFactor35efl: 4,7
- ShutterSpeed: 1/45
- ExifIFD
- ApertureValue: 3,1
- BrightnessValue: 3,39
- ColorSpace: sRGB
- CreateDate: 2007:07:30 12:45:20
- CustomRendered: Normal
- DateTimeOriginal: 2007:07:30 12:45:20
- ExifImageLength: 1063
- ExifImageWidth: 1595
- ExposureCompensation: 0
- ExposureMode: Auto
- ExposureProgram: Program AE
- ExposureTime: 1/45
- FNumber: 3,1
- Flash: On
- FocalLength: 8,1mm
- ISO: 100
- LightSource: Unknown (0)
- MaxApertureValue: 2,8
- MeteringMode: Average
- SceneCaptureType: Standard
- SceneType: Directly photographed
- SensingMethod: One-chip color area
- Sharpness: Normal
- ShutterSpeedValue: 1/45
- WhiteBalance: Auto
- ICC-header
- ICC-meas
- ICC-view
- IFD0
- Make: FUJIFILM
- Model: FinePix S6500fd
- ModifyDate: 2007:07:30 20:03:50
- Orientation: Horizontal (normal)
- TimeZoneOffset: 4 1
- IFD1
- IPTC
- XMP-crs
- AlreadyApplied: True
- BlueHue: 0
- BlueSaturation: 0
- Brightness: +25
- CameraProfile: ACR 3.6
- ChromaticAberrationB: 0
- ChromaticAberrationR: 0
- Clarity: 0
- ColorNoiseReduction: 25
- Contrast: +25
- ConvertToGrayscale: False
- CropAngle: 0
- CropBottom: 0.789326
- CropHeight: 4
- CropLeft: 0
- CropRight: 0.789326
- CropTop: 0
- CropUnit: 3
- CropWidth: 3
- Defringe: 0
- Exposure: +0.25
- FillLight: 0
- GreenHue: 0
- GreenSaturation: 0
- HasCrop: True
- HasSettings: True
- HighlightRecovery: 21
- HueAdjustmentAqua: 0
- HueAdjustmentBlue: 0
- HueAdjustmentGreen: 0
- HueAdjustmentMagenta: 0
- HueAdjustmentOrange: 0
- HueAdjustmentPurple: 0
- HueAdjustmentRed: 0
- HueAdjustmentYellow: 0
- LuminanceAdjustmentAqua: 0
- LuminanceAdjustmentBlue: 0
- LuminanceAdjustmentGreen: 0
- LuminanceAdjustmentMagenta: 0
- LuminanceAdjustmentOrange: 0
- LuminanceAdjustmentPurple: 0
- LuminanceAdjustmentRed: 0
- LuminanceAdjustmentYellow: 0
- LuminanceSmoothing: 0
- ParametricDarks: 0
- ParametricHighlightSplit: 75
- ParametricHighlights: 0
- ParametricLights: 0
- ParametricMidtoneSplit: 50
- ParametricShadowSplit: 25
- ParametricShadows: 0
- RawFileName: DSCF2977.RAF
- RedHue: 0
- RedSaturation: 0
- Saturation: 0
- SaturationAdjustmentAqua: 0
- SaturationAdjustmentBlue: 0
- SaturationAdjustmentGreen: 0
- SaturationAdjustmentMagenta: 0
- SaturationAdjustmentOrange: 0
- SaturationAdjustmentPurple: 0
- SaturationAdjustmentRed: 0
- SaturationAdjustmentYellow: 0
- ShadowTint: 0
- Shadows: 0
- SharpenDetail: 25
- SharpenEdgeMasking: 0
- SharpenRadius: +1.0
- Sharpness: 25
- SplitToningBalance: 0
- SplitToningHighlightHue: 0
- SplitToningHighlightSaturation: 0
- SplitToningShadowHue: 0
- SplitToningShadowSaturation: 0
- Temperature: 5150
- Tint: +10
- ToneCurve: 0, 0, 32, 22, 64, 56, 128, 128, 192, 196, 255, 255
- ToneCurveName: Medium Contrast
- Version: 4.1
- Vibrance: 0
- VignetteAmount: 0
- WhiteBalance: Custom
- XMP-dc
- XMP-exif
- DateTimeDigitized: 2007:07:30 12:45:20+04:00
- DateTimeOriginal: 2007:07:30 12:45:20+04:00
- ExifImageHeight: 1063
- FlashFired: True
- FlashFunction: False
- FlashMode: On
- FlashRedEyeMode: False
- FlashReturn: No return detection
- SubjectDistanceRange: Unknown
- XMP-tiff
- ImageHeight: 2248
- ImageWidth: 1686
- XMP-xmp
- CreateDate: 2007:07:30 20:03:50+01:00
- ModifyDate: 2007:07:30 20:03:50+01:00
- XMP-xmpMM
- DerivedFrom:
- Просмотров: 408
- Рейтинг: голосов еще нет
- Отзывов: 0