- Раздел: Природа
- Дата съёмки: 17.10.2006 16:21
- Дата загрузки фото: 17.10.2016 12:21
- Оригинальная фотография: 3451 x 2412 (5,9 Мб)
- Технические характеристики:
- Фотоаппарат: FujiFilm FinePix S9500
- Выдержка: 1/400
- Гиперфокальное расстояние: inf m
- Диафрагма: 3,7
- Светочувствительность: 100
- Фокусное расстояние: 17,0 mm (35 mm equivalent: 34,0 mm)
- Полный EXIF
- Adobe
- ColorTransform: YCbCr
- Composite
- Aperture: 3,7
- CircleOfConfusion: 0,014 mm
- FOV: 55,0 deg
- FocalLength35efl: 17,0 mm (35 mm equivalent: 34,0 mm)
- HyperfocalDistance: inf m
- ScaleFactor35efl: 2,1
- ShutterSpeed: 1/400
- ExifIFD
- ApertureValue: 3,7
- BrightnessValue: 7,38
- ColorSpace: sRGB
- Contrast: Normal
- CreateDate: 2006:10:17 16:21:14
- CustomRendered: Normal
- DateTimeOriginal: 2006:10:17 16:21:14
- ExposureCompensation: 0
- ExposureMode: Auto
- ExposureProgram: Program AE
- ExposureTime: 1/400
- FNumber: 3,7
- Flash: Off, Did not fire
- FocalLength: 17,0 mm
- ISO: 100
- LightSource: Unknown
- MaxApertureValue: 2,8
- MeteringMode: Spot
- Saturation: Normal
- SceneCaptureType: Standard
- SceneType: Directly photographed
- SensingMethod: One-chip color area
- Sharpness: Normal
- ShutterSpeedValue: 1/400
- SubjectDistanceRange: Unknown
- WhiteBalance: Auto
- ICC-header
- ICC-meas
- ICC-view
- IFD0
- Make: FUJIFILM
- Model: FinePix S9500
- ModifyDate: 2016:10:17 12:21:33
- IFD1
- IPTC
- DateCreated: 2006:10:17
- System
- XMP-crs
- AlreadyApplied: True
- AutoLateralCA: 1
- AutoWhiteVersion: 134348800
- Blacks2012: -20
- BlueHue: 0
- BlueSaturation: 0
- Clarity2012: +7
- ColorNoiseReduction: 25
- ColorNoiseReductionDetail: 50
- ColorNoiseReductionSmoothness: 50
- ColorTemperature: 5050
- Contrast2012: +20
- ConvertToGrayscale: False
- CropAngle: 0.462005
- CropBottom: 0.997265
- CropConstrainToWarp: 0
- CropLeft: 0.010637
- CropRight: 0.921976
- CropTop: 0.002327
- DefringeGreenAmount: 0
- DefringeGreenHueHi: 60
- DefringeGreenHueLo: 40
- DefringePurpleAmount: 0
- DefringePurpleHueHi: 70
- DefringePurpleHueLo: 30
- Dehaze: 0
- Exposure2012: +1.93
- GrainAmount: 0
- GreenHue: 0
- GreenSaturation: 0
- HasCrop: True
- HasSettings: True
- Highlights2012: -100
- HueAdjustmentAqua: 0
- HueAdjustmentBlue: 0
- HueAdjustmentGreen: 0
- HueAdjustmentMagenta: 0
- HueAdjustmentOrange: 0
- HueAdjustmentPurple: 0
- HueAdjustmentRed: 0
- HueAdjustmentYellow: 0
- LensManualDistortionAmount: 0
- LensProfileEnable: 0
- LensProfileSetup: LensDefaults
- LuminanceAdjustmentAqua: 0
- LuminanceAdjustmentBlue: -11
- LuminanceAdjustmentGreen: +15
- LuminanceAdjustmentMagenta: 0
- LuminanceAdjustmentOrange: 0
- LuminanceAdjustmentPurple: 0
- LuminanceAdjustmentRed: 0
- LuminanceAdjustmentYellow: 0
- LuminanceNoiseReductionContrast: 0
- LuminanceNoiseReductionDetail: 50
- LuminanceSmoothing: 18
- ParametricDarks: 0
- ParametricHighlightSplit: 75
- ParametricHighlights: 0
- ParametricLights: 0
- ParametricMidtoneSplit: 50
- ParametricShadowSplit: 25
- ParametricShadows: 0
- PerspectiveAspect: 0
- PerspectiveHorizontal: 0
- PerspectiveRotate: 0.0
- PerspectiveScale: 100
- PerspectiveUpright: 0
- PerspectiveVertical: 0
- PerspectiveX: 0.00
- PerspectiveY: 0.00
- PostCropVignetteAmount: 0
- ProcessVersion: 6.7
- RedHue: 0
- RedSaturation: 0
- Saturation: +23
- SaturationAdjustmentAqua: 0
- SaturationAdjustmentBlue: +21
- SaturationAdjustmentGreen: +21
- SaturationAdjustmentMagenta: 0
- SaturationAdjustmentOrange: +23
- SaturationAdjustmentPurple: 0
- SaturationAdjustmentRed: 0
- SaturationAdjustmentYellow: +21
- ShadowTint: 0
- Shadows2012: +100
- SharpenDetail: 25
- SharpenEdgeMasking: 0
- SharpenRadius: +1.0
- Sharpness: 55
- SplitToningBalance: 0
- SplitToningHighlightHue: 0
- SplitToningHighlightSaturation: 0
- SplitToningShadowHue: 0
- SplitToningShadowSaturation: 0
- Tint: +2
- ToneCurve: 0, 0, 255, 255
- ToneCurveBlue: 0, 0, 255, 255
- ToneCurveGreen: 0, 0, 255, 255
- ToneCurveName: Linear
- ToneCurveName2012: Linear
- ToneCurvePV2012: 0, 0, 255, 255
- ToneCurvePV2012Blue: 0, 0, 255, 255
- ToneCurvePV2012Green: 0, 0, 255, 255
- ToneCurvePV2012Red: 0, 0, 255, 255
- ToneCurveRed: 0, 0, 255, 255
- ToneMapStrength: 0
- Version: 9.6
- Vibrance: 0
- VignetteAmount: 0
- WhiteBalance: As Shot
- Whites2012: 0
- XMP-dc
- XMP-xmp
- ModifyDate: 2016:10:17 12:21:33+03:00
- XMP-xmpMM
- Просмотров: 323
- Рейтинг: голосов еще нет
- Отзывов: 0