- Раздел: Тесты фототехники
- Дата съёмки: неизвестно
- Дата загрузки фото: 09.01.2017 21:41
- Оригинальная фотография: 6000 x 4000 (6,9 Мб)
- Технические характеристики:
- Фотоаппарат: FujiFilm X-Pro2
- Выдержка: 1/60
- Гиперфокальное расстояние: inf m
- Диафрагма: 4,7
- Светочувствительность: 3200
- Фокусное расстояние: 49,0 mm (35 mm equivalent: 49,0 mm)
- Экспокоррекция: +0,67
- Полный EXIF
- Adobe
- ColorTransform: YCbCr
- Composite
- Aperture: 4,7
- CircleOfConfusion: 0,020 mm
- FOV: 40,0 deg
- FocalLength35efl: 49,0 mm (35 mm equivalent: 49,0 mm)
- HyperfocalDistance: inf m
- ScaleFactor35efl: 1,5
- ShutterSpeed: 1/60
- ExifIFD
- ApertureValue: 4,7
- BrightnessValue: -1,19
- ColorSpace: sRGB
- CreateDate: 2016:11:20 14:31:11
- CustomRendered: Normal
- DateTimeOriginal: 2016:11:20 14:31:11
- ExifImageHeight: 4000
- ExifImageWidth: 6000
- ExposureCompensation: +0,67
- ExposureMode: Auto
- ExposureProgram: Shutter speed priority AE
- ExposureTime: 1/60
- FNumber: 4,7
- Flash: No Flash
- FocalLength: 49,4 mm
- FocalLengthIn35mmFormat: 74 mm
- ISO: 3200
- LensInfo: 18-135mm f/3.5-5.6
- LensMake: FUJIFILM
- LensModel: XF18-135mmF3.5-5.6R LM OIS WR
- LensSerialNumber: 42A00690
- LightSource: Unknown
- MaxApertureValue: 3,5
- MeteringMode: Multi-segment
- SceneCaptureType: Standard
- SceneType: Directly photographed
- SensingMethod: One-chip color area
- SensitivityType: Standard Output Sensitivity
- Sharpness: Hard
- ShutterSpeedValue: 1/60
- SubjectDistanceRange: Unknown
- WhiteBalance: Manual
- ICC-header
- ICC-meas
- ICC-view
- IFD0
- Copyright: фото Саша Мановцева
- Make: FUJIFILM
- Model: X-Pro2
- ModifyDate: 2016:12:11 12:47:03
- Orientation: Horizontal (normal)
- IFD1
- IPTC
- CopyrightNotice: фото Саша Мановцева
- DateCreated: 2016:11:20
- System
- XMP-aux
- DistortionCorrectionAlreadyApplied: True
- LateralChromaticAberrationCorrectionAlreadyApplied: True
- Lens: XF18-135mmF3.5-5.6R LM OIS WR
- VignetteCorrectionAlreadyApplied: True
- XMP-crs
- AlreadyApplied: True
- AutoLateralCA: 1
- AutoWhiteVersion: 134348800
- Blacks2012: 0
- BlueHue: 0
- BlueSaturation: 0
- Clarity2012: +1
- ColorNoiseReduction: 25
- ColorNoiseReductionDetail: 50
- ColorNoiseReductionSmoothness: 50
- ColorTemperature: 3150
- Contrast2012: 0
- ConvertToGrayscale: False
- DefringeGreenAmount: 0
- DefringeGreenHueHi: 60
- DefringeGreenHueLo: 40
- DefringePurpleAmount: 0
- DefringePurpleHueHi: 70
- DefringePurpleHueLo: 30
- Dehaze: 0
- Exposure2012: +0.10
- GrainAmount: 0
- GreenHue: 0
- GreenSaturation: 0
- HasCrop: False
- HasSettings: True
- Highlights2012: 0
- HueAdjustmentAqua: 0
- HueAdjustmentBlue: +42
- HueAdjustmentGreen: 0
- HueAdjustmentMagenta: 0
- HueAdjustmentOrange: -20
- HueAdjustmentPurple: 0
- HueAdjustmentRed: -5
- HueAdjustmentYellow: -67
- LensManualDistortionAmount: 0
- LensProfileEnable: 0
- LensProfileSetup: LensDefaults
- LuminanceAdjustmentAqua: 0
- LuminanceAdjustmentBlue: 0
- LuminanceAdjustmentGreen: 0
- LuminanceAdjustmentMagenta: 0
- LuminanceAdjustmentOrange: +81
- LuminanceAdjustmentPurple: 0
- LuminanceAdjustmentRed: -8
- LuminanceAdjustmentYellow: +39
- LuminanceSmoothing: 0
- ParametricDarks: 0
- ParametricHighlightSplit: 75
- ParametricHighlights: 0
- ParametricLights: 0
- ParametricMidtoneSplit: 50
- ParametricShadowSplit: 25
- ParametricShadows: 0
- PerspectiveAspect: 0
- PerspectiveHorizontal: 0
- PerspectiveRotate: 0.0
- PerspectiveScale: 100
- PerspectiveUpright: 0
- PerspectiveVertical: 0
- PerspectiveX: 0.00
- PerspectiveY: 0.00
- PostCropVignetteAmount: 0
- ProcessVersion: 6.7
- RawFileName: DSCF1627.RAF
- RedHue: 0
- RedSaturation: 0
- Saturation: 0
- SaturationAdjustmentAqua: 0
- SaturationAdjustmentBlue: +33
- SaturationAdjustmentGreen: +37
- SaturationAdjustmentMagenta: 0
- SaturationAdjustmentOrange: +5
- SaturationAdjustmentPurple: 0
- SaturationAdjustmentRed: 0
- SaturationAdjustmentYellow: +15
- ShadowTint: 0
- Shadows2012: +14
- SharpenDetail: 25
- SharpenEdgeMasking: 0
- SharpenRadius: +1.0
- Sharpness: 25
- SplitToningBalance: 0
- SplitToningHighlightHue: 0
- SplitToningHighlightSaturation: 0
- SplitToningShadowHue: 0
- SplitToningShadowSaturation: 0
- Tint: +4
- ToneCurve: 0, 0, 32, 22, 64, 56, 128, 128, 192, 196, 255, 255
- ToneCurveBlue: 0, 0, 255, 255
- ToneCurveGreen: 0, 0, 255, 255
- ToneCurveName: Medium Contrast
- ToneCurveName2012: Linear
- ToneCurvePV2012: 0, 0, 255, 255
- ToneCurvePV2012Blue: 0, 0, 255, 255
- ToneCurvePV2012Green: 0, 0, 255, 255
- ToneCurvePV2012Red: 0, 0, 255, 255
- ToneCurveRed: 0, 0, 255, 255
- ToneMapStrength: 0
- Version: 9.7
- Vibrance: 0
- VignetteAmount: 0
- WhiteBalance: Custom
- Whites2012: 0
- XMP-dc
- Format: image/jpeg
- Rights: фото Саша Мановцева
- XMP-xmp
- ModifyDate: 2016:12:11 12:47:03+03:00
- Rating: 0
- XMP-xmpMM
- XMP-xmpRights
- Просмотров: 626
- Рейтинг: голосов еще нет
- Отзывов: отключены