- NYC 12-14.04.2017 253.jpg
- NYC
- :
- : 22.04.2017 11:50
- : 4000 x 6000 (21,0 )
- : Nikon D5500
- : 0,0
- : inf m
- : 7,1
- : 100
- : 11,0 mm (35 mm equivalent: 11,0 mm)
- EXIF
- Adobe
- ColorTransform: YCbCr
- Composite
- Aperture: 7,1
- CircleOfConfusion: 0,021 mm
- FOV: 117,0 deg
- FocalLength35efl: 11,0 mm (35 mm equivalent: 11,0 mm)
- HyperfocalDistance: inf m
- LensID: Tokina AT-X 116 PRO DX II (AF 11-16mm f/2.8)
- Megapixels: 24,0
- ScaleFactor35efl: 1,5
- ShutterSpeed: 0,0
- ExifIFD
- ApertureValue: 5,7
- CFAPattern: [Red,Green][Green,Blue]
- Contrast: Normal
- CreateDate: 2017:04:13 15:04:28
- CustomRendered: Normal
- DateTimeOriginal: 2017:04:13 15:04:28
- DigitalZoomRatio: 1
- ExposureCompensation: 0
- ExposureMode: Auto
- ExposureProgram: Aperture-priority AE
- ExposureTime: 0,0
- FNumber: 7,1
- Flash: Off, Did not fire
- FocalLength: 11,0 mm
- FocalLengthIn35mmFormat: 16 mm
- GainControl: None
- ISO: 100
- LensInfo: 11-16mm f/2.8
- LensModel: 11.0-16.0 mm f/2.8
- LightSource: Unknown
- MaxApertureValue: 2,8
- MeteringMode: Center-weighted average
- Saturation: Normal
- SceneCaptureType: Standard
- SceneType: Directly photographed
- SensingMethod: One-chip color area
- SensitivityType: Recommended Exposure Index
- SerialNumber: 4310214
- Sharpness: Normal
- ShutterSpeedValue: 1/256
- SubjectDistanceRange: Unknown
- WhiteBalance: Auto
- ICC-header
- IFD0
- Make: NIKON CORPORATION
- Model: NIKON D5500
- ModifyDate: 2017:04:20 15:47:30
- IFD1
- IPTC
- DateCreated: 2017:04:13
- System
- XMP-aux
- ApproximateFocusDistance: 2
- ImageNumber: 7569
- Lens: 11.0-16.0 mm f/2.8
- LensID: 122
- XMP-crs
- AlreadyApplied: True
- AutoLateralCA: 0
- Blacks2012: +100
- BlueHue: 0
- BlueSaturation: 0
- Clarity2012: +92
- ColorNoiseReduction: 25
- ColorNoiseReductionDetail: 50
- ColorTemperature: 4850
- Contrast2012: -100
- ConvertToGrayscale: False
- CropAngle: 0
- CropBottom: 1
- CropConstrainToWarp: 1
- CropLeft: 0
- CropRight: 1
- CropTop: 0
- DefringeGreenAmount: 0
- DefringeGreenHueHi: 60
- DefringeGreenHueLo: 40
- DefringePurpleAmount: 0
- DefringePurpleHueHi: 70
- DefringePurpleHueLo: 30
- Exposure2012: -0.55
- GrainAmount: 0
- GreenHue: 0
- GreenSaturation: 0
- HasCrop: True
- HasSettings: True
- Highlights2012: -100
- HueAdjustmentAqua: 0
- HueAdjustmentBlue: 0
- HueAdjustmentGreen: 0
- HueAdjustmentMagenta: 0
- HueAdjustmentOrange: 0
- HueAdjustmentPurple: 0
- HueAdjustmentRed: 0
- HueAdjustmentYellow: 0
- LensManualDistortionAmount: 0
- LensProfileEnable: 0
- LensProfileSetup: LensDefaults
- LuminanceAdjustmentAqua: 0
- LuminanceAdjustmentBlue: 0
- LuminanceAdjustmentGreen: 0
- LuminanceAdjustmentMagenta: 0
- LuminanceAdjustmentOrange: 0
- LuminanceAdjustmentPurple: 0
- LuminanceAdjustmentRed: 0
- LuminanceAdjustmentYellow: 0
- LuminanceSmoothing: 0
- ParametricDarks: 0
- ParametricHighlightSplit: 75
- ParametricHighlights: 0
- ParametricLights: 0
- ParametricMidtoneSplit: 50
- ParametricShadowSplit: 25
- ParametricShadows: 0
- PerspectiveAspect: 0
- PerspectiveHorizontal: 0
- PerspectiveRotate: 0.0
- PerspectiveScale: 100
- PerspectiveUpright: 0
- PerspectiveVertical: 0
- PostCropVignetteAmount: 0
- ProcessVersion: 6.7
- RawFileName: Нью-Йорк 12-14.04.2017 253.dng
- RedHue: 0
- RedSaturation: 0
- Saturation: +30
- SaturationAdjustmentAqua: 0
- SaturationAdjustmentBlue: 0
- SaturationAdjustmentGreen: 0
- SaturationAdjustmentMagenta: 0
- SaturationAdjustmentOrange: 0
- SaturationAdjustmentPurple: 0
- SaturationAdjustmentRed: 0
- SaturationAdjustmentYellow: 0
- ShadowTint: 0
- Shadows2012: +97
- SharpenDetail: 35
- SharpenEdgeMasking: 2
- SharpenRadius: +2.0
- Sharpness: 107
- SplitToningBalance: 0
- SplitToningHighlightHue: 0
- SplitToningHighlightSaturation: 0
- SplitToningShadowHue: 0
- SplitToningShadowSaturation: 0
- Tint: 0
- ToneCurveName2012: Linear
- ToneCurvePV2012: 0, 0, 255, 255
- ToneCurvePV2012Blue: 0, 0, 255, 255
- ToneCurvePV2012Green: 0, 0, 255, 255
- ToneCurvePV2012Red: 0, 0, 255, 255
- Version: 8.1
- Vibrance: +23
- VignetteAmount: 0
- WhiteBalance: As Shot
- Whites2012: +72
- XMP-dc
- XMP-xmp
- CreateDate: 2017:04:13 15:04:28.22
- ModifyDate: 2017:04:20 15:47:30+03:00
- XMP-xmpMM
HTML ( ):
BBCode ( ):
:
![](img/title-line.gif) |
![](img/title-shadow.gif) | |