| » Участники » Leon667 » Automobile » APL-0018 копия.jpg |
Уважаемые друзья и участники проекта iXBT.photo! К сожалению, 1 марта 2026 года проект iXBT.photo прекратит свою работу и будет закрыт. Мы высоко ценим ваше участие и тот вклад, который вы внесли в развитие нашего сообщества. Пожалуйста, не забудьте сохранить ваши фотографии до этой даты.
С уважением, команда iXBT.com
| APL-0018 копия.jpg |
APL-0018 копия.jpg
- Раздел: Другое, разное
- Дата съёмки: неизвестно
- Дата загрузки фото: 22.05.2017 20:37
- Оригинальная фотография: 1920 x 1280 (1,7 Мб)
- Технические характеристики:
- Фотоаппарат: Canon EOS 5D Mark II
- Выдержка: 0,0
- Гиперфокальное расстояние: inf m
- Диафрагма: 4,0
- Светочувствительность: 100
- Фокусное расстояние: 105,0 mm
- Полный EXIF
- Adobe
- ColorTransform: YCbCr
- Composite
- Aperture: 4,0
- CircleOfConfusion: 0,031 mm
- DOF: inf (0,00 m - inf)
- FocalLength35efl: 105,0 mm
- HyperfocalDistance: inf m
- LensID: Canon EF 24-105mm f/4L IS
- Megapixels: 2,5
- ScaleFactor35efl: 1,0
- ShutterSpeed: 0,0
- ExifIFD
- ApertureValue: 4,0
- ColorSpace: sRGB
- CreateDate: 2017:05:21 12:39:59
- CustomRendered: Normal
- DateTimeOriginal: 2017:05:21 12:39:59
- ExifImageHeight: 1280
- ExifImageWidth: 1920
- ExposureCompensation: 0
- ExposureMode: Auto
- ExposureProgram: Aperture-priority AE
- ExposureTime: 0,0
- FNumber: 4,0
- Flash: Off, Did not fire
- FocalLength: 105,0 mm
- ISO: 100
- LensInfo: 24-105mm f/?
- LensModel: EF24-105mm f/4L IS USM
- MaxApertureValue: 4,0
- MeteringMode: Multi-segment
- SceneCaptureType: Standard
- SensitivityType: Unknown
- SerialNumber: 3331628136
- ShutterSpeedValue: 1/512
- SubjectDistance: 4294967295 m
- WhiteBalance: Auto
- ICC-header
- ICC-meas
- ICC-view
- IFD0
- Artist: Photographer: Kazarenko Andrey
- BitsPerSample: 8 8 8
- ImageHeight: 3744
- ImageWidth: 5616
- Make: Canon
- Model: Canon EOS 5D Mark II
- ModifyDate: 2017:05:21 23:48:00
- Orientation: Horizontal (normal)
- PhotometricInterpretation: RGB
- SamplesPerPixel: 3
- IFD1
- IPTC
- By-line: Photographer: Kazarenko Andrey
- DateCreated: 2017:05:21
- System
- XMP-aux
- ApproximateFocusDistance: 4294967295
- Firmware: 2.0.9
- FlashCompensation: 0
- ImageNumber: 0
- Lens: EF24-105mm f/4L IS USM
- LensID: 237
- XMP-crs
- AlreadyApplied: True
- BlueHue: 0
- BlueSaturation: 0
- Brightness: +50
- ChromaticAberrationB: 0
- ChromaticAberrationR: 0
- Clarity: 0
- ColorNoiseReduction: 25
- ColorNoiseReductionDetail: 50
- ColorTemperature: 4850
- Contrast: +25
- ConvertToGrayscale: False
- Defringe: 0
- Exposure: 0.00
- FillLight: 0
- GrainAmount: 0
- GreenHue: 0
- GreenSaturation: 0
- HasCrop: False
- HasSettings: True
- HighlightRecovery: 0
- HueAdjustmentAqua: 0
- HueAdjustmentBlue: 0
- HueAdjustmentGreen: 0
- HueAdjustmentMagenta: 0
- HueAdjustmentOrange: 0
- HueAdjustmentPurple: 0
- HueAdjustmentRed: 0
- HueAdjustmentYellow: 0
- LensManualDistortionAmount: 0
- LensProfileChromaticAberrationScale: 100
- LensProfileDistortionScale: 100
- LensProfileEnable: 1
- LensProfileFilename: Canon EOS-1Ds Mark III (Canon EF 24-105mm f4 L IS USM) - RAW.lcp
- LensProfileSetup: LensDefaults
- LensProfileVignettingScale: 100
- LuminanceAdjustmentAqua: 0
- LuminanceAdjustmentBlue: 0
- LuminanceAdjustmentGreen: 0
- LuminanceAdjustmentMagenta: 0
- LuminanceAdjustmentOrange: 0
- LuminanceAdjustmentPurple: 0
- LuminanceAdjustmentRed: 0
- LuminanceAdjustmentYellow: 0
- LuminanceSmoothing: 0
- ParametricDarks: 0
- ParametricHighlightSplit: 75
- ParametricHighlights: 0
- ParametricLights: 0
- ParametricMidtoneSplit: 50
- ParametricShadowSplit: 25
- ParametricShadows: 0
- PerspectiveHorizontal: 0
- PerspectiveRotate: 0.0
- PerspectiveScale: 100
- PerspectiveVertical: 0
- PostCropVignetteAmount: 0
- ProcessVersion: 5.7
- RedHue: 0
- RedSaturation: 0
- Saturation: +10
- SaturationAdjustmentAqua: 0
- SaturationAdjustmentBlue: 0
- SaturationAdjustmentGreen: 0
- SaturationAdjustmentMagenta: 0
- SaturationAdjustmentOrange: 0
- SaturationAdjustmentPurple: 0
- SaturationAdjustmentRed: 0
- SaturationAdjustmentYellow: 0
- ShadowTint: 0
- Shadows: 5
- SharpenDetail: 25
- SharpenEdgeMasking: 0
- SharpenRadius: +1.0
- Sharpness: 25
- SplitToningBalance: 0
- SplitToningHighlightHue: 0
- SplitToningHighlightSaturation: 0
- SplitToningShadowHue: 0
- SplitToningShadowSaturation: 0
- Tint: +4
- ToneCurve: 0, 0, 32, 22, 64, 56, 128, 128, 192, 196, 255, 255
- ToneCurveName: Medium Contrast
- Version: 6.3
- Vibrance: +10
- VignetteAmount: 0
- WhiteBalance: As Shot
- XMP-dc
- Creator: Photographer: Kazarenko Andrey
- Format: image/jpeg
- XMP-xmp
- CreateDate: 2017:05:21 12:39:59.37+04:00
- ModifyDate: 2017:05:21 23:48+04:00
- XMP-xmpMM
- Просмотров: 236
- Рейтинг: голосов еще нет
- Отзывов: 0
Получить код для блога
| Вставка фотографии в текущем разрешении |
Вставка миниатюры |
HTML (для вставки в блог):
BBCode (для вставки в форум):
Ссылка на фото:
Ссылка на миниатюру:
- Послать ссылку другу
| Комментарии к фотографии |