Лики Богоматери
Hasselblad XCD 45mm F3,5 при f/3,5; 1/60 c; ISO 3200.
- Раздел: Тесты фототехники
- Дата съёмки: неизвестно
- Дата загрузки фото: 06.07.2017 20:06
- Оригинальная фотография: 8272 x 6200 (34,3 Мб)
- Технические характеристики:
- Фотоаппарат: Hasselblad X1D
- Выдержка: 0,0
- Гиперфокальное расстояние: inf m
- Диафрагма: 3,5
- Светочувствительность: 3200
- Фокусное расстояние: 45,0 mm
- Полный EXIF
- Adobe
- ColorTransform: YCbCr
- Composite
- Aperture: 3,5
- CircleOfConfusion: 0,038 mm
- FocalLength35efl: 45,0 mm
- HyperfocalDistance: inf m
- Megapixels: 51,3
- ScaleFactor35efl: 0,8
- ShutterSpeed: 0,0
- ExifIFD
- ApertureValue: 2,8
- ColorSpace: Uncalibrated
- DateTimeOriginal: 2017:07:01 13:24:36
- ExifImageHeight: 6200
- ExifImageWidth: 8272
- ExposureProgram: Aperture-priority AE
- ExposureTime: 0,0
- FNumber: 3,5
- FocalLength: 45,0 mm
- ISO: 3200
- MeteringMode: Center-weighted average
- ShutterSpeedValue: 1/32
- ICC-header
- IFD0
- Copyright: Hasselblad X1D
- Make: Hasselblad
- Model: Hasselblad X1D
- ModifyDate: 2017:07:02 08:50:27
- Orientation: Horizontal (normal)
- IFD1
- IPTC
- CopyrightNotice: Hasselblad X1D
- DateCreated: 2017:07:01
- System
- XMP-aux
- VignetteCorrectionAlreadyApplied: True
- XMP-crs
- AlreadyApplied: True
- AutoLateralCA: 0
- AutoWhiteVersion: 134348800
- Blacks2012: +2
- BlueHue: 0
- BlueSaturation: 0
- CameraProfile: Camera Standard
- Clarity2012: +62
- ColorNoiseReduction: 25
- ColorNoiseReductionDetail: 50
- ColorNoiseReductionSmoothness: 50
- ColorTemperature: 3100
- Contrast2012: +53
- ConvertToGrayscale: False
- DefringeGreenAmount: 0
- DefringeGreenHueHi: 60
- DefringeGreenHueLo: 40
- DefringePurpleAmount: 0
- DefringePurpleHueHi: 70
- DefringePurpleHueLo: 30
- Dehaze: 0
- Exposure2012: -0.20
- GradientBasedCorrActive: true
- GradientBasedCorrAmount: 1.000000
- GradientBasedCorrBrightness: 0.000000
- GradientBasedCorrClarity: 0.000000
- GradientBasedCorrClarity2012: -0.080000
- GradientBasedCorrContrast: 0.000000
- GradientBasedCorrContrast2012: -0.100000
- GradientBasedCorrDefringe: 0.280000
- GradientBasedCorrExposure: 0.000000
- GradientBasedCorrExposure2012: -0.250000
- GradientBasedCorrHighlights2012: -0.320000
- GradientBasedCorrHue: 0.000000
- GradientBasedCorrLocalBlacks2012: 0.260000
- GradientBasedCorrLocalDehaze: 0.100000
- GradientBasedCorrLocalWhites2012: 0.130000
- GradientBasedCorrLuminanceNoise: 0.260000
- GradientBasedCorrMaskFullX: 0.175756
- GradientBasedCorrMaskFullY: 0.505956
- GradientBasedCorrMaskValue: 1.000000
- GradientBasedCorrMaskWhat: Mask/Gradient
- GradientBasedCorrMaskZeroX: 0.270817
- GradientBasedCorrMaskZeroY: 0.508823
- GradientBasedCorrMoire: 0.340000
- GradientBasedCorrSaturation: 0.000000
- GradientBasedCorrShadows2012: -0.480000
- GradientBasedCorrSharpness: 0.020000
- GradientBasedCorrTemperature: -0.410000
- GradientBasedCorrTint: -0.440000
- GradientBasedCorrWhat: Correction
- GrainAmount: 0
- GreenHue: 0
- GreenSaturation: 0
- HasCrop: False
- HasSettings: True
- Highlights2012: -70
- HueAdjustmentAqua: 0
- HueAdjustmentBlue: 0
- HueAdjustmentGreen: 0
- HueAdjustmentMagenta: 0
- HueAdjustmentOrange: 0
- HueAdjustmentPurple: 0
- HueAdjustmentRed: 0
- HueAdjustmentYellow: 0
- LensManualDistortionAmount: 0
- LensProfileEnable: 0
- LensProfileSetup: LensDefaults
- LuminanceAdjustmentAqua: 0
- LuminanceAdjustmentBlue: 0
- LuminanceAdjustmentGreen: 0
- LuminanceAdjustmentMagenta: 0
- LuminanceAdjustmentOrange: 0
- LuminanceAdjustmentPurple: 0
- LuminanceAdjustmentRed: 0
- LuminanceAdjustmentYellow: 0
- LuminanceSmoothing: 0
- ParametricDarks: 0
- ParametricHighlightSplit: 75
- ParametricHighlights: 0
- ParametricLights: 0
- ParametricMidtoneSplit: 50
- ParametricShadowSplit: 25
- ParametricShadows: 0
- PerspectiveAspect: 0
- PerspectiveHorizontal: 0
- PerspectiveRotate: 0.0
- PerspectiveScale: 106
- PerspectiveUpright: 4
- PerspectiveVertical: 0
- PerspectiveX: -3.00
- PerspectiveY: +1.00
- PostCropVignetteAmount: 0
- ProcessVersion: 6.7
- RawFileName: B1121007.3FR
- RedHue: 0
- RedSaturation: 0
- Saturation: +16
- SaturationAdjustmentAqua: 0
- SaturationAdjustmentBlue: 0
- SaturationAdjustmentGreen: 0
- SaturationAdjustmentMagenta: 0
- SaturationAdjustmentOrange: 0
- SaturationAdjustmentPurple: 0
- SaturationAdjustmentRed: 0
- SaturationAdjustmentYellow: 0
- ShadowTint: 0
- Shadows2012: 0
- SharpenDetail: 25
- SharpenEdgeMasking: 0
- SharpenRadius: +1.0
- Sharpness: 25
- SplitToningBalance: 0
- SplitToningHighlightHue: 0
- SplitToningHighlightSaturation: 0
- SplitToningShadowHue: 0
- SplitToningShadowSaturation: 0
- Tint: +26
- ToneCurve: 0, 0, 32, 22, 64, 56, 128, 128, 192, 196, 255, 255
- ToneCurveBlue: 0, 0, 255, 255
- ToneCurveGreen: 0, 0, 255, 255
- ToneCurveName: Medium Contrast
- ToneCurveName2012: Linear
- ToneCurvePV2012: 0, 0, 255, 255
- ToneCurvePV2012Blue: 0, 0, 255, 255
- ToneCurvePV2012Green: 0, 0, 255, 255
- ToneCurvePV2012Red: 0, 0, 255, 255
- ToneCurveRed: 0, 0, 255, 255
- ToneMapStrength: 0
- Version: 9.10
- Vibrance: +14
- VignetteAmount: +78
- VignetteMidpoint: 50
- WhiteBalance: Custom
- Whites2012: +18
- XMP-dc
- Format: image/jpeg
- Rights: Hasselblad X1D
- XMP-xmp
- CreateDate: 2017:07:01 13:24:36
- CreatorTool: v1.15.1-8369
- ModifyDate: 2017:07:02 08:50:27+03:00
- Rating: 0
- XMP-xmpMM
- Просмотров: 507
- Рейтинг: голосов еще нет
- Отзывов: отключены
Получить код для блога
Вставка фотографии в текущем разрешении |
Вставка миниатюры |
HTML (для вставки в блог):
BBCode (для вставки в форум):
Ссылка на фото:
Ссылка на миниатюру:
- Послать ссылку другу
Комментарии к фотографии |