- Раздел: Тесты фототехники
- Дата съёмки: неизвестно
- Дата загрузки фото: 06.07.2017 20:17
- Оригинальная фотография: 8272 x 6200 (7,6 Мб)
- Технические характеристики:
- Фотоаппарат: Hasselblad X1D
- Выдержка: 3,0
- Гиперфокальное расстояние: inf m
- Диафрагма: 11,0
- Светочувствительность: 100
- Фокусное расстояние: 90,0 mm
- Полный EXIF
- Adobe
- ColorTransform: YCbCr
- Composite
- Aperture: 11,0
- CircleOfConfusion: 0,038 mm
- FocalLength35efl: 90,0 mm
- HyperfocalDistance: inf m
- LightValue: 5,3
- Megapixels: 51,3
- ScaleFactor35efl: 0,8
- ShutterSpeed: 3,0
- ExifIFD
- ApertureValue: 8,0
- ColorSpace: Uncalibrated
- DateTimeOriginal: 2017:06:19 03:29:00
- ExifImageHeight: 6200
- ExifImageWidth: 8272
- ExposureProgram: Aperture-priority AE
- ExposureTime: 3,0
- FNumber: 11,0
- FocalLength: 90,0 mm
- ISO: 100
- MeteringMode: Center-weighted average
- ShutterSpeedValue: 2,0
- ICC-header
- IFD0
- Copyright: Hasselblad X1D
- Make: Hasselblad
- Model: Hasselblad X1D
- ModifyDate: 2017:06:19 05:57:22
- Orientation: Horizontal (normal)
- IFD1
- IPTC
- CopyrightNotice: Hasselblad X1D
- DateCreated: 2017:06:19
- System
- XMP-crs
- AlreadyApplied: True
- AutoLateralCA: 0
- AutoWhiteVersion: 134348800
- Blacks2012: 0
- BlueHue: 0
- BlueSaturation: 0
- CameraProfile: Camera Standard
- Clarity2012: +22
- ColorNoiseReduction: 25
- ColorNoiseReductionDetail: 50
- ColorNoiseReductionSmoothness: 50
- ColorTemperature: 7150
- Contrast2012: -7
- ConvertToGrayscale: False
- DefringeGreenAmount: 0
- DefringeGreenHueHi: 60
- DefringeGreenHueLo: 40
- DefringePurpleAmount: 0
- DefringePurpleHueHi: 70
- DefringePurpleHueLo: 30
- Dehaze: 0
- Exposure2012: +0.15
- GrainAmount: 0
- GreenHue: 0
- GreenSaturation: 0
- HasCrop: False
- HasSettings: True
- Highlights2012: -53
- HueAdjustmentAqua: 0
- HueAdjustmentBlue: 0
- HueAdjustmentGreen: 0
- HueAdjustmentMagenta: 0
- HueAdjustmentOrange: 0
- HueAdjustmentPurple: 0
- HueAdjustmentRed: 0
- HueAdjustmentYellow: 0
- LensManualDistortionAmount: 0
- LensProfileEnable: 0
- LensProfileSetup: LensDefaults
- LuminanceAdjustmentAqua: 0
- LuminanceAdjustmentBlue: 0
- LuminanceAdjustmentGreen: 0
- LuminanceAdjustmentMagenta: 0
- LuminanceAdjustmentOrange: 0
- LuminanceAdjustmentPurple: 0
- LuminanceAdjustmentRed: 0
- LuminanceAdjustmentYellow: 0
- LuminanceSmoothing: 0
- ParametricDarks: 0
- ParametricHighlightSplit: 75
- ParametricHighlights: 0
- ParametricLights: 0
- ParametricMidtoneSplit: 50
- ParametricShadowSplit: 25
- ParametricShadows: 0
- PerspectiveAspect: 0
- PerspectiveHorizontal: 0
- PerspectiveRotate: 0.0
- PerspectiveScale: 106
- PerspectiveUpright: 0
- PerspectiveVertical: +11
- PerspectiveX: -1.00
- PerspectiveY: -2.00
- PostCropVignetteAmount: 0
- ProcessVersion: 6.7
- RawFileName: B1120439.3FR
- RedHue: 0
- RedSaturation: 0
- Saturation: +8
- SaturationAdjustmentAqua: 0
- SaturationAdjustmentBlue: 0
- SaturationAdjustmentGreen: 0
- SaturationAdjustmentMagenta: 0
- SaturationAdjustmentOrange: 0
- SaturationAdjustmentPurple: 0
- SaturationAdjustmentRed: 0
- SaturationAdjustmentYellow: 0
- ShadowTint: 0
- Shadows2012: 0
- SharpenDetail: 25
- SharpenEdgeMasking: 0
- SharpenRadius: +1.0
- Sharpness: 25
- SplitToningBalance: 0
- SplitToningHighlightHue: 0
- SplitToningHighlightSaturation: 0
- SplitToningShadowHue: 0
- SplitToningShadowSaturation: 0
- Tint: +16
- ToneCurve: 0, 0, 32, 22, 64, 56, 128, 128, 192, 196, 255, 255
- ToneCurveBlue: 0, 0, 255, 255
- ToneCurveGreen: 0, 0, 255, 255
- ToneCurveName: Medium Contrast
- ToneCurveName2012: Linear
- ToneCurvePV2012: 0, 0, 255, 255
- ToneCurvePV2012Blue: 0, 0, 255, 255
- ToneCurvePV2012Green: 0, 0, 255, 255
- ToneCurvePV2012Red: 0, 0, 255, 255
- ToneCurveRed: 0, 0, 255, 255
- ToneMapStrength: 0
- Version: 9.10
- Vibrance: +8
- VignetteAmount: 0
- WhiteBalance: Custom
- Whites2012: +9
- XMP-dc
- Format: image/jpeg
- Rights: Hasselblad X1D
- XMP-xmp
- CreateDate: 2017:06:19 03:29
- CreatorTool: v1.15.0-6541
- ModifyDate: 2017:06:19 05:57:22+03:00
- Rating: 0
- XMP-xmpMM
- Просмотров: 859
- Рейтинг: голосов еще нет
- Отзывов: отключены