- Раздел: Портрет
- Дата съёмки: 22.07.2007 20:48
- Дата загрузки фото: 15.08.2007 23:31
- Оригинальная фотография: 1500 x 997 (171 Кб)
- Технические характеристики:
- Фотоаппарат: Pentax K100D
- Выдержка: 1/160
- Гиперфокальное расстояние: 103,06 m
- Диафрагма: 14,0
- Светочувствительность: 800
- Фокусное расстояние: 170,0mm (35mm эквивалент: 255,0mm)
- Полный EXIF
- Composite
- Aperture: 14,0
- CircleOfConfusion: 0,020 mm
- EV: 11,9
- FocalLength35efl: 170,0mm (35mm equivalent: 255,0mm)
- HyperfocalDistance: 103,06 m
- ScaleFactor35efl: 1,5
- ShutterSpeed: 1/160
- ExifIFD
- ApertureValue: 14,0
- ColorSpace: sRGB
- Contrast: Normal
- CreateDate: 2007:07:21 14:33:24
- CustomRendered: Normal
- DateTimeOriginal: 2007:07:21 14:33:24
- ExifImageLength: 997
- ExifImageWidth: 1500
- ExposureCompensation: 0
- ExposureMode: Auto
- ExposureProgram: Aperture-priority AE
- ExposureTime: 1/160
- FNumber: 14,0
- Flash: Off
- FocalLength: 170,0mm
- FocalLengthIn35mmFormat: 255
- ISO: 800
- MeteringMode: Multi-segment
- Saturation: Normal
- SceneCaptureType: Standard
- SceneType: Directly photographed
- SensingMethod: One-chip color area
- Sharpness: Normal
- ShutterSpeedValue: 1/160
- SubjectDistanceRange: Close
- WhiteBalance: Auto
- ICC-header
- ICC-meas
- ICC-view
- IFD0
- Make: PENTAX Corporation
- Model: PENTAX K100D
- ModifyDate: 2007:08:15 23:29:40
- Orientation: Horizontal (normal)
- Software: ACD Systems Digital Imaging
- IFD1
- XMP-aux
- Lens: smc PENTAX-F 80-200mm F4.7-5.6
- LensID: 3 21
- LensInfo: 80
- XMP-crs
- AlreadyApplied: True
- BlueHue: 0
- BlueSaturation: 0
- Brightness: +16
- CameraProfile: Embedded
- ChromaticAberrationB: 0
- ChromaticAberrationR: 0
- Clarity: 0
- ColorNoiseReduction: 40
- Contrast: 0
- ConvertToGrayscale: False
- Defringe: 0
- Exposure: 0.00
- FillLight: 28
- GreenHue: 0
- GreenSaturation: 0
- HasCrop: False
- HasSettings: True
- HighlightRecovery: 0
- HueAdjustmentAqua: 0
- HueAdjustmentBlue: 0
- HueAdjustmentGreen: 0
- HueAdjustmentMagenta: 0
- HueAdjustmentOrange: 0
- HueAdjustmentPurple: 0
- HueAdjustmentRed: 0
- HueAdjustmentYellow: 0
- IncrementalTemperature: +1
- IncrementalTint: +3
- LuminanceAdjustmentAqua: 0
- LuminanceAdjustmentBlue: 0
- LuminanceAdjustmentGreen: 0
- LuminanceAdjustmentMagenta: 0
- LuminanceAdjustmentOrange: 0
- LuminanceAdjustmentPurple: 0
- LuminanceAdjustmentRed: 0
- LuminanceAdjustmentYellow: 0
- LuminanceSmoothing: 27
- ParametricDarks: 0
- ParametricHighlightSplit: 75
- ParametricHighlights: 0
- ParametricLights: 0
- ParametricMidtoneSplit: 50
- ParametricShadowSplit: 25
- ParametricShadows: 0
- RawFileName: IMGP1316.JPG
- RedHue: 0
- RedSaturation: 0
- Saturation: 0
- SaturationAdjustmentAqua: 0
- SaturationAdjustmentBlue: 0
- SaturationAdjustmentGreen: 0
- SaturationAdjustmentMagenta: 0
- SaturationAdjustmentOrange: 0
- SaturationAdjustmentPurple: 0
- SaturationAdjustmentRed: 0
- SaturationAdjustmentYellow: 0
- ShadowTint: 0
- Shadows: 0
- SharpenDetail: 25
- SharpenEdgeMasking: 0
- SharpenRadius: +1.0
- Sharpness: 0
- SplitToningBalance: 0
- SplitToningHighlightHue: 0
- SplitToningHighlightSaturation: 2
- SplitToningShadowHue: 0
- SplitToningShadowSaturation: 8
- ToneCurve: 0, 0, 255, 255
- ToneCurveName: Linear
- Version: 4.1
- Vibrance: 0
- VignetteAmount: 0
- WhiteBalance: Custom
- XMP-dc
- XMP-exif
- DateTimeDigitized: 2007:07:21 14:33:24+04:00
- DateTimeOriginal: 2007:07:21 14:33:24+04:00
- ExifImageHeight: 2000
- ExifImageWidth: 3008
- FlashFired: False
- FlashFunction: False
- FlashMode: Off
- FlashRedEyeMode: False
- FlashReturn: No return detection
- XMP-tiff
- XMP-xmp
- CreateDate: 2007:07:22 20:48:10+04:00
- ModifyDate: 2007:07:23 22:57:19+04:00
- Rating: 0
- XMP-xmpMM
- DerivedFrom:
- Просмотров: 341
- Рейтинг: голосов еще нет
- Отзывов: отключены