Уважаемые друзья и участники проекта iXBT.photo! К сожалению, 1 марта 2026 года проект iXBT.photo прекратит свою работу и будет закрыт. Мы высоко ценим ваше участие и тот вклад, который вы внесли в развитие нашего сообщества. Пожалуйста, не забудьте сохранить ваши фотографии до этой даты.
С уважением, команда iXBT.com
| Башни у реки |
Башни у реки
Вид на Космодамианскую набережную. Москва.
- Раздел: Тесты фототехники
- Дата съёмки: неизвестно
- Дата загрузки фото: 12.10.2017 07:25
- Оригинальная фотография: 7360 x 4912 (6,5 Мб)
- Технические характеристики:
- Фотоаппарат: Nikon D810
- Выдержка: 13,0
- Гиперфокальное расстояние: inf m
- Диафрагма: 8,0
- Светочувствительность: 100
- Фокусное расстояние: 24,0 mm (35 mm equivalent: 24,0 mm)
- Полный EXIF
- Adobe
- ColorTransform: YCbCr
- Composite
- Aperture: 8,0
- CircleOfConfusion: 0,030 mm
- FOV: 73,0 deg
- FocalLength35efl: 24,0 mm (35 mm equivalent: 24,0 mm)
- HyperfocalDistance: inf m
- LensID: AF-S Nikkor 24-120mm f/4G ED VR
- LightValue: 2,3
- Megapixels: 36,2
- ScaleFactor35efl: 1,0
- ShutterSpeed: 13,0
- ExifIFD
- ApertureValue: 8,0
- CFAPattern: [Red,Green][Green,Blue]
- ColorSpace: Uncalibrated
- Contrast: Normal
- CreateDate: 2017:10:12 05:32:39
- CustomRendered: Normal
- DateTimeOriginal: 2017:10:12 05:32:39
- DigitalZoomRatio: 1
- ExifImageHeight: 4912
- ExifImageWidth: 7360
- ExposureCompensation: 0
- ExposureMode: Auto
- ExposureProgram: Aperture-priority AE
- ExposureTime: 13,0
- FNumber: 8,0
- Flash: Off, Did not fire
- FocalLength: 24,0 mm
- FocalLengthIn35mmFormat: 24 mm
- GainControl: None
- ISO: 100
- LensInfo: 24-120mm f/4
- LensModel: 24.0-120.0 mm f/4.0
- LightSource: Unknown
- MaxApertureValue: 4,0
- MeteringMode: Center-weighted average
- Saturation: Normal
- SceneCaptureType: Standard
- SceneType: Directly photographed
- SensingMethod: One-chip color area
- SensitivityType: Recommended Exposure Index
- SerialNumber: 6002240
- Sharpness: Normal
- ShutterSpeedValue: 8,0
- SubjectDistanceRange: Unknown
- WhiteBalance: Auto
- ICC-header
- IFD0
- Artist: Mikhail Rybakov
- Copyright: Mikhail Rybakov
- Make: NIKON CORPORATION
- Model: NIKON D810
- ModifyDate: 2017:10:12 06:54:27
- Orientation: Horizontal (normal)
- IFD1
- IPTC
- By-line: Mikhail Rybakov
- CopyrightNotice: Mikhail Rybakov
- DateCreated: 2017:10:12
- System
- XMP-aux
- ApproximateFocusDistance: 4294967295
- DistortionCorrectionAlreadyApplied: True
- ImageNumber: 74635
- LateralChromaticAberrationCorrectionAlreadyApplied: True
- Lens: 24.0-120.0 mm f/4.0
- LensID: 170
- VignetteCorrectionAlreadyApplied: True
- XMP-crs
- AlreadyApplied: True
- AutoLateralCA: 1
- Blacks2012: +4
- BlueHue: 0
- BlueSaturation: 0
- Clarity2012: +5
- ColorNoiseReduction: 25
- ColorNoiseReductionDetail: 50
- ColorNoiseReductionSmoothness: 50
- ColorTemperature: 2900
- Contrast2012: -36
- ConvertToGrayscale: False
- DefringeGreenAmount: 0
- DefringeGreenHueHi: 60
- DefringeGreenHueLo: 40
- DefringePurpleAmount: 0
- DefringePurpleHueHi: 70
- DefringePurpleHueLo: 30
- Dehaze: 0
- Exposure2012: -0.15
- GrainAmount: 0
- GreenHue: 0
- GreenSaturation: 0
- HasCrop: False
- HasSettings: True
- Highlights2012: -63
- HueAdjustmentAqua: +10
- HueAdjustmentBlue: +22
- HueAdjustmentGreen: 0
- HueAdjustmentMagenta: 0
- HueAdjustmentOrange: -25
- HueAdjustmentPurple: 0
- HueAdjustmentRed: +11
- HueAdjustmentYellow: -40
- LensManualDistortionAmount: 0
- LensProfileChromaticAberrationScale: 100
- LensProfileDistortionScale: 100
- LensProfileEnable: 1
- LensProfileFilename: NIKON D3X (Nikon AF-S NIKKOR 24-120mm f4G ED VR) v2 - RAW.lcp
- LensProfileSetup: LensDefaults
- LensProfileVignettingScale: 100
- LuminanceAdjustmentAqua: 0
- LuminanceAdjustmentBlue: 0
- LuminanceAdjustmentGreen: 0
- LuminanceAdjustmentMagenta: 0
- LuminanceAdjustmentOrange: 0
- LuminanceAdjustmentPurple: 0
- LuminanceAdjustmentRed: 0
- LuminanceAdjustmentYellow: 0
- LuminanceSmoothing: 0
- ParametricDarks: 0
- ParametricHighlightSplit: 75
- ParametricHighlights: 0
- ParametricLights: 0
- ParametricMidtoneSplit: 50
- ParametricShadowSplit: 25
- ParametricShadows: 0
- PerspectiveAspect: 0
- PerspectiveHorizontal: 0
- PerspectiveRotate: 0.0
- PerspectiveScale: 107
- PerspectiveUpright: 4
- PerspectiveVertical: +8
- PerspectiveX: -10.00
- PerspectiveY: -6.00
- PostCropVignetteAmount: 0
- ProcessVersion: 6.7
- RawFileName: _DSC8911.NEF
- RedHue: 0
- RedSaturation: 0
- Saturation: +12
- SaturationAdjustmentAqua: 0
- SaturationAdjustmentBlue: 0
- SaturationAdjustmentGreen: 0
- SaturationAdjustmentMagenta: 0
- SaturationAdjustmentOrange: 0
- SaturationAdjustmentPurple: 0
- SaturationAdjustmentRed: 0
- SaturationAdjustmentYellow: 0
- ShadowTint: 0
- Shadows2012: 0
- SharpenDetail: 25
- SharpenEdgeMasking: 0
- SharpenRadius: +1.0
- Sharpness: 25
- SplitToningBalance: 0
- SplitToningHighlightHue: 0
- SplitToningHighlightSaturation: 0
- SplitToningShadowHue: 0
- SplitToningShadowSaturation: 0
- Tint: +3
- ToneCurve: 0, 0, 32, 22, 64, 56, 128, 128, 192, 196, 255, 255
- ToneCurveBlue: 0, 0, 255, 255
- ToneCurveGreen: 0, 0, 255, 255
- ToneCurveName: Medium Contrast
- ToneCurveName2012: Linear
- ToneCurvePV2012: 0, 0, 255, 255
- ToneCurvePV2012Blue: 0, 0, 255, 255
- ToneCurvePV2012Green: 0, 0, 255, 255
- ToneCurvePV2012Red: 0, 0, 255, 255
- ToneCurveRed: 0, 0, 255, 255
- ToneMapStrength: 0
- Version: 9.12.1
- Vibrance: +9
- VignetteAmount: 0
- WhiteBalance: Custom
- Whites2012: +25
- XMP-dc
- Creator: Mikhail Rybakov
- Format: image/jpeg
- Rights: Mikhail Rybakov
- XMP-xmp
- CreatorTool: NIKON D810 Ver.1.12
- ModifyDate: 2017:10:12 06:54:27+03:00
- Rating: 0
- XMP-xmpMM
- Просмотров: 693
- Рейтинг: голосов еще нет
- Отзывов: отключены
Получить код для блога
| Вставка фотографии в текущем разрешении |
Вставка миниатюры |
HTML (для вставки в блог):
BBCode (для вставки в форум):
Ссылка на фото:
Ссылка на миниатюру:
- Послать ссылку другу
| Комментарии к фотографии |