| » Ó÷àñòíèêè » annapavlovna » Âèòàëèé Ñàâåëüåâ Àýðîôëîò » ÐáавелÑÌев ÑÄоÑÂо/ÐáавелÑÌев ÐÒиÑÂалий гендиÑÀ ÐÐÑÍÑÀоÑÄлоÑÂа.JPG |
Óâàæàåìûå äðóçüÿ è ó÷àñòíèêè ïðîåêòà iXBT.photo! Ê ñîæàëåíèþ, 1 ìàðòà 2026 ãîäà ïðîåêò iXBT.photo ïðåêðàòèò ñâîþ ðàáîòó è áóäåò çàêðûò. Ìû âûñîêî öåíèì âàøå ó÷àñòèå è òîò âêëàä, êîòîðûé âû âíåñëè â ðàçâèòèå íàøåãî ñîîáùåñòâà. Ïîæàëóéñòà, íå çàáóäüòå ñîõðàíèòü âàøè ôîòîãðàôèè äî ýòîé äàòû.
Ñ óâàæåíèåì, êîìàíäà iXBT.com
| ÐáавелÑÌев ÑÄоÑÂо/ÐáавелÑÌев ÐÒиÑÂалий гендиÑÀ ÐÐÑÍÑÀоÑÄлоÑÂа.JPG |
ÐáавелÑÌев ÑÄоÑÂо/ÐáавелÑÌев ÐÒиÑÂалий гендиÑÀ ÐÐÑÍÑÀоÑÄлоÑÂа.JPG
- Ðàçäåë: Äðóãîå, ðàçíîå
- Äàòà ñú¸ìêè: íåèçâåñòíî
- Äàòà çàãðóçêè ôîòî: 27.10.2017 13:32
- Îðèãèíàëüíàÿ ôîòîãðàôèÿ: 1024 x 682 (203 Êá)
- Òåõíè÷åñêèå õàðàêòåðèñòèêè:
- Ôîòîàïïàðàò: Canon EOS 5D Mark III
- Âûäåðæêà: 0,0
- Ãèïåðôîêàëüíîå ðàññòîÿíèå: inf m
- Äèàôðàãìà: 4,5
- Ñâåòî÷óâñòâèòåëüíîñòü: 2000
- Ôîêóñíîå ðàññòîÿíèå: 70,0 mm (35 mm equivalent: 210,0 mm)
- Ïîëíûé EXIF
- Composite
- Aperture: 4,5
- CircleOfConfusion: 0,009 mm
- DOF: inf (0,00 m - inf)
- FOV: 9,0 deg
- FocalLength35efl: 70,0 mm (35 mm equivalent: 210,0 mm)
- HyperfocalDistance: inf m
- LensID: Canon EF 70-200mm f/2.8L IS
- Megapixels: 0,698
- ScaleFactor35efl: 3,3
- ShutterSpeed: 0,0
- ExifIFD
- ApertureValue: 4,0
- ColorSpace: Uncalibrated
- CreateDate: 2017:07:15 15:05:01
- CustomRendered: Normal
- DateTimeOriginal: 2017:07:15 15:05:01
- ExifImageHeight: 1181
- ExifImageWidth: 1772
- ExposureCompensation: 0
- ExposureMode: Manual
- ExposureProgram: Manual
- ExposureTime: 0,0
- FNumber: 4,5
- Flash: Off, Did not fire
- FocalLength: 70,0 mm
- ISO: 2000
- LensInfo: 70-200mm f/?
- LensModel: EF70-200mm f/2.8L IS USM
- LensSerialNumber: 0000000000
- MaxApertureValue: 2,8
- MeteringMode: Multi-segment
- RecommendedExposureIndex: 2000
- SceneCaptureType: Standard
- SensitivityType: Recommended Exposure Index
- SerialNumber: 273021002059
- ShutterSpeedValue: 1/128
- SubjectDistance: 5,47 m
- WhiteBalance: Auto
- ICC-header
- IFD0
- BitsPerSample: 8 8 8
- ImageHeight: 3840
- ImageWidth: 5760
- Make: Canon
- Model: Canon EOS 5D Mark III
- ModifyDate: 2017:07:17 09:53:10
- Orientation: Horizontal (normal)
- PhotometricInterpretation: RGB
- SamplesPerPixel: 3
- IFD1
- IPTC
- DateCreated: 2017:07:15
- System
- XMP-aux
- ApproximateFocusDistance: 5,47
- Firmware: 1.2.3
- FlashCompensation: 0
- ImageNumber: 0
- Lens: EF70-200mm f/2.8L IS USM
- LensID: 224
- XMP-crs
- AlreadyApplied: True
- AutoLateralCA: 0
- Blacks2012: 0
- BlueHue: 0
- BlueSaturation: 0
- Brightness: +50
- Clarity: +21
- Clarity2012: 0
- ColorNoiseReduction: 25
- ColorNoiseReductionDetail: 50
- ColorTemperature: 5900
- Contrast: +60
- Contrast2012: 0
- ConvertToGrayscale: False
- Defringe: 0
- Exposure: 0.00
- Exposure2012: 0.00
- FillLight: 15
- GrainAmount: 0
- GreenHue: 0
- GreenSaturation: 0
- HasCrop: False
- HasSettings: True
- HighlightRecovery: 0
- Highlights2012: 0
- HueAdjustmentAqua: 0
- HueAdjustmentBlue: 0
- HueAdjustmentGreen: 0
- HueAdjustmentMagenta: 0
- HueAdjustmentOrange: 0
- HueAdjustmentPurple: 0
- HueAdjustmentRed: 0
- HueAdjustmentYellow: 0
- LensManualDistortionAmount: 0
- LensProfileEnable: 0
- LensProfileSetup: LensDefaults
- LuminanceAdjustmentAqua: 0
- LuminanceAdjustmentBlue: 0
- LuminanceAdjustmentGreen: 0
- LuminanceAdjustmentMagenta: 0
- LuminanceAdjustmentOrange: 0
- LuminanceAdjustmentPurple: 0
- LuminanceAdjustmentRed: 0
- LuminanceAdjustmentYellow: 0
- LuminanceSmoothing: 0
- ParametricDarks: 0
- ParametricHighlightSplit: 75
- ParametricHighlights: 0
- ParametricLights: 0
- ParametricMidtoneSplit: 50
- ParametricShadowSplit: 25
- ParametricShadows: 0
- PerspectiveHorizontal: 0
- PerspectiveRotate: 0.0
- PerspectiveScale: 100
- PerspectiveVertical: 0
- PostCropVignetteAmount: 0
- ProcessVersion: 5.7
- RawFileName: 5P9A1589.CR2
- RedHue: 0
- RedSaturation: 0
- Saturation: 0
- SaturationAdjustmentAqua: 0
- SaturationAdjustmentBlue: 0
- SaturationAdjustmentGreen: 0
- SaturationAdjustmentMagenta: 0
- SaturationAdjustmentOrange: 0
- SaturationAdjustmentPurple: 0
- SaturationAdjustmentRed: 0
- SaturationAdjustmentYellow: 0
- ShadowTint: 0
- Shadows: 5
- Shadows2012: 0
- SharpenDetail: 25
- SharpenEdgeMasking: 0
- SharpenRadius: +1.0
- Sharpness: 25
- SplitToningBalance: 0
- SplitToningHighlightHue: 0
- SplitToningHighlightSaturation: 0
- SplitToningShadowHue: 0
- SplitToningShadowSaturation: 0
- Tint: -3
- ToneCurve: 0, 0, 32, 22, 64, 56, 128, 128, 192, 196, 255, 255
- ToneCurveBlue: 0, 0, 255, 255
- ToneCurveGreen: 0, 0, 255, 255
- ToneCurveName: Medium Contrast
- ToneCurveName2012: Linear
- ToneCurvePV2012: 0, 0, 255, 255
- ToneCurvePV2012Blue: 0, 0, 255, 255
- ToneCurvePV2012Green: 0, 0, 255, 255
- ToneCurvePV2012Red: 0, 0, 255, 255
- ToneCurveRed: 0, 0, 255, 255
- Version: 6.7
- Vibrance: 0
- VignetteAmount: 0
- WhiteBalance: Custom
- Whites2012: 0
- XMP-dc
- XMP-xmp
- CreateDate: 2017:07:15 15:05:01.20
- ModifyDate: 2017:07:17 09:53:10+04:00
- XMP-xmpMM
- Ïðîñìîòðîâ: 82
- Ðåéòèíã: ãîëîñîâ åùå íåò
- Îòçûâîâ: îòêëþ÷åíû
Ïîëó÷èòü êîä äëÿ áëîãà
| Âñòàâêà ôîòîãðàôèè â òåêóùåì ðàçðåøåíèè |
Âñòàâêà ìèíèàòþðû |
HTML (äëÿ âñòàâêè â áëîã):
BBCode (äëÿ âñòàâêè â ôîðóì):
Ññûëêà íà ôîòî:
Ññûëêà íà ìèíèàòþðó:
- Ïîñëàòü ññûëêó äðóãó
| Êîììåíòàðèè ê ôîòîãðàôèè |