- Раздел: Другое, разное
- Дата съёмки: неизвестно
- Дата загрузки фото: 04.12.2017 12:35
- Оригинальная фотография: 3200 x 1800 (4,8 Мб)
- Технические характеристики:
- Фотоаппарат: Samsung SM-G920F
- Выдержка: 0,0
- Диафрагма: 1,9
- Светочувствительность: 40
- Фокусное расстояние: 4,0 mm
- Полный EXIF
- Composite
- Aperture: 1,9
- FocalLength35efl: 4,0 mm
- Megapixels: 5,8
- ShutterSpeed: 0,0
- ExifIFD
- ApertureValue: 1,4
- DateTimeOriginal: 2017:03:25 15:42:49
- ExifImageHeight: 1800
- ExifImageWidth: 3200
- ExposureTime: 0,0
- FNumber: 1,9
- FocalLength: 4,0 mm
- ISO: 40
- ShutterSpeedValue: 1/1024
- ICC-header
- ICC-meas
- ICC-view
- IFD0
- Make: samsung
- Model: SM-G920F
- ModifyDate: 2017:09:28 23:32:02
- Orientation: Horizontal (normal)
- Software: Программа цифровой обработки изображений компании ACD Systems
- IFD1
- IPTC
- DateCreated: 2017:03:25
- System
- XMP-crs
- AlreadyApplied: True
- AutoLateralCA: 0
- Blacks2012: 0
- BlueHue: -8
- BlueSaturation: 0
- Brightness: +50
- CameraProfile: Matrix
- Clarity: 0
- Clarity2012: +50
- ColorNoiseReduction: 25
- ColorNoiseReductionDetail: 50
- ColorTemperature: 5150
- Contrast: +25
- Contrast2012: +20
- ConvertToGrayscale: False
- Defringe: 0
- Exposure: 0.00
- Exposure2012: -0.30
- FillLight: 0
- GrainAmount: 0
- GreenHue: 0
- GreenSaturation: 0
- HasCrop: False
- HasSettings: True
- HighlightRecovery: 0
- Highlights2012: -100
- HueAdjustmentAqua: +40
- HueAdjustmentBlue: 0
- HueAdjustmentGreen: +10
- HueAdjustmentMagenta: 0
- HueAdjustmentOrange: 0
- HueAdjustmentPurple: 0
- HueAdjustmentRed: 0
- HueAdjustmentYellow: 0
- LensManualDistortionAmount: 0
- LensProfileEnable: 0
- LensProfileSetup: LensDefaults
- LuminanceAdjustmentAqua: 0
- LuminanceAdjustmentBlue: 0
- LuminanceAdjustmentGreen: 0
- LuminanceAdjustmentMagenta: 0
- LuminanceAdjustmentOrange: 0
- LuminanceAdjustmentPurple: 0
- LuminanceAdjustmentRed: 0
- LuminanceAdjustmentYellow: 0
- LuminanceNoiseReductionContrast: 0
- LuminanceNoiseReductionDetail: 100
- LuminanceSmoothing: 60
- ParametricDarks: 0
- ParametricHighlightSplit: 75
- ParametricHighlights: 0
- ParametricLights: 0
- ParametricMidtoneSplit: 50
- ParametricShadowSplit: 25
- ParametricShadows: 0
- PerspectiveHorizontal: 0
- PerspectiveRotate: -0.4
- PerspectiveScale: 101
- PerspectiveVertical: 0
- PostCropVignetteAmount: 0
- ProcessVersion: 6.7
- RawFileName: 20170325_154249.dng
- RedHue: 0
- RedSaturation: 0
- Saturation: +5
- SaturationAdjustmentAqua: 0
- SaturationAdjustmentBlue: 0
- SaturationAdjustmentGreen: 0
- SaturationAdjustmentMagenta: 0
- SaturationAdjustmentOrange: 0
- SaturationAdjustmentPurple: 0
- SaturationAdjustmentRed: 0
- SaturationAdjustmentYellow: 0
- ShadowTint: 0
- Shadows: 5
- Shadows2012: -20
- SharpenDetail: 35
- SharpenEdgeMasking: 30
- SharpenRadius: +1.0
- Sharpness: 45
- SplitToningBalance: 0
- SplitToningHighlightHue: 0
- SplitToningHighlightSaturation: 0
- SplitToningShadowHue: 0
- SplitToningShadowSaturation: 0
- Tint: -7
- ToneCurve: 0, 0, 32, 22, 64, 56, 128, 128, 192, 196, 255, 255
- ToneCurveBlue: 0, 0, 255, 255
- ToneCurveGreen: 0, 0, 255, 255
- ToneCurveName: Medium Contrast
- ToneCurveName2012: Linear
- ToneCurvePV2012: 0, 0, 255, 255
- ToneCurvePV2012Blue: 0, 0, 255, 255
- ToneCurvePV2012Green: 0, 0, 255, 255
- ToneCurvePV2012Red: 0, 0, 255, 255
- ToneCurveRed: 0, 0, 255, 255
- Version: 7.0
- Vibrance: +40
- VignetteAmount: 0
- WhiteBalance: As Shot
- Whites2012: 0
- XMP-dc
- XMP-exif
- ApertureValue: 1,9
- DateTimeOriginal: 2017:03:25 15:42:49+4:00
- ExposureTime: 1/2000
- FocalLength: 4,3 mm
- ShutterSpeedValue: 1/2000
- XMP-tiff
- XMP-x
- XMP-xmp
- ModifyDate: 2017:04:14 20:21:01.0+4:00
- XMP-xmpMM
- Просмотров: 169
- Рейтинг: голосов еще нет
- Отзывов: 0