- Раздел: Тесты фототехники
- Дата съёмки: неизвестно
- Дата загрузки фото: 18.01.2018 22:23
- Оригинальная фотография: 3952 x 2960 (13,5 Мб)
- Технические характеристики:
- Фотоаппарат: HUAWEI BLN-L22
- Выдержка: 0,0
- Диафрагма: 2,2
- Светочувствительность: 94
- Фокусное расстояние: 3,0 mm
- Полный EXIF
- Adobe
- ColorTransform: YCbCr
- Composite
- Aperture: 2,2
- FocalLength35efl: 3,0 mm
- GPSDateTime: 2018:01:15 16:20:28Z
- GPSLatitude: 56 deg 27' 45,00" N
- GPSLongitude: 38 deg 49' 8,00" E
- GPSPosition: 56 deg 27' 45,00" N, 38 deg 49' 8,00" E
- Megapixels: 11,7
- ShutterSpeed: 0,0
- ExifIFD
- ApertureValue: 2,0
- ColorSpace: Uncalibrated
- CreateDate: 2018:01:15 19:20:27
- DateTimeOriginal: 2018:01:15 19:20:27
- ExifImageHeight: 2960
- ExifImageWidth: 3952
- ExposureTime: 0,0
- FNumber: 2,2
- FocalLength: 3,0 mm
- ISO: 94
- ShutterSpeedValue: 1/32
- GPS
- GPSDateStamp: 2018:01:15
- GPSLatitude: 56 deg 27' 45,00"
- GPSLatitudeRef: North
- GPSLongitude: 38 deg 49' 8,00"
- GPSLongitudeRef: East
- GPSTimeStamp: 16:20:28
- GPSVersionID: 2.3.0.0
- ICC-header
- IFD0
- Make: HUAWEI
- Model: BLN-L22
- ModifyDate: 2018:01:16 16:55:09
- Orientation: Horizontal (normal)
- IFD1
- IPTC
- DateCreated: 2018:01:13
- System
- XMP-crs
- AlreadyApplied: True
- AutoLateralCA: 0
- Blacks2012: +80
- BlueHue: 0
- BlueSaturation: 0
- CameraProfile: Embedded
- Clarity2012: +18
- ColorNoiseReduction: 0
- ColorTemperature: 3650
- Contrast2012: -8
- ConvertToGrayscale: False
- DefringeGreenAmount: 0
- DefringeGreenHueHi: 60
- DefringeGreenHueLo: 40
- DefringePurpleAmount: 0
- DefringePurpleHueHi: 70
- DefringePurpleHueLo: 30
- Dehaze: +100
- Exposure2012: +0.90
- GrainAmount: 0
- GreenHue: 0
- GreenSaturation: 0
- HasCrop: False
- HasSettings: True
- Highlights2012: -76
- HueAdjustmentAqua: 0
- HueAdjustmentBlue: 0
- HueAdjustmentGreen: 0
- HueAdjustmentMagenta: 0
- HueAdjustmentOrange: 0
- HueAdjustmentPurple: 0
- HueAdjustmentRed: 0
- HueAdjustmentYellow: 0
- LensManualDistortionAmount: 0
- LensProfileEnable: 0
- LensProfileSetup: LensDefaults
- LuminanceAdjustmentAqua: 0
- LuminanceAdjustmentBlue: 0
- LuminanceAdjustmentGreen: 0
- LuminanceAdjustmentMagenta: 0
- LuminanceAdjustmentOrange: 0
- LuminanceAdjustmentPurple: 0
- LuminanceAdjustmentRed: 0
- LuminanceAdjustmentYellow: 0
- LuminanceSmoothing: 0
- ParametricDarks: -60
- ParametricHighlightSplit: 75
- ParametricHighlights: 0
- ParametricLights: -31
- ParametricMidtoneSplit: 50
- ParametricShadowSplit: 25
- ParametricShadows: -30
- PerspectiveAspect: 0
- PerspectiveHorizontal: 0
- PerspectiveRotate: 0.0
- PerspectiveScale: 100
- PerspectiveUpright: 0
- PerspectiveVertical: 0
- PerspectiveX: 0.00
- PerspectiveY: 0.00
- PostCropVignetteAmount: 0
- ProcessVersion: 10.0
- RawFileName: LRM_20180115_192027.dng
- RedHue: 0
- RedSaturation: 0
- Saturation: -25
- SaturationAdjustmentAqua: 0
- SaturationAdjustmentBlue: 0
- SaturationAdjustmentGreen: 0
- SaturationAdjustmentMagenta: 0
- SaturationAdjustmentOrange: 0
- SaturationAdjustmentPurple: 0
- SaturationAdjustmentRed: 0
- SaturationAdjustmentYellow: 0
- ShadowTint: 0
- Shadows2012: +100
- SharpenDetail: 0
- SharpenEdgeMasking: 0
- SharpenRadius: +0.5
- Sharpness: 71
- SplitToningBalance: 0
- SplitToningHighlightHue: 0
- SplitToningHighlightSaturation: 0
- SplitToningShadowHue: 0
- SplitToningShadowSaturation: 0
- Tint: +37
- ToneCurve: 0, 0, 32, 22, 64, 56, 128, 128, 192, 196, 255, 255
- ToneCurveBlue: 0, 0, 255, 255
- ToneCurveGreen: 0, 0, 255, 255
- ToneCurveName: Medium Contrast
- ToneCurveName2012: Linear
- ToneCurvePV2012: 0, 0, 255, 255
- ToneCurvePV2012Blue: 0, 0, 255, 255
- ToneCurvePV2012Green: 0, 0, 255, 255
- ToneCurvePV2012Red: 0, 0, 255, 255
- ToneCurveRed: 0, 0, 255, 255
- Version: 10.0
- Vibrance: +52
- VignetteAmount: 0
- WhiteBalance: As Shot
- Whites2012: +15
- XMP-dc
- XMP-exifEX
- PhotographicSensitivity: 94
- XMP-xmp
- CreatorTool: HONOR/BLN-L22/HWBLN-H:6.0/HONORBLN-L22/C636B130:user/release-keys
- ModifyDate: 2018:01:16 16:55:09+03:00
- Rating: 0
- XMP-xmpMM
- Просмотров: 99
- Рейтинг: голосов еще нет
- Отзывов: 0