- Раздел: Другое, разное
- Дата съёмки: 24.08.2006 19:31
- Дата загрузки фото: 27.08.2007 18:42
- Оригинальная фотография: 2816 x 2112 (727 Кб)
- Технические характеристики:
- Фотоаппарат: Canon PowerShot S3 IS
- Выдержка: 1/6
- Гиперфокальное расстояние: 21,62 m
- Диафрагма: 6,3
- Светочувствительность: 80
- Фокусное расстояние: 26,0mm (35mm эквивалент: 157,4mm)
- Экспокоррекция: -2
- Полный EXIF
- ColorTransform: YCbCr
- Composite
- Aperture: 6,3
- CircleOfConfusion: 0,005 mm
- EV: 8,2
- FocalLength35efl: 26,0mm (35mm equivalent: 157,4mm)
- HyperfocalDistance: 21,62 m
- ScaleFactor35efl: 6,1
- ShutterSpeed: 1/6
- ExifIFD
- ApertureValue: 6,3
- Contrast: High
- CreateDate: 2006:08:24 19:31:23
- CustomRendered: Normal
- DateTimeOriginal: 2006:08:24 19:31:23
- DigitalZoomRatio: 1
- ExposureCompensation: -2
- ExposureMode: Manual
- ExposureTime: 1/6
- FNumber: 6,3
- Flash: Off, Red-eye reduction
- FocalLength: 26,0mm
- ISO: 80
- MaxApertureValue: 3,5
- MeteringMode: Spot
- Saturation: High
- SceneCaptureType: Standard
- SensingMethod: One-chip color area
- Sharpness: Hard
- ShutterSpeedValue: 1/6
- WhiteBalance: Auto
- ICC-header
- IFD0
- Artist: PAVEL
- Make: Canon
- Model: Canon PowerShot S3 IS
- ModifyDate: 2007:08:27 15:11:31
- TimeZoneOffset: 0 3
- IPTC
- By-line: PAVEL
- XMP-aux
- Firmware: 1.00
- FlashCompensation: 0
- Lens: 6.0 - 72.0mm
- LensInfo: 6
- OwnerName: PAVEL
- XMP-crs
- AlreadyApplied: True
- BlueHue: 0
- BlueSaturation: 0
- Brightness: +18
- CameraProfile: Embedded
- ChromaticAberrationB: 0
- ChromaticAberrationR: 0
- Clarity: 0
- ColorNoiseReduction: 25
- Contrast: 0
- ConvertToGrayscale: False
- Defringe: 0
- Exposure: 0.00
- FillLight: 27
- GreenHue: 0
- GreenSaturation: 0
- HasCrop: False
- HasSettings: True
- HighlightRecovery: 21
- HueAdjustmentAqua: 0
- HueAdjustmentBlue: 0
- HueAdjustmentGreen: 0
- HueAdjustmentMagenta: 0
- HueAdjustmentOrange: 0
- HueAdjustmentPurple: 0
- HueAdjustmentRed: 0
- HueAdjustmentYellow: 0
- LuminanceAdjustmentAqua: 0
- LuminanceAdjustmentBlue: 0
- LuminanceAdjustmentGreen: 0
- LuminanceAdjustmentMagenta: 0
- LuminanceAdjustmentOrange: 0
- LuminanceAdjustmentPurple: 0
- LuminanceAdjustmentRed: 0
- LuminanceAdjustmentYellow: 0
- LuminanceSmoothing: 0
- ParametricDarks: +12
- ParametricHighlightSplit: 75
- ParametricHighlights: -32
- ParametricLights: -22
- ParametricMidtoneSplit: 50
- ParametricShadowSplit: 25
- ParametricShadows: +23
- RawFileName: CRW_0286.DNG
- RedHue: 0
- RedSaturation: 0
- Saturation: +13
- SaturationAdjustmentAqua: 0
- SaturationAdjustmentBlue: 0
- SaturationAdjustmentGreen: 0
- SaturationAdjustmentMagenta: 0
- SaturationAdjustmentOrange: 0
- SaturationAdjustmentPurple: 0
- SaturationAdjustmentRed: 0
- SaturationAdjustmentYellow: 0
- ShadowTint: 0
- Shadows: 10
- SharpenDetail: 25
- SharpenEdgeMasking: 0
- SharpenRadius: +1.0
- Sharpness: 25
- SplitToningBalance: 0
- SplitToningHighlightHue: 0
- SplitToningHighlightSaturation: 10
- SplitToningShadowHue: 0
- SplitToningShadowSaturation: 3
- Temperature: 5850
- Tint: +10
- ToneCurve: 0, 0, 32, 22, 64, 56, 128, 128, 192, 196, 255, 255
- ToneCurveName: Medium Contrast
- Version: 4.1
- Vibrance: 0
- VignetteAmount: 0
- WhiteBalance: Custom
- XMP-dc
- XMP-exif
- ColorSpace: sRGB
- CompressedBitsPerPixel: 5
- DateTimeDigitized: 2006:08:24 19:31:23Z
- DateTimeOriginal: 2006:08:24 19:31:23Z
- ExifImageHeight: 2112
- ExifImageWidth: 2816
- FlashFired: False
- FlashFunction: False
- FlashMode: Off
- FlashRedEyeMode: True
- FlashReturn: No return detection
- UserComment:
- XMP-tiff
- ImageHeight: 2112
- ImageWidth: 2816
- XMP-xmp
- CreateDate: 2006:08:24 19:31:23Z
- ModifyDate: 2007:08:27 15:11:31+03:00
- Просмотров: 949
- Рейтинг: голосов еще нет
- Отзывов: 1