- Раздел: Портрет
- Дата съёмки: 16.08.2007 11:36
- Дата загрузки фото: 01.09.2007 23:44
- Оригинальная фотография: 5315 x 3543 (2,9 Мб)
- Технические характеристики:
- Фотоаппарат: Canon EOS 400D DIGITAL
- Выдержка: 1/125
- Гиперфокальное расстояние: 350,24 m
- Диафрагма: 4,5
- Светочувствительность: 400
- Фокусное расстояние: 200,0mm (35mm эквивалент: 236,8mm)
- Полный EXIF
- Composite
- Aperture: 4,5
- CircleOfConfusion: 0,025 mm
- EV: 9,3
- FocalLength35efl: 200,0mm (35mm equivalent: 236,8mm)
- HyperfocalDistance: 350,24 m
- ScaleFactor35efl: 1,2
- ShutterSpeed: 1/125
- ExifIFD
- ApertureValue: 4,5
- ColorSpace: sRGB
- CreateDate: 2007:08:16 11:36:39
- CustomRendered: Normal
- DateTimeOriginal: 2007:08:16 11:36:39
- ExifImageLength: 3543
- ExifImageWidth: 5315
- ExposureCompensation: 0
- ExposureMode: Auto
- ExposureProgram: Aperture-priority AE
- ExposureTime: 1/125
- FNumber: 4,5
- Flash: On
- FocalLength: 200,0mm
- ISO: 400
- MaxApertureValue: 4,0
- MeteringMode: Multi-segment
- SceneCaptureType: Standard
- ShutterSpeedValue: 1/125
- WhiteBalance: Auto
- ICC-header
- ICC-meas
- ICC-view
- IFD0
- Artist: dejita.ru
- Copyright: (C) DEJITA.RU
- Make: Canon
- Model: Canon EOS 400D DIGITAL
- ModifyDate: 2007:08:31 00:54:56
- Orientation: Horizontal (normal)
- Software: ACD Systems Digital Imaging
- IFD1
- IPTC
- By-line: dejita.ru
- CopyrightNotice: (C) DEJITA.RU
- ObjectName: Wedding (16.08.2007)
- Sub-location: Saint-Petersburg
- XMP-aux
- Firmware: 1.0.4
- FlashCompensation: 0
- ImageNumber: 208
- Lens: EF70-200mm f/4L IS USM
- LensInfo: 70
- OwnerName: unknown
- SerialNumber: 430122345
- XMP-crs
- AlreadyApplied: True
- BlueHue: 0
- BlueSaturation: 0
- Brightness: 0
- CameraProfile: Embedded
- ChromaticAberrationB: 0
- ChromaticAberrationR: 0
- Clarity: 0
- ColorNoiseReduction: 0
- Contrast: 0
- ConvertToGrayscale: False
- Defringe: 0
- Exposure: 0.00
- FillLight: 0
- GreenHue: 0
- GreenSaturation: 0
- HasCrop: False
- HasSettings: True
- HighlightRecovery: 0
- HueAdjustmentAqua: 0
- HueAdjustmentBlue: 0
- HueAdjustmentGreen: 0
- HueAdjustmentMagenta: 0
- HueAdjustmentOrange: 0
- HueAdjustmentPurple: 0
- HueAdjustmentRed: 0
- HueAdjustmentYellow: 0
- IncrementalTemperature: 0
- IncrementalTint: 0
- LuminanceAdjustmentAqua: 0
- LuminanceAdjustmentBlue: 0
- LuminanceAdjustmentGreen: 0
- LuminanceAdjustmentMagenta: 0
- LuminanceAdjustmentOrange: 0
- LuminanceAdjustmentPurple: 0
- LuminanceAdjustmentRed: 0
- LuminanceAdjustmentYellow: 0
- LuminanceSmoothing: 0
- ParametricDarks: 0
- ParametricHighlightSplit: 75
- ParametricHighlights: 0
- ParametricLights: 0
- ParametricMidtoneSplit: 50
- ParametricShadowSplit: 25
- ParametricShadows: 0
- RedHue: 0
- RedSaturation: 0
- Saturation: 0
- SaturationAdjustmentAqua: 0
- SaturationAdjustmentBlue: 0
- SaturationAdjustmentGreen: 0
- SaturationAdjustmentMagenta: 0
- SaturationAdjustmentOrange: 0
- SaturationAdjustmentPurple: 0
- SaturationAdjustmentRed: 0
- SaturationAdjustmentYellow: 0
- ShadowTint: 0
- Shadows: 0
- SharpenDetail: 25
- SharpenEdgeMasking: 0
- SharpenRadius: +1.0
- Sharpness: 0
- SplitToningBalance: 0
- SplitToningHighlightHue: 0
- SplitToningHighlightSaturation: 0
- SplitToningShadowHue: 0
- SplitToningShadowSaturation: 0
- ToneCurve: 0, 0, 255, 255
- ToneCurveName: Linear
- Version: 1.0
- Vibrance: +50
- VignetteAmount: 0
- WhiteBalance: As Shot
- XMP-dc
- Creator: dejita.ru
- Format: image/jpeg
- Rights: (C) DEJITA.RU
- Title: Wedding (16.08.2007)
- XMP-exif
- DateTimeDigitized: 2007:08:16 11:36:39+04:00
- DateTimeOriginal: 2007:08:16 11:36:39+04:00
- ExifImageHeight: 3543
- FlashFired: True
- FlashFunction: False
- FlashMode: On
- FlashRedEyeMode: False
- FlashReturn: No return detection
- XMP-iptcCore
- CreatorContactInfoCiAdrCity: Saint-Petersburg
- CreatorContactInfoCiAdrCtry: RUSSIA
- CreatorContactInfoCiEmailWork: info@dejita.ru
- CreatorContactInfoCiUrlWork: www.dejita.ru
- Location: Saint-Petersburg
- XMP-tiff
- ImageHeight: 3543
- ImageWidth: 5315
- XMP-xmp
- CreateDate: 2007:08:16 11:36:39+04:00
- ModifyDate: 2007:08:26 21:31:32+04:00
- XMP-xmpMM
- XMP-xmpRights
- Просмотров: 656
- Рейтинг: голосов еще нет
- Отзывов: 1