| » Участники » seismo » Пейзажи » Хмурое утро Гонконга |
Уважаемые друзья и участники проекта iXBT.photo! К сожалению, 1 марта 2026 года проект iXBT.photo прекратит свою работу и будет закрыт. Мы высоко ценим ваше участие и тот вклад, который вы внесли в развитие нашего сообщества. Пожалуйста, не забудьте сохранить ваши фотографии до этой даты.
С уважением, команда iXBT.com
| Хмурое утро Гонконга |
Хмурое утро Гонконга
- Раздел: Пейзаж
- Дата съёмки: 07.05.2008 09:48
- Дата загрузки фото: 01.12.2018 23:07
- Оригинальная фотография: 1950 x 1119 (424 Кб)
- Технические характеристики:
- Фотоаппарат: Nikon D200
- Выдержка: 0,0
- Гиперфокальное расстояние: inf m
- Диафрагма: 7,1
- Светочувствительность: 100
- Фокусное расстояние: 12,0 mm (35 mm equivalent: 12,0 mm)
- Полный EXIF
- Composite
- Aperture: 7,1
- CircleOfConfusion: 0,020 mm
- FOV: 112,0 deg
- FocalLength35efl: 12,0 mm (35 mm equivalent: 12,0 mm)
- HyperfocalDistance: inf m
- Megapixels: 2,2
- ScaleFactor35efl: 1,5
- ShutterSpeed: 0,0
- ExifIFD
- ApertureValue: 5,7
- ColorSpace: sRGB
- Contrast: Normal
- CreateDate: 2008:05:24 00:12:18
- CustomRendered: Normal
- DateTimeOriginal: 2008:05:07 09:48:07
- DigitalZoomRatio: 1
- ExposureCompensation: 0
- ExposureMode: Auto
- ExposureProgram: Aperture-priority AE
- ExposureTime: 0,0
- FNumber: 7,1
- Flash: No Flash
- FocalLength: 12,0 mm
- FocalLengthIn35mmFormat: 18 mm
- GainControl: None
- ISO: 100
- LightSource: Unknown
- MaxApertureValue: 4,0
- MeteringMode: Multi-segment
- Saturation: Normal
- SceneCaptureType: Standard
- SceneType: Directly photographed
- SensingMethod: One-chip color area
- Sharpness: Hard
- ShutterSpeedValue: 1/128
- SubjectDistanceRange: Unknown
- WhiteBalance: Auto
- IFD0
- Artist: Andrey Loukianov
- Make: NIKON CORPORATION
- Model: NIKON D200
- ModifyDate: 2018:12:01 12:07:20
- Orientation: Horizontal (normal)
- ProcessingSoftware: Windows Photo Editor 10.0.10011.16384
- Software: Windows Photo Editor 10.0.10011.16384
- IFD1
- IPTC
- By-line: Andrey Loukianov
- DateCreated: 2008:05:07
- System
- XMP-crs
- AlreadyApplied: True
- AutoLateralCA: 0
- AutoWhiteVersion: 134348800
- Blacks2012: -10
- BlueHue: 0
- BlueSaturation: 0
- CameraProfile: Embedded
- Clarity2012: +26
- ColorNoiseReduction: 0
- Contrast2012: 0
- ConvertToGrayscale: False
- DefringeGreenAmount: 0
- DefringeGreenHueHi: 60
- DefringeGreenHueLo: 40
- DefringePurpleAmount: 0
- DefringePurpleHueHi: 70
- DefringePurpleHueLo: 30
- Dehaze: 0
- Exposure2012: 0.00
- GrainAmount: 0
- GreenHue: 0
- GreenSaturation: 0
- HasCrop: False
- HasSettings: True
- Highlights2012: 0
- HueAdjustmentAqua: 0
- HueAdjustmentBlue: 0
- HueAdjustmentGreen: 0
- HueAdjustmentMagenta: 0
- HueAdjustmentOrange: 0
- HueAdjustmentPurple: 0
- HueAdjustmentRed: 0
- HueAdjustmentYellow: 0
- IncrementalTemperature: 0
- IncrementalTint: 0
- LensManualDistortionAmount: 0
- LensProfileEnable: 0
- LensProfileSetup: LensDefaults
- LuminanceAdjustmentAqua: 0
- LuminanceAdjustmentBlue: 0
- LuminanceAdjustmentGreen: 0
- LuminanceAdjustmentMagenta: 0
- LuminanceAdjustmentOrange: 0
- LuminanceAdjustmentPurple: 0
- LuminanceAdjustmentRed: 0
- LuminanceAdjustmentYellow: 0
- LuminanceSmoothing: 0
- ParametricDarks: 0
- ParametricHighlightSplit: 75
- ParametricHighlights: 0
- ParametricLights: 0
- ParametricMidtoneSplit: 50
- ParametricShadowSplit: 25
- ParametricShadows: 0
- PerspectiveAspect: 0
- PerspectiveHorizontal: 0
- PerspectiveRotate: 0.0
- PerspectiveScale: 100
- PerspectiveUpright: 0
- PerspectiveVertical: 0
- PerspectiveX: 0.00
- PerspectiveY: 0.00
- PostCropVignetteAmount: 0
- ProcessVersion: 6.7
- RedHue: 0
- RedSaturation: 0
- Saturation: 0
- SaturationAdjustmentAqua: 0
- SaturationAdjustmentBlue: 0
- SaturationAdjustmentGreen: 0
- SaturationAdjustmentMagenta: 0
- SaturationAdjustmentOrange: 0
- SaturationAdjustmentPurple: 0
- SaturationAdjustmentRed: 0
- SaturationAdjustmentYellow: 0
- ShadowTint: 0
- Shadows2012: 0
- SharpenDetail: 25
- SharpenEdgeMasking: 0
- SharpenRadius: +1.0
- Sharpness: 0
- SplitToningBalance: 0
- SplitToningHighlightHue: 0
- SplitToningHighlightSaturation: 0
- SplitToningShadowHue: 0
- SplitToningShadowSaturation: 0
- ToneCurve: 0, 0, 255, 255
- ToneCurveBlue: 0, 0, 255, 255
- ToneCurveGreen: 0, 0, 255, 255
- ToneCurveName: Linear
- ToneCurveName2012: Linear
- ToneCurvePV2012: 0, 0, 255, 255
- ToneCurvePV2012Blue: 0, 0, 255, 255
- ToneCurvePV2012Green: 0, 0, 255, 255
- ToneCurvePV2012Red: 0, 0, 255, 255
- ToneCurveRed: 0, 0, 255, 255
- ToneMapStrength: 0
- Version: 10.1
- Vibrance: +6
- VignetteAmount: 0
- WhiteBalance: As Shot
- Whites2012: +8
- XMP-dc
- Creator: Andrey Loukianov
- Format: image/jpeg
- XMP-exif
- XMP-tiff
- ReferenceBlackWhite: 0, 255, 0, 255, 0, 255
- XMP-xmp
- CreateDate: 2008:05:24 00:12:18+09:00
- CreatorTool: Windows Photo Editor 10.0.10011.16384
- ModifyDate: 2018:11:28 23:03:36-08:00
- Rating: 4
- XMP-xmpMM
- Просмотров: 560
- Рейтинг: голосов еще нет
- Отзывов: 0
Получить код для блога
| Вставка фотографии в текущем разрешении |
Вставка миниатюры |
HTML (для вставки в блог):
BBCode (для вставки в форум):
Ссылка на фото:
Ссылка на миниатюру:
- Послать ссылку другу
| Комментарии к фотографии |