- Раздел: Другое, разное
- Дата съёмки: неизвестно
- Дата загрузки фото: 15.02.2019 19:46
- Оригинальная фотография: 3964 x 2972 (4,9 Мб)
- Технические характеристики:
- Фотоаппарат: Apple iPhone SE
- Выдержка: 0,0
- Гиперфокальное расстояние: inf m
- Диафрагма: 2,2
- Светочувствительность: 200
- Фокусное расстояние: 4,0 mm (35 mm equivalent: 28,0 mm)
- Полный EXIF
- Adobe
- ColorTransform: Unknown (RGB or CMYK)
- Composite
- Aperture: 2,2
- CircleOfConfusion: 0,004 mm
- FOV: 65,0 deg
- FocalLength35efl: 4,0 mm (35 mm equivalent: 28,0 mm)
- GPSAltitude: 140 m Above Sea Level
- GPSDateTime: 2019:02:14 15:10:09Z
- GPSLatitude: 55 deg 45' 30,00" N
- GPSLongitude: 37 deg 37' 10,00" E
- GPSPosition: 55 deg 45' 30,00" N, 37 deg 37' 10,00" E
- HyperfocalDistance: inf m
- Megapixels: 11,8
- ScaleFactor35efl: 7,2
- ShutterSpeed: 0,0
- ExifIFD
- ApertureValue: 2,0
- BrightnessValue: 0,7267485064
- ColorSpace: Uncalibrated
- CreateDate: 2019:02:14 18:10:09
- DateTimeOriginal: 2019:02:14 18:10:09
- ExifImageHeight: 2972
- ExifImageWidth: 3964
- ExposureCompensation: 0
- ExposureMode: Auto
- ExposureProgram: Program AE
- ExposureTime: 0,0
- FNumber: 2,2
- Flash: Off, Did not fire
- FocalLength: 4,0 mm
- FocalLengthIn35mmFormat: 29 mm
- ISO: 200
- LensInfo: 4.15mm f/2.2
- LensMake: Apple
- LensModel: iPhone SE back camera 4.15mm f/2.2
- MeteringMode: Multi-segment
- SceneType: Directly photographed
- SensingMethod: One-chip color area
- ShutterSpeedValue: 1/16
- WhiteBalance: Auto
- GPS
- GPSAltitude: 140,409851 m
- GPSAltitudeRef: Above Sea Level
- GPSDateStamp: 2019:02:14
- GPSImgDirection: 346,9283753
- GPSImgDirectionRef: True North
- GPSLatitude: 55 deg 45' 30,00"
- GPSLatitudeRef: North
- GPSLongitude: 37 deg 37' 10,00"
- GPSLongitudeRef: East
- GPSSpeed: 0
- GPSSpeedRef: km/h
- GPSTimeStamp: 15:10:09
- ICC-header
- IFD0
- Copyright: muar@
- Make: Apple
- Model: iPhone SE
- ModifyDate: 2019:02:15 19:45:52
- Orientation: Horizontal (normal)
- IFD1
- IPTC
- CopyrightNotice: muar@
- DateCreated: 2019:02:14
- System
- XMP-aux
- Lens: iPhone SE back camera 4.15mm f/2.2
- VignetteCorrectionAlreadyApplied: True
- XMP-crs
- AlreadyApplied: True
- AutoLateralCA: 0
- Blacks2012: -5
- BlueHue: 0
- BlueSaturation: 0
- Clarity2012: +30
- ColorNoiseReduction: 25
- ColorNoiseReductionDetail: 50
- ColorNoiseReductionSmoothness: 50
- ColorTemperature: 3700
- Contrast2012: +30
- ConvertToGrayscale: True
- Dehaze: 0
- Exposure2012: 0.00
- GrainAmount: 0
- GrayMixerAqua: 0
- GrayMixerBlue: 0
- GrayMixerGreen: 0
- GrayMixerMagenta: 0
- GrayMixerOrange: 0
- GrayMixerPurple: 0
- GrayMixerRed: 0
- GrayMixerYellow: 0
- GreenHue: 0
- GreenSaturation: 0
- HasCrop: False
- HasSettings: True
- Highlights2012: -79
- LensManualDistortionAmount: 0
- LensProfileEnable: 0
- LensProfileSetup: LensDefaults
- LookAmount: 1.000000
- LookGroup: Profiles
- LookParametersClarity2012: +8
- LookParametersConvertToGrayscale: True
- LookParametersLookTable: 73ED6C18DDE909DD7EA2D771F5AC282D
- LookParametersProcessVersion: 11.0
- LookParametersToneCurvePV2012: 0, 0, 64, 56, 128, 128, 192, 197, 255, 255
- LookParametersToneCurvePV2012Blue: 0, 0, 255, 255
- LookParametersToneCurvePV2012Green: 0, 0, 255, 255
- LookParametersToneCurvePV2012Red: 0, 0, 255, 255
- LookParametersVersion: 11.2
- LookSupportsAmount: false
- LookSupportsMonochrome: false
- LookSupportsOutputReferred: false
- LuminanceNoiseReductionContrast: 0
- LuminanceNoiseReductionDetail: 50
- LuminanceSmoothing: 10
- OverrideLookVignette: False
- ParametricDarks: 0
- ParametricHighlightSplit: 75
- ParametricHighlights: 0
- ParametricLights: 0
- ParametricMidtoneSplit: 50
- ParametricShadowSplit: 25
- ParametricShadows: 0
- PerspectiveAspect: 0
- PerspectiveHorizontal: 0
- PerspectiveRotate: 0.0
- PerspectiveScale: 100
- PerspectiveUpright: 0
- PerspectiveVertical: 0
- PerspectiveX: 0.00
- PerspectiveY: 0.00
- PostCropVignetteAmount: 0
- ProcessVersion: 11.0
- RawFileName: 2019-02-14_18-10-10+0300.dng
- RedHue: 0
- RedSaturation: 0
- ShadowTint: 0
- Shadows2012: -14
- SharpenDetail: 25
- SharpenEdgeMasking: 50
- SharpenRadius: +1.4
- Sharpness: 50
- SplitToningBalance: 0
- SplitToningHighlightHue: 0
- SplitToningHighlightSaturation: 0
- SplitToningShadowHue: 0
- SplitToningShadowSaturation: 0
- Tint: +18
- ToneCurve: 0, 0, 32, 22, 64, 56, 128, 128, 192, 196, 255, 255
- ToneCurveBlue: 0, 0, 255, 255
- ToneCurveGreen: 0, 0, 255, 255
- ToneCurveName: Medium Contrast
- ToneCurveName2012: Linear
- ToneCurvePV2012: 0, 0, 255, 255
- ToneCurvePV2012Blue: 0, 0, 255, 255
- ToneCurvePV2012Green: 0, 0, 255, 255
- ToneCurvePV2012Red: 0, 0, 255, 255
- ToneCurveRed: 0, 0, 255, 255
- ToneMapStrength: 0
- Version: 11.2
- VignetteAmount: 0
- WhiteBalance: As Shot
- Whites2012: -7
- XMP-dc
- Format: image/jpeg
- Rights: muar@
- XMP-exifEX
- XMP-xmp
- CreatorTool: ProCamera 12.1.1
- ModifyDate: 2019:02:15 19:45:52+03:00
- Rating: 0
- XMP-xmpMM
- Просмотров: 154
- Рейтинг: голосов еще нет
- Отзывов: отключены