- Раздел: Спорт
- Дата съёмки: неизвестно
- Дата загрузки фото: 17.02.2019 06:38
- Оригинальная фотография: 6016 x 4016 (10,6 Мб)
- Технические характеристики:
- Фотоаппарат: Nikon D750
- Выдержка: 0,0
- Гиперфокальное расстояние: inf m
- Диафрагма: 16,0
- Светочувствительность: 100
- Фокусное расстояние: 85,0 mm (35 mm equivalent: 85,0 mm)
- Полный EXIF
- Adobe
- ColorTransform: YCbCr
- Composite
- Aperture: 16,0
- CircleOfConfusion: 0,030 mm
- FOV: 23,0 deg
- FocalLength35efl: 85,0 mm (35 mm equivalent: 85,0 mm)
- HyperfocalDistance: inf m
- LensID: AF-S Nikkor 24-120mm f/4G ED VR
- Megapixels: 24,2
- ScaleFactor35efl: 1,0
- ShutterSpeed: 0,0
- ExifIFD
- ApertureValue: 16,0
- CFAPattern: [Red,Green][Green,Blue]
- ColorSpace: sRGB
- Contrast: Normal
- CreateDate: 2018:02:16 12:11:34
- CustomRendered: Normal
- DateTimeOriginal: 2018:02:16 12:11:34
- DigitalZoomRatio: 1
- ExposureCompensation: 0
- ExposureMode: Auto
- ExposureProgram: Shutter speed priority AE
- ExposureTime: 0,0
- FNumber: 16,0
- Flash: Off, Did not fire
- FocalLength: 85,0 mm
- FocalLengthIn35mmFormat: 85 mm
- GainControl: None
- ISO: 100
- LensInfo: 24-120mm f/4
- LensModel: 24.0-120.0 mm f/4.0
- LightSource: Unknown
- MaxApertureValue: 4,0
- MeteringMode: Multi-segment
- Saturation: Normal
- SceneCaptureType: Standard
- SceneType: Directly photographed
- SensingMethod: One-chip color area
- SensitivityType: Recommended Exposure Index
- SerialNumber: 8538343
- Sharpness: Normal
- ShutterSpeedValue: 1/64
- SubjectDistanceRange: Unknown
- WhiteBalance: Auto
- ICC-header
- ICC-meas
- ICC-view
- IFD0
- Make: NIKON CORPORATION
- Model: NIKON D750
- ModifyDate: 2019:02:16 19:19:08
- IFD1
- IPTC
- DateCreated: 2018:02:16
- System
- XMP-aux
- ApproximateFocusDistance: 4294967295
- DistortionCorrectionAlreadyApplied: True
- ImageNumber: 14710
- Lens: 24.0-120.0 mm f/4.0
- LensID: 170
- VignetteCorrectionAlreadyApplied: True
- XMP-crs
- AlreadyApplied: True
- AutoLateralCA: 0
- AutoWhiteVersion: 134348800
- Blacks2012: 0
- BlueHue: 0
- BlueSaturation: 0
- Clarity2012: 0
- ColorNoiseReduction: 25
- ColorNoiseReductionDetail: 50
- ColorNoiseReductionSmoothness: 50
- ColorTemperature: 5500
- Contrast2012: +42
- ConvertToGrayscale: False
- DefringeGreenAmount: 0
- DefringeGreenHueHi: 60
- DefringeGreenHueLo: 40
- DefringePurpleAmount: 0
- DefringePurpleHueHi: 70
- DefringePurpleHueLo: 30
- Dehaze: 0
- Exposure2012: 0.00
- GradientBasedCorrActive: true
- GradientBasedCorrAmount: 1.000000
- GradientBasedCorrBrightness: 0.000000
- GradientBasedCorrClarity2012: 0.160490
- GradientBasedCorrContrast2012: 0.358020
- GradientBasedCorrDefringe: 0.000000
- GradientBasedCorrExposure2012: 0.000000
- GradientBasedCorrHighlights2012: -0.333330
- GradientBasedCorrHue: 230.000000
- GradientBasedCorrLocalBlacks2012: 0.000000
- GradientBasedCorrLocalDehaze: 0.000000
- GradientBasedCorrLocalWhites2012: -0.086420
- GradientBasedCorrLuminanceNoise: 0.000000
- GradientBasedCorrMaskFullX: 0.633826
- GradientBasedCorrMaskFullY: 0.012173
- GradientBasedCorrMaskValue: 1.000000
- GradientBasedCorrMaskWhat: Mask/Gradient
- GradientBasedCorrMaskZeroX: 0.631566
- GradientBasedCorrMaskZeroY: 1.015420
- GradientBasedCorrMoire: 0.000000
- GradientBasedCorrSaturation: 0.000000
- GradientBasedCorrShadows2012: 0.506170
- GradientBasedCorrSharpness: 1.000000
- GradientBasedCorrTemperature: 0.000000
- GradientBasedCorrTint: 0.000000
- GradientBasedCorrWhat: Correction
- GrainAmount: 0
- GreenHue: 0
- GreenSaturation: 0
- HasCrop: False
- HasSettings: True
- Highlights2012: -38
- HueAdjustmentAqua: 0
- HueAdjustmentBlue: 0
- HueAdjustmentGreen: 0
- HueAdjustmentMagenta: 0
- HueAdjustmentOrange: 0
- HueAdjustmentPurple: 0
- HueAdjustmentRed: 0
- HueAdjustmentYellow: 0
- LensManualDistortionAmount: 0
- LensProfileChromaticAberrationScale: 100
- LensProfileDistortionScale: 100
- LensProfileEnable: 1
- LensProfileFilename: NIKON D3X (Nikon AF-S NIKKOR 24-120mm f4G ED VR) v2 - RAW.lcp
- LensProfileSetup: LensDefaults
- LensProfileVignettingScale: 100
- LuminanceAdjustmentAqua: 0
- LuminanceAdjustmentBlue: 0
- LuminanceAdjustmentGreen: 0
- LuminanceAdjustmentMagenta: 0
- LuminanceAdjustmentOrange: 0
- LuminanceAdjustmentPurple: 0
- LuminanceAdjustmentRed: 0
- LuminanceAdjustmentYellow: 0
- LuminanceSmoothing: 0
- ParametricDarks: -11
- ParametricHighlightSplit: 75
- ParametricHighlights: 0
- ParametricLights: 0
- ParametricMidtoneSplit: 50
- ParametricShadowSplit: 25
- ParametricShadows: +38
- PerspectiveAspect: 0
- PerspectiveHorizontal: 0
- PerspectiveRotate: 0.0
- PerspectiveScale: 100
- PerspectiveUpright: 0
- PerspectiveVertical: 0
- PerspectiveX: 0.00
- PerspectiveY: 0.00
- PostCropVignetteAmount: 0
- ProcessVersion: 6.7
- RedHue: 0
- RedSaturation: 0
- Saturation: 0
- SaturationAdjustmentAqua: 0
- SaturationAdjustmentBlue: 0
- SaturationAdjustmentGreen: 0
- SaturationAdjustmentMagenta: 0
- SaturationAdjustmentOrange: 0
- SaturationAdjustmentPurple: 0
- SaturationAdjustmentRed: 0
- SaturationAdjustmentYellow: 0
- ShadowTint: 0
- Shadows2012: +42
- SharpenDetail: 25
- SharpenEdgeMasking: 0
- SharpenRadius: +1.0
- Sharpness: 25
- SplitToningBalance: 0
- SplitToningHighlightHue: 0
- SplitToningHighlightSaturation: 0
- SplitToningShadowHue: 0
- SplitToningShadowSaturation: 0
- Tint: +6
- ToneCurve: 0, 0, 255, 255
- ToneCurveBlue: 0, 0, 255, 255
- ToneCurveGreen: 0, 0, 255, 255
- ToneCurveName: Linear
- ToneCurveName2012: Linear
- ToneCurvePV2012: 0, 0, 255, 255
- ToneCurvePV2012Blue: 0, 0, 255, 255
- ToneCurvePV2012Green: 0, 0, 255, 255
- ToneCurvePV2012Red: 0, 0, 255, 255
- ToneCurveRed: 0, 0, 255, 255
- ToneMapStrength: 0
- Version: 9.12
- Vibrance: 0
- VignetteAmount: 0
- WhiteBalance: As Shot
- Whites2012: -44
- XMP-dc
- XMP-xmp
- CreateDate: 2018:02:16 12:11:34.40
- ModifyDate: 2019:02:16 19:19:08+03:00
- XMP-xmpMM
- Просмотров: 50
- Рейтинг: голосов еще нет
- Отзывов: 0