Уважаемые друзья и участники проекта iXBT.photo! К сожалению, 1 марта 2026 года проект iXBT.photo прекратит свою работу и будет закрыт. Мы высоко ценим ваше участие и тот вклад, который вы внесли в развитие нашего сообщества. Пожалуйста, не забудьте сохранить ваши фотографии до этой даты.
С уважением, команда iXBT.com
| Весь в белом |
Весь в белом
- Раздел: Животные
- Дата съёмки: неизвестно
- Дата загрузки фото: 27.02.2019 20:23
- Оригинальная фотография: 2160 x 2160 (1,3 Мб)
- Технические характеристики:
- Фотоаппарат: Panasonic DMC-FZ150
- Выдержка: 0,0
- Гиперфокальное расстояние: inf m
- Диафрагма: 4,5
- Светочувствительность: 100
- Фокусное расстояние: 21,0 mm (35 mm equivalent: 105,0 mm)
- Полный EXIF
- Adobe
- ColorTransform: YCbCr
- Composite
- Aperture: 4,5
- CircleOfConfusion: 0,005 mm
- FOV: 19,0 deg
- FocalLength35efl: 21,0 mm (35 mm equivalent: 105,0 mm)
- HyperfocalDistance: inf m
- Megapixels: 4,7
- ScaleFactor35efl: 5,7
- ShutterSpeed: 0,0
- ExifIFD
- ApertureValue: 4,0
- ColorSpace: sRGB
- Contrast: Low
- CreateDate: 2018:10:05 09:54:19
- CustomRendered: Custom
- DateTimeOriginal: 2018:10:05 09:54:19
- DigitalZoomRatio: 0
- ExifImageHeight: 2160
- ExifImageWidth: 2160
- ExposureCompensation: 0
- ExposureMode: Auto
- ExposureProgram: Aperture-priority AE
- ExposureTime: 0,0
- FNumber: 4,5
- Flash: Off, Did not fire
- FocalLength: 21,0 mm
- FocalLengthIn35mmFormat: 120 mm
- GainControl: None
- ISO: 100
- LightSource: Fine Weather
- MaxApertureValue: 2,8
- MeteringMode: Center-weighted average
- Saturation: Normal
- SceneCaptureType: Standard
- SceneType: Directly photographed
- SensingMethod: One-chip color area
- Sharpness: Normal
- ShutterSpeedValue: 1/1024
- WhiteBalance: Manual
- ICC-header
- ICC-meas
- ICC-view
- IFD0
- Make: Panasonic
- Model: DMC-FZ150
- ModifyDate: 2019:02:16 11:14:21
- Orientation: Horizontal (normal)
- IFD1
- IPTC
- DateCreated: 2018:10:05
- System
- XMP-aux
- DistortionCorrectionAlreadyApplied: True
- LateralChromaticAberrationCorrectionAlreadyApplied: True
- XMP-crs
- AlreadyApplied: True
- AutoLateralCA: 1
- AutoWhiteVersion: 134348800
- Blacks2012: 0
- BlueHue: 0
- BlueSaturation: 0
- Clarity2012: -10
- ColorNoiseReduction: 15
- ColorNoiseReductionDetail: 50
- ColorNoiseReductionSmoothness: 50
- ColorTemperature: 5150
- Contrast2012: +15
- ConvertToGrayscale: False
- CropAngle: 0
- CropBottom: 1
- CropConstrainToWarp: 1
- CropHeight: 1
- CropLeft: 0.144279
- CropRight: 0.894279
- CropTop: 0
- CropUnit: Unknown (3)
- CropWidth: 1
- DefringeGreenAmount: 1
- DefringeGreenHueHi: 80
- DefringeGreenHueLo: 20
- DefringePurpleAmount: 1
- DefringePurpleHueHi: 70
- DefringePurpleHueLo: 30
- Dehaze: 0
- Exposure2012: 0.00
- GrainAmount: 0
- GreenHue: 0
- GreenSaturation: 0
- HasCrop: True
- HasSettings: True
- Highlights2012: -20
- HueAdjustmentAqua: 0
- HueAdjustmentBlue: 0
- HueAdjustmentGreen: 0
- HueAdjustmentMagenta: 0
- HueAdjustmentOrange: 0
- HueAdjustmentPurple: 0
- HueAdjustmentRed: 0
- HueAdjustmentYellow: 0
- LensManualDistortionAmount: 0
- LensProfileEnable: 0
- LensProfileSetup: LensDefaults
- LuminanceAdjustmentAqua: 0
- LuminanceAdjustmentBlue: 0
- LuminanceAdjustmentGreen: 0
- LuminanceAdjustmentMagenta: 0
- LuminanceAdjustmentOrange: 0
- LuminanceAdjustmentPurple: 0
- LuminanceAdjustmentRed: 0
- LuminanceAdjustmentYellow: 0
- LuminanceSmoothing: 0
- ParametricDarks: 0
- ParametricHighlightSplit: 75
- ParametricHighlights: 0
- ParametricLights: 0
- ParametricMidtoneSplit: 50
- ParametricShadowSplit: 25
- ParametricShadows: 0
- PerspectiveAspect: 0
- PerspectiveHorizontal: 0
- PerspectiveRotate: 0.0
- PerspectiveScale: 100
- PerspectiveUpright: 0
- PerspectiveVertical: 0
- PostCropVignetteAmount: 0
- ProcessVersion: 6.7
- RawFileName: P1040165.RW2
- RedHue: 0
- RedSaturation: 0
- Saturation: +7
- SaturationAdjustmentAqua: 0
- SaturationAdjustmentBlue: 0
- SaturationAdjustmentGreen: 0
- SaturationAdjustmentMagenta: 0
- SaturationAdjustmentOrange: 0
- SaturationAdjustmentPurple: 0
- SaturationAdjustmentRed: 0
- SaturationAdjustmentYellow: 0
- ShadowTint: 0
- Shadows2012: 0
- SharpenDetail: 0
- SharpenEdgeMasking: 0
- SharpenRadius: +0.5
- Sharpness: 0
- SplitToningBalance: 0
- SplitToningHighlightHue: 0
- SplitToningHighlightSaturation: 0
- SplitToningShadowHue: 0
- SplitToningShadowSaturation: 0
- Tint: +14
- ToneCurve: 0, 0, 32, 22, 64, 56, 128, 128, 192, 196, 255, 255
- ToneCurveBlue: 0, 0, 255, 255
- ToneCurveGreen: 0, 0, 255, 255
- ToneCurveName: Medium Contrast
- ToneCurveName2012: Linear
- ToneCurvePV2012: 0, 0, 255, 255
- ToneCurvePV2012Blue: 0, 0, 255, 255
- ToneCurvePV2012Green: 0, 0, 255, 255
- ToneCurvePV2012Red: 0, 0, 255, 255
- ToneCurveRed: 0, 0, 255, 255
- ToneMapStrength: 0
- Version: 9.2
- Vibrance: +7
- VignetteAmount: 0
- WhiteBalance: Custom
- Whites2012: -50
- XMP-dc
- XMP-xmp
- ModifyDate: 2019:02:16 11:14:21+03:00
- Rating: 0
- XMP-xmpMM
Получить код для блога
| Вставка фотографии в текущем разрешении |
Вставка миниатюры |
HTML (для вставки в блог):
BBCode (для вставки в форум):
Ссылка на фото:
Ссылка на миниатюру:
- Послать ссылку другу
| Комментарии к фотографии |