- Раздел: Другое, разное
- Дата съёмки: неизвестно
- Дата загрузки фото: 15.04.2019 22:44
- Оригинальная фотография: 5976 x 3992 (5,9 Мб)
- Технические характеристики:
- Фотоаппарат: Zenit M
- Выдержка: 0,0
- Диафрагма: 1,2
- Светочувствительность: 200
- Фокусное расстояние: 35,0 mm
- Полный EXIF
- Adobe
- ColorTransform: Unknown (RGB or CMYK)
- Composite
- Aperture: 1,2
- FocalLength35efl: 35,0 mm
- GPSAltitude: 0 m Above Sea Level
- GPSDateTime: 2000:00:00 00:00:00Z
- GPSLatitude: 55 deg 49' 24,00" N
- GPSLongitude: 37 deg 23' 23,00" E
- GPSPosition: 55 deg 49' 24,00" N, 37 deg 23' 23,00" E
- Megapixels: 23,9
- ShutterSpeed: 0,0
- ExifIFD
- ApertureValue: 1,0
- ColorSpace: sRGB
- Contrast: Normal
- CreateDate: 2019:04:13 15:00:00
- CustomRendered: Normal
- DateTimeOriginal: 2019:04:13 15:00:00
- DigitalZoomRatio: 0
- ExifImageHeight: 3992
- ExifImageWidth: 5976
- ExposureCompensation: 0
- ExposureMode: Auto
- ExposureProgram: Aperture-priority AE
- ExposureTime: 0,0
- FNumber: 1,2
- Flash: No Flash
- FocalLength: 35,0 mm
- ISO: 200
- LensInfo: 35mm f/1-16
- LensMake: Zenit
- LensModel: Zenitar 1:1.0/35
- LensSerialNumber: -------
- LightSource: Unknown
- MaxApertureValue: 1,0
- MeteringMode: Center-weighted average
- Saturation: Normal
- SceneCaptureType: Standard
- SceneType: Directly photographed
- SerialNumber: 2860002
- Sharpness: Normal
- ShutterSpeedValue: 1/256
- UserComment: ZENIT M aka Leica M (Typ 240) + Zenitar 1:1.0/35
- WhiteBalance: Auto
- GPS
- GPSAltitude: 0 m
- GPSAltitudeRef: Above Sea Level
- GPSDOP: 0
- GPSDateStamp: 2000:00:00
- GPSLatitude: 55 deg 49' 24,00"
- GPSLatitudeRef: North
- GPSLongitude: 37 deg 23' 23,00"
- GPSLongitudeRef: East
- GPSSpeed: 0
- GPSStatus: Measurement Void
- GPSTimeStamp: 00:00:00
- GPSTrack: 0
- GPSVersionID: 2.2.0.0
- ICC-header
- IFD0
- Artist: muar@
- Copyright: muar@
- ImageDescription: ZENIT M + Zenitar 1:1.0/35
- Make: Zenit
- Model: ZENIT M
- ModifyDate: 2019:04:14 22:32:47
- Orientation: Horizontal (normal)
- IFD1
- IPTC
- City: Moscow
- Country-PrimaryLocationCode: RUS
- DateCreated: 2019:04:13
- Keywords: Zenitar 1:1.0/35, FOTOFORUM 2019, Moscow, Russia, ZENIT M
- System
- XMP-aux
- Lens: Zenitar 1:1.0/35
- XMP-crs
- AlreadyApplied: True
- AutoLateralCA: 0
- Blacks2012: -14
- BlueHue: 0
- BlueSaturation: 0
- CameraProfile: Embedded
- Clarity2012: +7
- ColorNoiseReduction: 25
- ColorNoiseReductionDetail: 50
- ColorNoiseReductionSmoothness: 50
- ColorTemperature: 4750
- Contrast2012: +48
- ConvertToGrayscale: True
- Dehaze: 0
- Exposure2012: +0.90
- GrainAmount: 0
- GrayMixerAqua: 0
- GrayMixerBlue: 0
- GrayMixerGreen: 0
- GrayMixerMagenta: 0
- GrayMixerOrange: 0
- GrayMixerPurple: 0
- GrayMixerRed: 0
- GrayMixerYellow: 0
- GreenHue: 0
- GreenSaturation: 0
- HasCrop: False
- HasSettings: True
- Highlights2012: -26
- LensManualDistortionAmount: 0
- LensProfileEnable: 0
- LensProfileSetup: LensDefaults
- LuminanceSmoothing: 0
- OverrideLookVignette: False
- ParametricDarks: 0
- ParametricHighlightSplit: 75
- ParametricHighlights: 0
- ParametricLights: 0
- ParametricMidtoneSplit: 50
- ParametricShadowSplit: 25
- ParametricShadows: 0
- PerspectiveAspect: 0
- PerspectiveHorizontal: 0
- PerspectiveRotate: 0.0
- PerspectiveScale: 100
- PerspectiveUpright: 0
- PerspectiveVertical: 0
- PerspectiveX: 0.00
- PerspectiveY: 0.00
- PostCropVignetteAmount: 0
- ProcessVersion: 11.0
- RawFileName: Z1003071.DNG
- RedHue: 0
- RedSaturation: 0
- ShadowTint: 0
- Shadows2012: 0
- SharpenDetail: 25
- SharpenEdgeMasking: 0
- SharpenRadius: +1.0
- Sharpness: 40
- SplitToningBalance: 0
- SplitToningHighlightHue: 0
- SplitToningHighlightSaturation: 0
- SplitToningShadowHue: 0
- SplitToningShadowSaturation: 0
- Tint: -1
- ToneCurve: 0, 0, 32, 22, 64, 56, 128, 128, 192, 196, 255, 255
- ToneCurveBlue: 0, 0, 255, 255
- ToneCurveGreen: 0, 0, 255, 255
- ToneCurveName: Medium Contrast
- ToneCurveName2012: Linear
- ToneCurvePV2012: 0, 0, 255, 255
- ToneCurvePV2012Blue: 0, 0, 255, 255
- ToneCurvePV2012Green: 0, 0, 255, 255
- ToneCurvePV2012Red: 0, 0, 255, 255
- ToneCurveRed: 0, 0, 255, 255
- ToneMapStrength: 0
- Version: 11.2.1
- VignetteAmount: 0
- WhiteBalance: As Shot
- Whites2012: 0
- XMP-dc
- XMP-exifEX
- XMP-prism
- Keyword: Zenitar 1:1.0/35, ZENIT M, Moscow, Russia, FOTOFORUM 2019
- XMP-xmp
- CreateDate: 2019:04:13 15:00
- CreatorTool: 1.0.6.0
- ModifyDate: 2019:04:14 22:32:47+03:00
- Rating: 0
- XMP-xmpMM
- Просмотров: 194
- Рейтинг: голосов еще нет
- Отзывов: отключены