- Раздел: Природа
- Дата съёмки: 16.09.2007 16:57
- Дата загрузки фото: 16.09.2007 17:25
- Оригинальная фотография: 2350 x 1600 (794 Кб)
- Технические характеристики:
- Фотоаппарат: Leica Camera AG M8
- Выдержка: 1/90
- Светочувствительность: 160
- Экспокоррекция: -1
- Полный EXIF
- ColorTransform: YCbCr
- Composite
- CircleOfConfusion: 0,013 mm
- ScaleFactor35efl: 2,2
- ShutterSpeed: 1/90
- ExifIFD
- ColorSpace: sRGB
- CreateDate: 2007:09:14 11:47:14
- DateTimeOriginal: 2007:09:14 11:47:14
- DigitalZoomRatio: 0
- ExifImageLength: 1600
- ExifImageWidth: 2350
- ExposureCompensation: -1
- ExposureProgram: Aperture-priority AE
- ExposureTime: 1/90
- Flash: Auto, Did not fire
- ISO: 160
- LightSource: Unknown (0)
- MaxApertureValue: 1,0
- MeteringMode: Center-weighted average
- SceneCaptureType: Standard
- SceneType: Directly photographed
- ShutterSpeedValue: 1/90
- WhiteBalance: Auto
- ICC-header
- ICC-meas
- ICC-view
- IFD0
- BitsPerSample: 16 16 16
- ImageHeight: 2634
- ImageWidth: 3916
- Make: Leica Camera AG
- Model: M8 Digital Camera
- ModifyDate: 2007:09:16 16:57:27
- Orientation: Horizontal (normal)
- PhotometricInterpretation: RGB
- PlanarConfiguration: Chunky
- SamplesPerPixel: 3
- IFD1
- IPTC
- XMP-aux
- XMP-crs
- AlreadyApplied: True
- BlueHue: 0
- BlueSaturation: 0
- Brightness: +50
- CameraProfile: ACR 3.6
- ChromaticAberrationB: 0
- ChromaticAberrationR: 0
- Clarity: 26
- ColorNoiseReduction: 25
- Contrast: +25
- ConvertToGrayscale: False
- Defringe: 0
- Exposure: 0.00
- FillLight: 0
- GreenHue: 0
- GreenSaturation: 0
- HasCrop: False
- HasSettings: True
- HighlightRecovery: 0
- HueAdjustmentAqua: 0
- HueAdjustmentBlue: 0
- HueAdjustmentGreen: 0
- HueAdjustmentMagenta: 0
- HueAdjustmentOrange: 0
- HueAdjustmentPurple: 0
- HueAdjustmentRed: 0
- HueAdjustmentYellow: 0
- LuminanceAdjustmentAqua: 0
- LuminanceAdjustmentBlue: 0
- LuminanceAdjustmentGreen: 0
- LuminanceAdjustmentMagenta: 0
- LuminanceAdjustmentOrange: 0
- LuminanceAdjustmentPurple: 0
- LuminanceAdjustmentRed: 0
- LuminanceAdjustmentYellow: 0
- LuminanceSmoothing: 0
- ParametricDarks: 0
- ParametricHighlightSplit: 75
- ParametricHighlights: 0
- ParametricLights: 0
- ParametricMidtoneSplit: 50
- ParametricShadowSplit: 25
- ParametricShadows: 0
- RedHue: 0
- RedSaturation: 0
- Saturation: 0
- SaturationAdjustmentAqua: 0
- SaturationAdjustmentBlue: 0
- SaturationAdjustmentGreen: 0
- SaturationAdjustmentMagenta: 0
- SaturationAdjustmentOrange: 0
- SaturationAdjustmentPurple: 0
- SaturationAdjustmentRed: 0
- SaturationAdjustmentYellow: 0
- ShadowTint: 0
- Shadows: 0
- SharpenDetail: 26
- SharpenEdgeMasking: 0
- SharpenRadius: +0.7
- Sharpness: 32
- SplitToningBalance: 0
- SplitToningHighlightHue: 0
- SplitToningHighlightSaturation: 0
- SplitToningShadowHue: 0
- SplitToningShadowSaturation: 0
- Temperature: 6000
- Tint: +30
- ToneCurve: 0, 0, 32, 22, 64, 56, 128, 128, 192, 196, 255, 255
- ToneCurveName: Medium Contrast
- Version: 1.0
- Vibrance: +20
- VignetteAmount: 0
- XMP-dc
- XMP-exif
- DateTimeDigitized: 2007:09:14 11:47:14+04:00
- DateTimeOriginal: 2007:09:14 11:47:14+04:00
- ExifImageHeight: 1600
- FlashFired: False
- FlashFunction: False
- FlashMode: Auto
- FlashRedEyeMode: False
- FlashReturn: No return detection
- XMP-tiff
- BitsPerSample: 16, 16, 16
- XMP-xmp
- CreateDate: 2007:09:16 16:57:27+04:00
- ModifyDate: 2007:09:16 16:57:27+04:00
- XMP-xmpMM
- DerivedFrom:
- Просмотров: 510
- Рейтинг: голосов еще нет
- Отзывов: 0