Уважаемые друзья и участники проекта iXBT.photo! К сожалению, 1 марта 2026 года проект iXBT.photo прекратит свою работу и будет закрыт. Мы высоко ценим ваше участие и тот вклад, который вы внесли в развитие нашего сообщества. Пожалуйста, не забудьте сохранить ваши фотографии до этой даты.
С уважением, команда iXBT.com
| IMG_0418.jpg |
IMG_0418.jpg
- Раздел: Другое, разное
- Дата съёмки: неизвестно
- Дата загрузки фото: 06.06.2019 04:37
- Оригинальная фотография: 1846 x 2400 (3,8 Мб)
- Технические характеристики:
- Фотоаппарат: Apple iPhone XS Max
- Выдержка: 0,0
- Гиперфокальное расстояние: inf m
- Диафрагма: 2,4
- Светочувствительность: 16
- Фокусное расстояние: 6,0 mm (35 mm equivalent: 48,0 mm)
- Полный EXIF
- Composite
- Aperture: 2,4
- CircleOfConfusion: 0,003 mm
- FOV: 41,0 deg
- FocalLength35efl: 6,0 mm (35 mm equivalent: 48,0 mm)
- GPSLatitude: 45 deg 45' 22,00" N
- GPSLongitude: 93 deg 1' 34,00" W
- GPSPosition: 45 deg 45' 22,00" N, 93 deg 1' 34,00" W
- HyperfocalDistance: inf m
- Megapixels: 4,4
- ScaleFactor35efl: 8,7
- ShutterSpeed: 0,0
- ExifIFD
- ApertureValue: 2,0
- BrightnessValue: 11,32152146
- ColorSpace: sRGB
- CreateDate: 2018:12:18 11:39:35
- DateTimeOriginal: 2018:12:18 11:39:35
- ExifImageHeight: 2400
- ExifImageWidth: 1846
- ExposureCompensation: 0
- ExposureMode: Manual
- ExposureProgram: Manual
- ExposureTime: 0,0
- FNumber: 2,4
- Flash: Off, Did not fire
- FocalLength: 6,0 mm
- FocalLengthIn35mmFormat: 52 mm
- ISO: 16
- LensInfo: 6mm f/2.4
- LensMake: Apple
- LensModel: iPhone XS Max back camera 6mm f/2.4
- MeteringMode: Multi-segment
- SceneType: Directly photographed
- SensingMethod: One-chip color area
- ShutterSpeedValue: 1/1024
- SubjectArea: 793 1968 717 756
- WhiteBalance: Auto
- GPS
- GPSLatitude: 45 deg 45' 22,00"
- GPSLatitudeRef: North
- GPSLongitude: 93 deg 1' 34,00"
- GPSLongitudeRef: West
- ICC-header
- ICC-meas
- ICC-view
- IFD0
- Make: Apple
- Model: iPhone XS Max
- ModifyDate: 2019:06:05 17:28:37
- Orientation: Horizontal (normal)
- IPTC
- DateCreated: 2018:12:18
- System
- XMP-aux
- Lens: iPhone XS Max back camera 6mm f/2.4
- VignetteCorrectionAlreadyApplied: True
- XMP-crs
- AlreadyApplied: True
- AutoLateralCA: 0
- Blacks2012: -16
- BlueHue: 0
- BlueSaturation: 0
- CameraProfile: Embedded
- Clarity2012: +20
- ColorNoiseReduction: 25
- ColorNoiseReductionDetail: 50
- ColorNoiseReductionSmoothness: 50
- ColorTemperature: 4950
- Contrast2012: +10
- ConvertToGrayscale: False
- CropAngle: 0
- CropBottom: 1
- CropConstrainToWarp: 1
- CropLeft: 0
- CropRight: 0.975186
- CropTop: 0
- DefringeGreenAmount: 0
- DefringeGreenHueHi: 60
- DefringeGreenHueLo: 40
- DefringePurpleAmount: 0
- DefringePurpleHueHi: 70
- DefringePurpleHueLo: 30
- Dehaze: 0
- Exposure2012: -0.10
- GrainAmount: 0
- GreenHue: 0
- GreenSaturation: 0
- HasCrop: True
- HasSettings: True
- Highlights2012: 0
- HueAdjustmentAqua: 0
- HueAdjustmentBlue: 0
- HueAdjustmentGreen: 0
- HueAdjustmentMagenta: 0
- HueAdjustmentOrange: 0
- HueAdjustmentPurple: 0
- HueAdjustmentRed: 0
- HueAdjustmentYellow: 0
- LensManualDistortionAmount: 0
- LensProfileEnable: 0
- LensProfileSetup: LensDefaults
- LuminanceAdjustmentAqua: 0
- LuminanceAdjustmentBlue: 0
- LuminanceAdjustmentGreen: 0
- LuminanceAdjustmentMagenta: 0
- LuminanceAdjustmentOrange: 0
- LuminanceAdjustmentPurple: 0
- LuminanceAdjustmentRed: 0
- LuminanceAdjustmentYellow: 0
- LuminanceSmoothing: 0
- OverrideLookVignette: True
- ParametricDarks: 0
- ParametricHighlightSplit: 75
- ParametricHighlights: 0
- ParametricLights: 0
- ParametricMidtoneSplit: 50
- ParametricShadowSplit: 25
- ParametricShadows: 0
- PerspectiveAspect: 0
- PerspectiveHorizontal: 0
- PerspectiveRotate: 0.0
- PerspectiveScale: 100
- PerspectiveUpright: 0
- PerspectiveVertical: 0
- PerspectiveX: 0.00
- PerspectiveY: 0.00
- PostCropVignetteAmount: -10
- PostCropVignetteFeather: 50
- PostCropVignetteHighlightContrast: 0
- PostCropVignetteMidpoint: 50
- PostCropVignetteRoundness: 0
- PostCropVignetteStyle: 1
- ProcessVersion: 10.0
- RawFileName: IMG_0418.dng
- RedHue: 0
- RedSaturation: 0
- Saturation: +25
- SaturationAdjustmentAqua: 0
- SaturationAdjustmentBlue: 0
- SaturationAdjustmentGreen: 0
- SaturationAdjustmentMagenta: 0
- SaturationAdjustmentOrange: 0
- SaturationAdjustmentPurple: 0
- SaturationAdjustmentRed: 0
- SaturationAdjustmentYellow: 0
- ShadowTint: 0
- Shadows2012: -5
- SharpenDetail: 25
- SharpenEdgeMasking: 0
- SharpenRadius: +1.0
- Sharpness: 25
- SplitToningBalance: 0
- SplitToningHighlightHue: 0
- SplitToningHighlightSaturation: 0
- SplitToningShadowHue: 0
- SplitToningShadowSaturation: 0
- Tint: +3
- ToneCurve: 0, 0, 255, 255
- ToneCurveBlue: 0, 19, 255, 231
- ToneCurveGreen: 0, 0, 59, 52, 130, 131, 200, 211, 255, 255
- ToneCurveName: Custom
- ToneCurveName2012: Custom
- ToneCurvePV2012: 0, 0, 255, 255
- ToneCurvePV2012Blue: 0, 19, 255, 231
- ToneCurvePV2012Green: 0, 0, 59, 52, 130, 131, 200, 211, 255, 255
- ToneCurvePV2012Red: 0, 0, 61, 44, 130, 125, 207, 223, 255, 255
- ToneCurveRed: 0, 0, 61, 44, 130, 125, 207, 223, 255, 255
- ToneMapStrength: 0
- Version: 11.2
- Vibrance: +19
- VignetteAmount: 0
- WhiteBalance: As Shot
- Whites2012: +32
- XMP-dc
- XMP-exifEX
- PhotographicSensitivity: 16
- XMP-x
- XMP-xmp
- ModifyDate: 2019:06:05 17:28:37-07:00
- Rating: 0
- XMP-xmpMM
- Просмотров: 39
- Рейтинг: голосов еще нет
- Отзывов: отключены
Получить код для блога
| Вставка фотографии в текущем разрешении |
Вставка миниатюры |
HTML (для вставки в блог):
BBCode (для вставки в форум):
Ссылка на фото:
Ссылка на миниатюру:
- Послать ссылку другу
| Комментарии к фотографии |