- Раздел: Другое, разное
- Дата съёмки: неизвестно
- Дата загрузки фото: 06.06.2019 21:06
- Оригинальная фотография: 3024 x 4032 (4,1 Мб)
- Технические характеристики:
- Фотоаппарат: Apple iPhone SE
- Выдержка: 0,0
- Гиперфокальное расстояние: inf m
- Диафрагма: 2,2
- Светочувствительность: 25
- Фокусное расстояние: 4,0 mm (35 mm equivalent: 28,0 mm)
- Полный EXIF
- Adobe
- ColorTransform: Unknown (RGB or CMYK)
- Composite
- Aperture: 2,2
- CircleOfConfusion: 0,004 mm
- FOV: 65,0 deg
- FocalLength35efl: 4,0 mm (35 mm equivalent: 28,0 mm)
- GPSAltitude: 141 m Above Sea Level
- GPSDateTime: 2019:06:05 13:22:56Z
- GPSLatitude: 55 deg 45' 11,00" N
- GPSLongitude: 37 deg 38' 13,00" E
- GPSPosition: 55 deg 45' 11,00" N, 37 deg 38' 13,00" E
- HyperfocalDistance: inf m
- Megapixels: 12,2
- ScaleFactor35efl: 7,2
- ShutterSpeed: 0,0
- ExifIFD
- ApertureValue: 2,0
- BrightnessValue: 11,27776967
- ColorSpace: Uncalibrated
- CreateDate: 2019:06:05 16:23:22
- DateTimeOriginal: 2019:06:05 16:23:22
- ExifImageHeight: 4032
- ExifImageWidth: 3024
- ExposureCompensation: 0
- ExposureMode: Auto
- ExposureProgram: Program AE
- ExposureTime: 0,0
- FNumber: 2,2
- Flash: Off, Did not fire
- FocalLength: 4,0 mm
- FocalLengthIn35mmFormat: 29 mm
- ISO: 25
- LensMake: Apple
- MeteringMode: Multi-segment
- SceneType: Directly photographed
- SensingMethod: One-chip color area
- ShutterSpeedValue: 1/2048
- SubjectArea: 2015 1511 2217 1330
- WhiteBalance: Auto
- GPS
- GPSAltitude: 141,590393 m
- GPSAltitudeRef: Above Sea Level
- GPSDOP: 2000
- GPSDateStamp: 2019:06:05
- GPSHPositioningError: 2000 m
- GPSImgDirection: 47,34259032
- GPSImgDirectionRef: True North
- GPSLatitude: 55 deg 45' 11,00"
- GPSLatitudeRef: North
- GPSLongitude: 37 deg 38' 13,00"
- GPSLongitudeRef: East
- GPSTimeStamp: 13:22:56
- ICC-header
- IFD0
- Copyright: В© muar
- Make: Apple
- Model: iPhone SE
- ModifyDate: 2019:06:06 19:59:06
- Orientation: Horizontal (normal)
- IFD1
- IPTC
- CopyrightNotice: В© muar
- DateCreated: 2019:06:05
- System
- XMP-aux
- Lens: iPhone SE back camera 4.15mm f/2.2
- LensInfo: 4.15mm f/2.2
- VignetteCorrectionAlreadyApplied: True
- XMP-crs
- AlreadyApplied: True
- AutoLateralCA: 0
- Blacks2012: -15
- BlueHue: 0
- BlueSaturation: 0
- CameraProfile: Camera Default
- Clarity2012: +22
- ColorNoiseReduction: 25
- ColorNoiseReductionDetail: 50
- ColorNoiseReductionSmoothness: 50
- ColorTemperature: 5050
- Contrast2012: +19
- ConvertToGrayscale: False
- DefringeGreenAmount: 0
- DefringeGreenHueHi: 60
- DefringeGreenHueLo: 40
- DefringePurpleAmount: 0
- DefringePurpleHueHi: 70
- DefringePurpleHueLo: 30
- Dehaze: 0
- Exposure2012: +0.10
- GrainAmount: 0
- GreenHue: 0
- GreenSaturation: 0
- HasCrop: False
- HasSettings: True
- Highlights2012: -61
- HueAdjustmentAqua: 0
- HueAdjustmentBlue: 0
- HueAdjustmentGreen: 0
- HueAdjustmentMagenta: 0
- HueAdjustmentOrange: 0
- HueAdjustmentPurple: 0
- HueAdjustmentRed: 0
- HueAdjustmentYellow: 0
- LensManualDistortionAmount: 0
- LensProfileEnable: 0
- LensProfileSetup: LensDefaults
- LuminanceAdjustmentAqua: 0
- LuminanceAdjustmentBlue: 0
- LuminanceAdjustmentGreen: 0
- LuminanceAdjustmentMagenta: 0
- LuminanceAdjustmentOrange: 0
- LuminanceAdjustmentPurple: 0
- LuminanceAdjustmentRed: 0
- LuminanceAdjustmentYellow: 0
- LuminanceNoiseReductionContrast: 0
- LuminanceNoiseReductionDetail: 50
- LuminanceSmoothing: 10
- OverrideLookVignette: False
- ParametricDarks: 0
- ParametricHighlightSplit: 75
- ParametricHighlights: 0
- ParametricLights: 0
- ParametricMidtoneSplit: 50
- ParametricShadowSplit: 25
- ParametricShadows: 0
- PerspectiveAspect: 0
- PerspectiveHorizontal: 0
- PerspectiveRotate: 0.0
- PerspectiveScale: 100
- PerspectiveUpright: 0
- PerspectiveVertical: 0
- PerspectiveX: 0.00
- PerspectiveY: 0.00
- PostCropVignetteAmount: 0
- ProcessVersion: 11.0
- RawFileName: APC_0154_3bea52001a764b278b4c0f570b939d1f.dng
- RedHue: 0
- RedSaturation: 0
- Saturation: 0
- SaturationAdjustmentAqua: 0
- SaturationAdjustmentBlue: 0
- SaturationAdjustmentGreen: 0
- SaturationAdjustmentMagenta: 0
- SaturationAdjustmentOrange: 0
- SaturationAdjustmentPurple: 0
- SaturationAdjustmentRed: 0
- SaturationAdjustmentYellow: 0
- ShadowTint: 0
- Shadows2012: -15
- SharpenDetail: 25
- SharpenEdgeMasking: 0
- SharpenRadius: +1.4
- Sharpness: 0
- SplitToningBalance: 0
- SplitToningHighlightHue: 0
- SplitToningHighlightSaturation: 0
- SplitToningShadowHue: 0
- SplitToningShadowSaturation: 0
- Texture: +5
- Tint: +7
- ToneCurve: 0, 0, 32, 22, 64, 56, 128, 128, 192, 196, 255, 255
- ToneCurveBlue: 0, 0, 255, 255
- ToneCurveGreen: 0, 0, 255, 255
- ToneCurveName: Medium Contrast
- ToneCurveName2012: Linear
- ToneCurvePV2012: 0, 0, 255, 255
- ToneCurvePV2012Blue: 0, 0, 255, 255
- ToneCurvePV2012Green: 0, 0, 255, 255
- ToneCurvePV2012Red: 0, 0, 255, 255
- ToneCurveRed: 0, 0, 255, 255
- ToneMapStrength: 0
- Version: 11.3.1
- Vibrance: +17
- VignetteAmount: 0
- WhiteBalance: Custom
- Whites2012: +15
- XMP-dc
- Format: image/jpeg
- Rights: В© muar
- XMP-exifEX
- LensModel: iPhone SE back camera 4.15mm f/2.2
- XMP-xmp
- ModifyDate: 2019:06:06 19:59:06+03:00
- Rating: 0
- XMP-xmpMM
- Просмотров: 150
- Рейтинг: голосов еще нет
- Отзывов: отключены