- Раздел: Автомобили
- Дата съёмки: неизвестно
- Дата загрузки фото: 09.07.2019 15:07
- Оригинальная фотография: 6048 x 4024 (6,5 Мб)
- Технические характеристики:
- Фотоаппарат: Nikon Z 6
- Выдержка: 0,0
- Гиперфокальное расстояние: inf m
- Диафрагма: 4,0
- Светочувствительность: 100
- Фокусное расстояние: 63,0 mm (35 mm equivalent: 63,0 mm)
- Полный EXIF
- Adobe
- ColorTransform: YCbCr
- Composite
- Aperture: 4,0
- CircleOfConfusion: 0,030 mm
- FOV: 31,0 deg
- FocalLength35efl: 63,0 mm (35 mm equivalent: 63,0 mm)
- HyperfocalDistance: inf m
- Megapixels: 24,3
- ScaleFactor35efl: 1,0
- ShutterSpeed: 0,0
- ExifIFD
- ApertureValue: 4,0
- CFAPattern: [Red,Green][Green,Blue]
- ColorSpace: sRGB
- Contrast: Normal
- CreateDate: 2018:11:16 13:24:51
- CustomRendered: Custom
- DateTimeOriginal: 2018:11:16 13:24:51
- ExposureCompensation: 0
- ExposureMode: Auto
- ExposureProgram: Aperture-priority AE
- ExposureTime: 0,0
- FNumber: 4,0
- Flash: No Flash
- FocalLength: 63,0 mm
- FocalLengthIn35mmFormat: 63 mm
- GainControl: None
- ISO: 100
- LensInfo: 24-70mm f/4
- LensMake: NIKON
- LensModel: NIKKOR Z 24-70mm f/4 S
- LensSerialNumber: 20002384
- LightSource: Unknown
- MeteringMode: Center-weighted average
- RecommendedExposureIndex: 100
- Saturation: Normal
- SceneCaptureType: Standard
- SceneType: Directly photographed
- SensingMethod: One-chip color area
- SensitivityType: Recommended Exposure Index
- SerialNumber: 6002119
- Sharpness: Normal
- ShutterSpeedValue: 1/256
- SubjectDistanceRange: Unknown
- WhiteBalance: Auto
- ICC-header
- ICC-meas
- ICC-view
- IFD0
- Artist: Mikhail Rybakov
- Copyright: Mikhail Rybakov
- Make: NIKON CORPORATION
- Model: NIKON Z 6
- ModifyDate: 2019:07:09 10:36:01
- IFD1
- IPTC
- By-line: Mikhail Rybakov
- CopyrightNotice: Mikhail Rybakov
- DateCreated: 2018:11:16
- System
- XMP-aux
- DistortionCorrectionAlreadyApplied: True
- ImageNumber: 17018
- LateralChromaticAberrationCorrectionAlreadyApplied: True
- Lens: NIKKOR Z 24-70mm f/4 S
- XMP-crs
- AlreadyApplied: True
- AutoLateralCA: 1
- Blacks2012: -13
- BlueHue: 0
- BlueSaturation: 0
- CameraProfile: Camera Standard v2
- Clarity2012: 0
- ColorNoiseReduction: 7
- ColorNoiseReductionDetail: 50
- ColorNoiseReductionSmoothness: 50
- ColorTemperature: 4700
- Contrast2012: -16
- ConvertToGrayscale: False
- DefringeGreenAmount: 0
- DefringeGreenHueHi: 60
- DefringeGreenHueLo: 40
- DefringePurpleAmount: 0
- DefringePurpleHueHi: 70
- DefringePurpleHueLo: 30
- Dehaze: +16
- Exposure2012: +0.55
- GrainAmount: 0
- GreenHue: 0
- GreenSaturation: 0
- HasCrop: False
- HasSettings: True
- Highlights2012: -56
- HueAdjustmentAqua: 0
- HueAdjustmentBlue: 0
- HueAdjustmentGreen: 0
- HueAdjustmentMagenta: 0
- HueAdjustmentOrange: 0
- HueAdjustmentPurple: 0
- HueAdjustmentRed: 0
- HueAdjustmentYellow: 0
- LensManualDistortionAmount: 0
- LensProfileEnable: 0
- LensProfileSetup: LensDefaults
- LookName:
- LuminanceAdjustmentAqua: 0
- LuminanceAdjustmentBlue: 0
- LuminanceAdjustmentGreen: 0
- LuminanceAdjustmentMagenta: 0
- LuminanceAdjustmentOrange: 0
- LuminanceAdjustmentPurple: 0
- LuminanceAdjustmentRed: 0
- LuminanceAdjustmentYellow: 0
- LuminanceSmoothing: 0
- OverrideLookVignette: False
- ParametricDarks: 0
- ParametricHighlightSplit: 75
- ParametricHighlights: 0
- ParametricLights: 0
- ParametricMidtoneSplit: 50
- ParametricShadowSplit: 25
- ParametricShadows: 0
- PerspectiveAspect: 0
- PerspectiveHorizontal: 0
- PerspectiveRotate: 0.0
- PerspectiveScale: 100
- PerspectiveUpright: 0
- PerspectiveVertical: 0
- PerspectiveX: 0.00
- PerspectiveY: 0.00
- PostCropVignetteAmount: 0
- ProcessVersion: 11.0
- RawFileName: _DSC1285.NEF
- RedHue: 0
- RedSaturation: 0
- Saturation: +2
- SaturationAdjustmentAqua: 0
- SaturationAdjustmentBlue: 0
- SaturationAdjustmentGreen: 0
- SaturationAdjustmentMagenta: 0
- SaturationAdjustmentOrange: 0
- SaturationAdjustmentPurple: 0
- SaturationAdjustmentRed: 0
- SaturationAdjustmentYellow: 0
- ShadowTint: 0
- Shadows2012: +3
- SharpenDetail: 25
- SharpenEdgeMasking: 0
- SharpenRadius: +2.0
- Sharpness: 40
- SplitToningBalance: 0
- SplitToningHighlightHue: 0
- SplitToningHighlightSaturation: 0
- SplitToningShadowHue: 0
- SplitToningShadowSaturation: 0
- Texture: +11
- Tint: 0
- ToneCurve: 0, 0, 32, 22, 64, 56, 128, 128, 192, 196, 255, 255
- ToneCurveBlue: 0, 0, 255, 255
- ToneCurveGreen: 0, 0, 255, 255
- ToneCurveName: Medium Contrast
- ToneCurveName2012: Linear
- ToneCurvePV2012: 0, 0, 255, 255
- ToneCurvePV2012Blue: 0, 0, 255, 255
- ToneCurvePV2012Green: 0, 0, 255, 255
- ToneCurvePV2012Red: 0, 0, 255, 255
- ToneCurveRed: 0, 0, 255, 255
- ToneMapStrength: 0
- Version: 11.3
- Vibrance: +18
- VignetteAmount: 0
- WhiteBalance: As Shot
- Whites2012: +40
- XMP-dc
- Creator: Mikhail Rybakov
- Format: image/jpeg
- Rights: Mikhail Rybakov
- XMP-exifEX
- XMP-xmp
- CreateDate: 2018:11:16 13:24:51.30+01:00
- ModifyDate: 2019:07:09 10:36:01+03:00
- XMP-xmpMM
- Просмотров: 362
- Рейтинг: голосов еще нет
- Отзывов: отключены