- Раздел: Другое, разное
- Дата съёмки: 20.09.2007 19:23
- Дата загрузки фото: 20.09.2007 23:33
- Оригинальная фотография: 1600 x 1034 (370 Кб)
- Технические характеристики:
- Фотоаппарат: Canon EOS 30D
- Выдержка: 1/800
- Гиперфокальное расстояние: 14,05 m
- Диафрагма: 5,6
- Светочувствительность: 100
- Фокусное расстояние: 35,0mm (35mm эквивалент: 67,5mm)
- Полный EXIF
- Composite
- Aperture: 5,6
- CircleOfConfusion: 0,016 mm
- EV: 14,6
- FocalLength35efl: 35,0mm (35mm equivalent: 67,5mm)
- HyperfocalDistance: 14,05 m
- ScaleFactor35efl: 1,9
- ShutterSpeed: 1/800
- ExifIFD
- ApertureValue: 5,6
- ColorSpace: sRGB
- CreateDate: 2007:09:10 13:02:28
- CustomRendered: Normal
- DateTimeOriginal: 2007:09:10 13:02:28
- ExifImageLength: 1600
- ExifImageWidth: 1034
- ExposureCompensation: 0
- ExposureMode: Auto
- ExposureProgram: Aperture-priority AE
- ExposureTime: 1/800
- FNumber: 5,6
- Flash: Off
- FocalLength: 35,0mm
- ISO: 100
- MaxApertureValue: 2,8
- MeteringMode: Multi-segment
- SceneCaptureType: Standard
- ShutterSpeedValue: 1/800
- WhiteBalance: Auto
- ICC-header
- ICC-meas
- ICC-view
- IFD0
- Artist: Leonid Liss
- Make: Canon
- Model: Canon EOS 30D
- ModifyDate: 2007:09:20 19:23:28
- Orientation: Horizontal (normal)
- TimeZoneOffset: 4 4
- IFD1
- IPTC
- By-line: Leonid Liss
- XMP-aux
- Firmware: 1.0.5
- FlashCompensation: 0
- ImageNumber: 224
- Lens: EF-S17-55mm f/2.8 IS USM
- LensInfo: 17
- OwnerName: Leonid Liss
- SerialNumber: 1530901649
- XMP-crs
- AlreadyApplied: True
- BlueHue: +5
- BlueSaturation: -15
- Brightness: +50
- CameraProfile: ACR 3.4
- ChromaticAberrationB: 0
- ChromaticAberrationR: 0
- Clarity: 14
- ColorNoiseReduction: 0
- Contrast: +45
- ConvertToGrayscale: False
- CropAngle: 0
- CropBottom: 0.859416
- CropHeight: 2008
- CropLeft: 0.113174
- CropRight: 1
- CropTop: 0
- CropUnit: 0
- CropWidth: 3107
- Defringe: 0
- Exposure: +0.12
- FillLight: 16
- GreenHue: -10
- GreenSaturation: -10
- HasCrop: True
- HasSettings: True
- HighlightRecovery: 16
- HueAdjustmentAqua: 0
- HueAdjustmentBlue: 0
- HueAdjustmentGreen: 0
- HueAdjustmentMagenta: -2
- HueAdjustmentOrange: -18
- HueAdjustmentPurple: -7
- HueAdjustmentRed: 0
- HueAdjustmentYellow: 0
- LuminanceAdjustmentAqua: 0
- LuminanceAdjustmentBlue: 0
- LuminanceAdjustmentGreen: 0
- LuminanceAdjustmentMagenta: 0
- LuminanceAdjustmentOrange: 0
- LuminanceAdjustmentPurple: 0
- LuminanceAdjustmentRed: 0
- LuminanceAdjustmentYellow: 0
- LuminanceSmoothing: 0
- ParametricDarks: 0
- ParametricHighlightSplit: 75
- ParametricHighlights: 0
- ParametricLights: 0
- ParametricMidtoneSplit: 50
- ParametricShadowSplit: 25
- ParametricShadows: 0
- RedHue: 0
- RedSaturation: +20
- Saturation: 0
- SaturationAdjustmentAqua: -35
- SaturationAdjustmentBlue: 0
- SaturationAdjustmentGreen: 0
- SaturationAdjustmentMagenta: +10
- SaturationAdjustmentOrange: -5
- SaturationAdjustmentPurple: 0
- SaturationAdjustmentRed: 0
- SaturationAdjustmentYellow: -10
- ShadowTint: 0
- Shadows: 5
- SharpenDetail: 25
- SharpenEdgeMasking: 0
- SharpenRadius: +1.0
- Sharpness: 25
- SplitToningBalance: 0
- SplitToningHighlightHue: 0
- SplitToningHighlightSaturation: 0
- SplitToningShadowHue: 0
- SplitToningShadowSaturation: 0
- Temperature: 5450
- Tint: 0
- ToneCurve: 0, 0, 32, 22, 64, 56, 128, 128, 192, 196, 255, 255
- ToneCurveName: Medium Contrast
- Version: 1.0
- Vibrance: 0
- VignetteAmount: 0
- WhiteBalance: As Shot
- XMP-dc
- Creator: Leonid Liss
- Format: image/jpeg
- XMP-exif
- DateTimeDigitized: 2007:09:10 13:02:28+04:00
- DateTimeOriginal: 2007:09:10 13:02:28+04:00
- ExifImageHeight: 2008
- ExifImageWidth: 3107
- FlashFired: False
- FlashFunction: False
- FlashMode: Off
- FlashRedEyeMode: False
- FlashReturn: No return detection
- XMP-tiff
- ImageHeight: 2008
- ImageWidth: 3107
- XMP-xmp
- CreateDate: 2007:09:20 19:23:28+04:00
- ModifyDate: 2007:09:20 19:23:28+04:00
- XMP-xmpMM
- Просмотров: 495
- Рейтинг: голосов еще нет
- Отзывов: 0