| » Участники » Mutaborr » JA © October 25 » 2019.10.25 _ 8Nw139.jpg |
Уважаемые друзья и участники проекта iXBT.photo! К сожалению, 1 марта 2026 года проект iXBT.photo прекратит свою работу и будет закрыт. Мы высоко ценим ваше участие и тот вклад, который вы внесли в развитие нашего сообщества. Пожалуйста, не забудьте сохранить ваши фотографии до этой даты.
С уважением, команда iXBT.com
| 2019.10.25 _ 8Nw139.jpg |
2019.10.25 _ 8Nw139.jpg
- Раздел: Активный отдых, туризм
- Дата съёмки: неизвестно
- Дата загрузки фото: 13.11.2019 17:20
- Оригинальная фотография: 4800 x 3200 (6,4 Мб)
- Технические характеристики:
- Фотоаппарат: Nikon D810
- Выдержка: 0,0
- Гиперфокальное расстояние: inf m
- Диафрагма: 8,0
- Светочувствительность: 160
- Фокусное расстояние: 24,0 mm (35 mm equivalent: 24,0 mm)
- Экспокоррекция: +1
- Полный EXIF
- Adobe
- ColorTransform: YCbCr
- Composite
- Aperture: 8,0
- CircleOfConfusion: 0,020 mm
- FOV: 73,0 deg
- FocalLength35efl: 24,0 mm (35 mm equivalent: 24,0 mm)
- GPSAltitude: 119 m Above Sea Level
- GPSLatitude: 54 deg 51' 11,00" N
- GPSLatitudeRef: North
- GPSLongitude: 37 deg 40' 14,00" E
- GPSLongitudeRef: East
- GPSPosition: 54 deg 51' 11,00" N, 37 deg 40' 14,00" E
- HyperfocalDistance: inf m
- LensID: Tokina AT-X 124 AF PRO DX II (AF 12-24mm f/4) or AF-S DX Zoom-Nikkor 12-24mm f/4G IF-ED
- Megapixels: 15,4
- ScaleFactor35efl: 1,5
- ShutterSpeed: 0,0
- ExifIFD
- ApertureValue: 8,0
- CFAPattern: [Red,Green][Green,Blue]
- ColorSpace: sRGB
- Contrast: Normal
- CreateDate: 2019:10:25 13:37:10
- CustomRendered: Normal
- DateTimeOriginal: 2019:10:25 13:37:10
- DigitalZoomRatio: 1,53
- ExifImageHeight: 3200
- ExifImageWidth: 4800
- ExposureCompensation: +1
- ExposureMode: Auto
- ExposureProgram: Aperture-priority AE
- ExposureTime: 0,0
- FNumber: 8,0
- Flash: Off, Did not fire
- FocalLength: 24,0 mm
- FocalLengthIn35mmFormat: 36 mm
- GainControl: None
- ISO: 160
- LensInfo: 12-24mm f/4
- LensModel: 12.0-24.0 mm f/4.0
- LightSource: Unknown
- MaxApertureValue: 4,0
- MeteringMode: Multi-segment
- Saturation: Normal
- SceneCaptureType: Landscape
- SceneType: Directly photographed
- SensingMethod: One-chip color area
- SensitivityType: Recommended Exposure Index
- SerialNumber: 6017474
- Sharpness: Normal
- ShutterSpeedValue: 1/16
- SubjectDistanceRange: Unknown
- WhiteBalance: Auto
- GPS
- GPSAltitude: 119,2 m
- GPSAltitudeRef: Above Sea Level
- GPSLatitude: 54 deg 51' 11,00"
- GPSLongitude: 37 deg 40' 14,00"
- GPSMapDatum: WGS-84
- GPSSpeed: 0
- GPSSpeedRef: km/h
- GPSVersionID: 2.3.0.0
- ICC-header
- ICC-meas
- ICC-view
- IFD0
- Make: NIKON CORPORATION
- Model: NIKON D810
- ModifyDate: 2019:11:05 23:05:46
- Orientation: Horizontal (normal)
- IFD1
- IPTC
- DateCreated: 2019:10:25
- System
- XMP-aux
- ApproximateFocusDistance: 4294967295
- ImageNumber: 12620
- LateralChromaticAberrationCorrectionAlreadyApplied: True
- Lens: 12.0-24.0 mm f/4.0
- LensID: 122
- VignetteCorrectionAlreadyApplied: True
- XMP-crs
- AlreadyApplied: True
- AutoLateralCA: 1
- Blacks2012: 0
- BlueHue: 0
- BlueSaturation: 0
- Clarity2012: 0
- ColorNoiseReduction: 25
- ColorNoiseReductionDetail: 50
- ColorNoiseReductionSmoothness: 50
- ColorTemperature: 5500
- Contrast2012: +44
- ConvertToGrayscale: False
- DefringeGreenAmount: 1
- DefringeGreenHueHi: 60
- DefringeGreenHueLo: 40
- DefringePurpleAmount: 1
- DefringePurpleHueHi: 70
- DefringePurpleHueLo: 30
- Dehaze: 0
- Exposure2012: -1.40
- GrainAmount: 0
- GreenHue: 0
- GreenSaturation: 0
- HasCrop: False
- HasSettings: True
- Highlights2012: -90
- HueAdjustmentAqua: 0
- HueAdjustmentBlue: 0
- HueAdjustmentGreen: 0
- HueAdjustmentMagenta: 0
- HueAdjustmentOrange: 0
- HueAdjustmentPurple: 0
- HueAdjustmentRed: 0
- HueAdjustmentYellow: 0
- LensManualDistortionAmount: 0
- LensProfileChromaticAberrationScale: 100
- LensProfileDistortionScale: 0
- LensProfileEnable: 1
- LensProfileFilename: NIKON D90 (Nikon AF-S DX Zoom-Nikkor 12-24mm f4G IF-ED) - RAW.lcp
- LensProfileSetup: Custom
- LensProfileVignettingScale: 100
- LookAmount: 1.000000
- LookGroup: Profiles
- LookParametersClarity2012: +10
- LookParametersConvertToGrayscale: False
- LookParametersHighlights2012: -12
- LookParametersLookTable: 0B3BFB5CFB7DBF7FF175E98F24D316B0
- LookParametersProcessVersion: 11.0
- LookParametersShadows2012: +12
- LookParametersToneCurvePV2012: 0, 0, 64, 60, 128, 128, 192, 196, 255, 255
- LookParametersVersion: 11.4
- LookSupportsAmount: false
- LookSupportsMonochrome: false
- LookSupportsOutputReferred: false
- LuminanceAdjustmentAqua: 0
- LuminanceAdjustmentBlue: 0
- LuminanceAdjustmentGreen: 0
- LuminanceAdjustmentMagenta: 0
- LuminanceAdjustmentOrange: 0
- LuminanceAdjustmentPurple: 0
- LuminanceAdjustmentRed: 0
- LuminanceAdjustmentYellow: 0
- LuminanceSmoothing: 0
- OverrideLookVignette: False
- ParametricDarks: 0
- ParametricHighlightSplit: 75
- ParametricHighlights: 0
- ParametricLights: 0
- ParametricMidtoneSplit: 50
- ParametricShadowSplit: 25
- ParametricShadows: 0
- PerspectiveAspect: 0
- PerspectiveHorizontal: 0
- PerspectiveRotate: 0.0
- PerspectiveScale: 100
- PerspectiveUpright: 0
- PerspectiveVertical: 0
- PerspectiveX: 0.00
- PerspectiveY: 0.00
- PostCropVignetteAmount: 0
- ProcessVersion: 11.0
- RawFileName: _NEF2524.NEF
- RedHue: 0
- RedSaturation: 0
- Saturation: 0
- SaturationAdjustmentAqua: 0
- SaturationAdjustmentBlue: -23
- SaturationAdjustmentGreen: 0
- SaturationAdjustmentMagenta: 0
- SaturationAdjustmentOrange: 0
- SaturationAdjustmentPurple: 0
- SaturationAdjustmentRed: 0
- SaturationAdjustmentYellow: 0
- ShadowTint: 0
- Shadows2012: +70
- SharpenDetail: 25
- SharpenEdgeMasking: 0
- SharpenRadius: +1.0
- Sharpness: 40
- SplitToningBalance: 0
- SplitToningHighlightHue: 0
- SplitToningHighlightSaturation: 0
- SplitToningShadowHue: 0
- SplitToningShadowSaturation: 0
- Texture: 0
- Tint: -5
- ToneCurve: 0, 0, 32, 22, 64, 56, 128, 128, 192, 196, 255, 255
- ToneCurveBlue: 0, 0, 255, 255
- ToneCurveGreen: 0, 0, 255, 255
- ToneCurveName: Medium Contrast
- ToneCurveName2012: Linear
- ToneCurvePV2012: 0, 0, 255, 255
- ToneCurvePV2012Blue: 0, 0, 255, 255
- ToneCurvePV2012Green: 0, 0, 255, 255
- ToneCurvePV2012Red: 0, 0, 255, 255
- ToneCurveRed: 0, 0, 255, 255
- ToneMapStrength: 0
- Version: 11.4
- Vibrance: 0
- VignetteAmount: 0
- WhiteBalance: Custom
- Whites2012: 0
- XMP-dc
- XMP-exif
- XMP-x
- XMP-xmp
- CreatorTool: NIKON D810 Ver.1.12
- ModifyDate: 2019:11:05 23:05:46+03:00
- Rating: 0
- XMP-xmpMM
- Просмотров: 79
- Рейтинг: голосов еще нет
- Отзывов: 0
Получить код для блога
| Вставка фотографии в текущем разрешении |
Вставка миниатюры |
HTML (для вставки в блог):
BBCode (для вставки в форум):
Ссылка на фото:
Ссылка на миниатюру:
- Послать ссылку другу
| Комментарии к фотографии |