- Раздел: Животные
- Дата съёмки: 19.07.2005 19:58
- Дата загрузки фото: 18.11.2019 08:56
- Оригинальная фотография: 900 x 949 (360 Кб)
- Технические характеристики:
- Фотоаппарат: Samsung < Digimax U-CA 5, Kenox U-CA 5 / Kenox U-C
- Выдержка: 0,0
- Гиперфокальное расстояние: inf m
- Диафрагма: 3,7
- Светочувствительность: 50
- Фокусное расстояние: 10,0 mm (35 mm equivalent: 60,0 mm)
- Полный EXIF
- Composite
- Aperture: 3,7
- CircleOfConfusion: 0,005 mm
- FOV: 33,0 deg
- FocalLength35efl: 10,0 mm (35 mm equivalent: 60,0 mm)
- HyperfocalDistance: inf m
- Megapixels: 0,854
- ScaleFactor35efl: 6,5
- ShutterSpeed: 0,0
- ExifIFD
- ApertureValue: 2,8
- ColorSpace: sRGB
- CreateDate: 2005:07:19 19:58:41
- DateTimeOriginal: 2005:07:19 19:58:41
- DigitalZoomRatio: 0
- ExifImageHeight: 949
- ExifImageWidth: 900
- ExposureCompensation: 0
- ExposureIndex: 1
- ExposureMode: Auto
- ExposureProgram: Program AE
- ExposureTime: 0,0
- FNumber: 3,7
- Flash: Auto, Did not fire, Red-eye reduction
- FocalLength: 10,0 mm
- FocalLengthIn35mmFormat: 65 mm
- ISO: 50
- LightSource: Unknown
- MaxApertureValue: 2,8
- MeteringMode: Multi-segment
- Saturation: Normal
- SceneCaptureType: Standard
- SceneType: Directly photographed
- SensingMethod: One-chip color area
- Sharpness: Normal
- ShutterSpeedValue: 1/256
- WhiteBalance: Auto
- ICC-header
- ICC-meas
- ICC-view
- IFD0
- Copyright: COPYRIGHT, 2005
- ImageDescription: < Digimax U-CA 5, Kenox U-CA 5 / Kenox U-CA 50 >
- Make: Samsung Techwin
- Model: < Digimax U-CA 5, Kenox U-CA 5 / Kenox U-CA 50 >
- ModifyDate: 2019:11:18 10:24:35
- Orientation: Horizontal (normal)
- Software: ACDSee Pro 9
- IFD1
- IPTC
- Caption-Abstract: < Digimax U-CA 5, Kenox U-CA 5 / Kenox U-CA 50 >
- CopyrightNotice: COPYRIGHT, 2005
- DateCreated: 2005:07:19
- System
- XMP-crs
- AlreadyApplied: True
- AutoLateralCA: 0
- AutoWhiteVersion: 134348800
- Blacks2012: -21
- BlueHue: 0
- BlueSaturation: 0
- CameraProfile: Embedded
- Clarity2012: 0
- ColorNoiseReduction: 0
- Contrast2012: +12
- ConvertToGrayscale: False
- CropAngle: 0
- CropBottom: 0.674682
- CropConstrainToWarp: 0
- CropLeft: 0.022642
- CropRight: 0.875472
- CropTop: 0
- DefringeGreenAmount: 0
- DefringeGreenHueHi: 60
- DefringeGreenHueLo: 40
- DefringePurpleAmount: 0
- DefringePurpleHueHi: 70
- DefringePurpleHueLo: 30
- Dehaze: 0
- Exposure2012: +0.30
- GrainAmount: 0
- GreenHue: 0
- GreenSaturation: 0
- HasCrop: True
- HasSettings: True
- Highlights2012: -33
- HueAdjustmentAqua: 0
- HueAdjustmentBlue: 0
- HueAdjustmentGreen: 0
- HueAdjustmentMagenta: 0
- HueAdjustmentOrange: 0
- HueAdjustmentPurple: 0
- HueAdjustmentRed: 0
- HueAdjustmentYellow: 0
- IncrementalTemperature: 0
- IncrementalTint: 0
- LensManualDistortionAmount: 0
- LensProfileEnable: 0
- LensProfileSetup: LensDefaults
- LuminanceAdjustmentAqua: 0
- LuminanceAdjustmentBlue: 0
- LuminanceAdjustmentGreen: 0
- LuminanceAdjustmentMagenta: 0
- LuminanceAdjustmentOrange: 0
- LuminanceAdjustmentPurple: 0
- LuminanceAdjustmentRed: 0
- LuminanceAdjustmentYellow: 0
- LuminanceSmoothing: 0
- ParametricDarks: 0
- ParametricHighlightSplit: 75
- ParametricHighlights: 0
- ParametricLights: 0
- ParametricMidtoneSplit: 50
- ParametricShadowSplit: 25
- ParametricShadows: 0
- PerspectiveAspect: 0
- PerspectiveHorizontal: 0
- PerspectiveRotate: 0.0
- PerspectiveScale: 100
- PerspectiveUpright: 0
- PerspectiveVertical: 0
- PostCropVignetteAmount: 0
- ProcessVersion: 6.7
- RedHue: 0
- RedSaturation: 0
- Saturation: 0
- SaturationAdjustmentAqua: 0
- SaturationAdjustmentBlue: 0
- SaturationAdjustmentGreen: 0
- SaturationAdjustmentMagenta: 0
- SaturationAdjustmentOrange: 0
- SaturationAdjustmentPurple: 0
- SaturationAdjustmentRed: 0
- SaturationAdjustmentYellow: 0
- ShadowTint: 0
- Shadows2012: +33
- SharpenDetail: 25
- SharpenEdgeMasking: 0
- SharpenRadius: +1.0
- Sharpness: 0
- SplitToningBalance: 0
- SplitToningHighlightHue: 0
- SplitToningHighlightSaturation: 0
- SplitToningShadowHue: 0
- SplitToningShadowSaturation: 0
- ToneCurve: 0, 0, 255, 255
- ToneCurveBlue: 0, 0, 255, 255
- ToneCurveGreen: 0, 0, 255, 255
- ToneCurveName: Linear
- ToneCurveName2012: Linear
- ToneCurvePV2012: 0, 0, 255, 255
- ToneCurvePV2012Blue: 0, 0, 255, 255
- ToneCurvePV2012Green: 0, 0, 255, 255
- ToneCurvePV2012Red: 0, 0, 255, 255
- ToneCurveRed: 0, 0, 255, 255
- ToneMapStrength: 0
- Version: 9.3
- Vibrance: 0
- VignetteAmount: 0
- WhiteBalance: As Shot
- Whites2012: +9
- XMP-dc
- Description: < Digimax U-CA 5, Kenox U-CA 5 / Kenox U-CA 50 >
- Format: image/jpeg
- Rights: COPYRIGHT, 2005
- XMP-x
- XMP-xmp
- ModifyDate: 2019:11:09 19:00:09+05:00
- XMP-xmpMM
- Просмотров: 16
- Рейтинг: голосов еще нет
- Отзывов: отключены