| » Участники » shunya95 » Триумф оф зе Виннер » Триумф оф зе Виннер (35).jpg |
Уважаемые друзья и участники проекта iXBT.photo! К сожалению, 1 марта 2026 года проект iXBT.photo прекратит свою работу и будет закрыт. Мы высоко ценим ваше участие и тот вклад, который вы внесли в развитие нашего сообщества. Пожалуйста, не забудьте сохранить ваши фотографии до этой даты.
С уважением, команда iXBT.com
| Триумф оф зе Виннер (35).jpg |
Триумф оф зе Виннер (35).jpg
- Раздел: Животные
- Дата съёмки: неизвестно
- Дата загрузки фото: 25.11.2019 13:26
- Оригинальная фотография: 1419 x 1000 (438 Кб)
- Технические характеристики:
- Фотоаппарат: Canon EOS 550D
- Выдержка: 0,0
- Гиперфокальное расстояние: inf m
- Диафрагма: 5,6
- Светочувствительность: 400
- Фокусное расстояние: 50,0 mm (35 mm equivalent: 50,0 mm)
- Полный EXIF
- Composite
- Aperture: 5,6
- CircleOfConfusion: 0,019 mm
- FOV: 39,0 deg
- FocalLength35efl: 50,0 mm (35 mm equivalent: 50,0 mm)
- HyperfocalDistance: inf m
- LensID: Canon EF 50mm f/1.8 II
- Megapixels: 1,4
- ScaleFactor35efl: 1,6
- ShutterSpeed: 0,0
- ExifIFD
- ApertureValue: 4,0
- ColorSpace: sRGB
- CreateDate: 2017:11:01 15:34:33
- CustomRendered: Normal
- DateTimeOriginal: 2017:11:01 15:34:33
- ExifImageHeight: 1000
- ExifImageWidth: 1419
- ExposureCompensation: 0
- ExposureMode: Auto
- ExposureProgram: Aperture-priority AE
- ExposureTime: 0,0
- FNumber: 5,6
- Flash: On, Fired
- FocalLength: 50,0 mm
- ISO: 400
- LensInfo: 50mm f/?
- LensModel: EF50mm f/1.8 II
- MaxApertureValue: 1,4
- MeteringMode: Multi-segment
- SceneCaptureType: Standard
- SerialNumber: 2133373093
- ShutterSpeedValue: 1/16
- WhiteBalance: Manual
- ICC-header
- ICC-meas
- ICC-view
- IFD0
- Make: Canon
- Model: Canon EOS 550D
- ModifyDate: 2019:11:25 15:16:37
- Orientation: Horizontal (normal)
- Software: ACDSee Pro 9
- IFD1
- IPTC
- DateCreated: 2017:11:01
- System
- XMP-aux
- Firmware: 1.0.9
- FlashCompensation: 0
- ImageNumber: 0
- Lens: EF50mm f/1.8 II
- LensID: 29
- XMP-crs
- AlreadyApplied: True
- AutoLateralCA: 0
- AutoWhiteVersion: 134348800
- Blacks2012: 0
- BlueHue: 0
- BlueSaturation: 0
- CameraProfile: Embedded
- Clarity2012: 0
- ColorNoiseReduction: 0
- Contrast2012: 0
- ConvertToGrayscale: False
- CropAngle: 0
- CropBottom: 0.940568
- CropConstrainToWarp: 0
- CropLeft: 0
- CropRight: 0.884483
- CropTop: 0.005168
- DefringeGreenAmount: 0
- DefringeGreenHueHi: 60
- DefringeGreenHueLo: 40
- DefringePurpleAmount: 0
- DefringePurpleHueHi: 70
- DefringePurpleHueLo: 30
- Dehaze: 0
- Exposure2012: 0.00
- GrainAmount: 0
- GreenHue: 0
- GreenSaturation: 0
- HasCrop: True
- HasSettings: True
- Highlights2012: 0
- HueAdjustmentAqua: 0
- HueAdjustmentBlue: 0
- HueAdjustmentGreen: 0
- HueAdjustmentMagenta: 0
- HueAdjustmentOrange: 0
- HueAdjustmentPurple: 0
- HueAdjustmentRed: 0
- HueAdjustmentYellow: 0
- IncrementalTemperature: -8
- IncrementalTint: 0
- LensManualDistortionAmount: 0
- LensProfileEnable: 0
- LensProfileSetup: LensDefaults
- LuminanceAdjustmentAqua: 0
- LuminanceAdjustmentBlue: 0
- LuminanceAdjustmentGreen: 0
- LuminanceAdjustmentMagenta: 0
- LuminanceAdjustmentOrange: 0
- LuminanceAdjustmentPurple: 0
- LuminanceAdjustmentRed: 0
- LuminanceAdjustmentYellow: 0
- LuminanceSmoothing: 0
- ParametricDarks: 0
- ParametricHighlightSplit: 75
- ParametricHighlights: 0
- ParametricLights: 0
- ParametricMidtoneSplit: 50
- ParametricShadowSplit: 25
- ParametricShadows: 0
- PerspectiveAspect: 0
- PerspectiveHorizontal: 0
- PerspectiveRotate: 0.0
- PerspectiveScale: 100
- PerspectiveUpright: 0
- PerspectiveVertical: 0
- PostCropVignetteAmount: 0
- ProcessVersion: 6.7
- RedHue: 0
- RedSaturation: 0
- Saturation: 0
- SaturationAdjustmentAqua: 0
- SaturationAdjustmentBlue: 0
- SaturationAdjustmentGreen: 0
- SaturationAdjustmentMagenta: 0
- SaturationAdjustmentOrange: 0
- SaturationAdjustmentPurple: 0
- SaturationAdjustmentRed: 0
- SaturationAdjustmentYellow: 0
- ShadowTint: 0
- Shadows2012: -47
- SharpenDetail: 25
- SharpenEdgeMasking: 0
- SharpenRadius: +1.0
- Sharpness: 0
- SplitToningBalance: 0
- SplitToningHighlightHue: 0
- SplitToningHighlightSaturation: 0
- SplitToningShadowHue: 0
- SplitToningShadowSaturation: 0
- ToneCurve: 0, 0, 255, 255
- ToneCurveBlue: 0, 0, 255, 255
- ToneCurveGreen: 0, 0, 255, 255
- ToneCurveName: Linear
- ToneCurveName2012: Linear
- ToneCurvePV2012: 0, 0, 255, 255
- ToneCurvePV2012Blue: 0, 0, 255, 255
- ToneCurvePV2012Green: 0, 0, 255, 255
- ToneCurvePV2012Red: 0, 0, 255, 255
- ToneCurveRed: 0, 0, 255, 255
- ToneMapStrength: 0
- Version: 9.3
- Vibrance: +6
- VignetteAmount: 0
- WhiteBalance: Custom
- Whites2012: 0
- XMP-dc
- XMP-x
- XMP-xmp
- CreateDate: 2017:11:01 15:34:33.52
- ModifyDate: 2017:11:01 20:08:35+05:00
- XMP-xmpMM
- Просмотров: 50
- Рейтинг: голосов еще нет
- Отзывов: отключены
Получить код для блога
| Вставка фотографии в текущем разрешении |
Вставка миниатюры |
HTML (для вставки в блог):
BBCode (для вставки в форум):
Ссылка на фото:
Ссылка на миниатюру:
- Послать ссылку другу
| Комментарии к фотографии |