- Раздел: Другое, разное
- Дата съёмки: неизвестно
- Дата загрузки фото: 23.12.2019 18:58
- Оригинальная фотография: 5976 x 3992 (5,1 Мб)
- Технические характеристики:
- Фотоаппарат: Leica Camera AG LEICA M MONOCHROM (Typ 246)
- Выдержка: 0,0
- Гиперфокальное расстояние: inf m
- Диафрагма: 4,8
- Светочувствительность: 800
- Фокусное расстояние: 35,0 mm
- Полный EXIF
- Adobe
- ColorTransform: Unknown (RGB or CMYK)
- Composite
- Aperture: 4,8
- CircleOfConfusion: 0,030 mm
- FocalLength35efl: 35,0 mm
- GPSAltitude: 0 m Above Sea Level
- GPSDateTime: 2000:00:00 00:00:00Z
- HyperfocalDistance: inf m
- Megapixels: 23,9
- ScaleFactor35efl: 1,0
- ShutterSpeed: 0,0
- ExifIFD
- ApertureValue: 4,0
- ColorSpace: Uncalibrated
- Contrast: High
- CreateDate: 2019:12:23 17:58:04
- CustomRendered: Normal
- DateTimeOriginal: 2019:12:23 17:58:04
- DigitalZoomRatio: 0
- ExifImageHeight: 3992
- ExifImageWidth: 5976
- ExposureCompensation: 0
- ExposureMode: Auto
- ExposureProgram: Aperture-priority AE
- ExposureTime: 0,0
- FNumber: 4,8
- Flash: No Flash
- FocalLength: 35,0 mm
- ISO: 800
- LensInfo: 35mm f/1.4-16
- LensMake: Leica Camera AG
- LensModel: Summilux-M 1:1.4/35
- LensSerialNumber: -------
- LightSource: Unknown
- MaxApertureValue: 1,0
- MeteringMode: Center-weighted average
- SceneCaptureType: Standard
- SceneType: Directly photographed
- SerialNumber: 4831265
- Sharpness: Hard
- ShutterSpeedValue: 1/16
- GPS
- GPSAltitude: 0 m
- GPSAltitudeRef: Above Sea Level
- GPSDOP: 0
- GPSDateStamp: 2000:00:00
- GPSSpeed: 0
- GPSStatus: Measurement Void
- GPSTimeStamp: 00:00:00
- GPSTrack: 0
- GPSVersionID: 2.2.0.0
- ICC-header
- IFD0
- Artist: muar@
- Make: Leica Camera AG
- Model: LEICA M MONOCHROM (Typ 246)
- ModifyDate: 2019:12:23 18:05:27
- Orientation: Horizontal (normal)
- IFD1
- IPTC
- By-line: muar@
- DateCreated: 2019:12:23
- System
- XMP-aux
- Lens: Summilux-M 1:1.4/35
- XMP-crs
- AlreadyApplied: True
- Blacks2012: -25
- Clarity2012: +22
- Contrast2012: +35
- ConvertToGrayscale: False
- Dehaze: 0
- Exposure2012: 0.00
- GrainAmount: 0
- HasCrop: False
- HasSettings: True
- Highlights2012: -74
- LensManualDistortionAmount: 0
- LensProfileEnable: 0
- LensProfileSetup: LensDefaults
- LuminanceNoiseReductionContrast: 0
- LuminanceNoiseReductionDetail: 50
- LuminanceSmoothing: 8
- OverrideLookVignette: False
- ParametricDarks: 0
- ParametricHighlightSplit: 75
- ParametricHighlights: 0
- ParametricLights: +1
- ParametricMidtoneSplit: 50
- ParametricShadowSplit: 25
- ParametricShadows: 0
- PerspectiveAspect: 0
- PerspectiveHorizontal: 0
- PerspectiveRotate: 0.0
- PerspectiveScale: 100
- PerspectiveUpright: 0
- PerspectiveVertical: 0
- PerspectiveX: 0.00
- PerspectiveY: 0.00
- PostCropVignetteAmount: 0
- ProcessVersion: 11.0
- Shadows2012: +37
- SharpenDetail: 46
- SharpenEdgeMasking: 16
- SharpenRadius: +0.8
- Sharpness: 0
- SplitToningBalance: 0
- SplitToningHighlightHue: 0
- SplitToningHighlightSaturation: 0
- SplitToningShadowHue: 0
- SplitToningShadowSaturation: 0
- Texture: 0
- ToneCurve: 0, 0, 32, 22, 64, 56, 128, 128, 192, 196, 255, 255
- ToneCurveBlue: 0, 0, 255, 255
- ToneCurveGreen: 0, 0, 255, 255
- ToneCurveName: Medium Contrast
- ToneCurveName2012: Linear
- ToneCurvePV2012: 0, 0, 255, 255
- ToneCurvePV2012Blue: 0, 0, 255, 255
- ToneCurvePV2012Green: 0, 0, 255, 255
- ToneCurvePV2012Red: 0, 0, 255, 255
- ToneCurveRed: 0, 0, 255, 255
- ToneMapStrength: 0
- Version: 12.0
- VignetteAmount: 0
- Whites2012: 0
- XMP-dc
- Creator: muar@
- Format: image/jpeg
- XMP-exifEX
- XMP-xmp
- CreatorTool: 1.0.2.0
- ModifyDate: 2019:12:23 18:05:27+03:00
- XMP-xmpMM
- Просмотров: 329
- Рейтинг: голосов еще нет
- Отзывов: 0