Leica M Monochrom (246) + Focotar 4,5/50 M39 Ernst Leitz Wetzlar
Часы Eterna Air Force
- Раздел: Другое, разное
- Дата съёмки: неизвестно
- Дата загрузки фото: 28.12.2019 23:42
- Оригинальная фотография: 5976 x 3992 (5,2 Мб)
- Технические характеристики:
- Фотоаппарат: Leica Camera AG LEICA M MONOCHROM (Typ 246)
- Выдержка: 0,0
- Гиперфокальное расстояние: inf m
- Диафрагма: 13,0
- Светочувствительность: 3200
- Фокусное расстояние: 50,0 mm
- Полный EXIF
- Adobe
- ColorTransform: Unknown (RGB or CMYK)
- Composite
- Aperture: 13,0
- CircleOfConfusion: 0,030 mm
- FocalLength35efl: 50,0 mm
- GPSAltitude: 0 m Above Sea Level
- GPSDateTime: 2000:00:00 00:00:00Z
- HyperfocalDistance: inf m
- Megapixels: 23,9
- ScaleFactor35efl: 1,0
- ShutterSpeed: 0,0
- ExifIFD
- ApertureValue: 11,3
- ColorSpace: Uncalibrated
- Contrast: High
- CreateDate: 2019:12:28 23:32:50
- CustomRendered: Normal
- DateTimeOriginal: 2019:12:28 23:32:50
- DigitalZoomRatio: 0
- ExifImageHeight: 3992
- ExifImageWidth: 5976
- ExposureCompensation: 0
- ExposureMode: Auto
- ExposureProgram: Aperture-priority AE
- ExposureTime: 0,0
- FNumber: 13,0
- Flash: No Flash
- FocalLength: 50,0 mm
- ISO: 3200
- LensInfo: 50mm f/2-16
- LensMake: Leica Camera AG
- LensModel: Summicron-M 1:2/50
- LensSerialNumber: -------
- LightSource: Unknown
- MaxApertureValue: 1,4
- MeteringMode: Center-weighted average
- SceneCaptureType: Standard
- SceneType: Directly photographed
- SerialNumber: 4831265
- Sharpness: Hard
- ShutterSpeedValue: 1/32
- GPS
- GPSAltitude: 0 m
- GPSAltitudeRef: Above Sea Level
- GPSDOP: 0
- GPSDateStamp: 2000:00:00
- GPSSpeed: 0
- GPSStatus: Measurement Void
- GPSTimeStamp: 00:00:00
- GPSTrack: 0
- GPSVersionID: 2.2.0.0
- ICC-header
- IFD0
- Artist: muar@
- Make: Leica Camera AG
- Model: LEICA M MONOCHROM (Typ 246)
- ModifyDate: 2019:12:28 23:40:52
- Orientation: Horizontal (normal)
- IFD1
- IPTC
- By-line: muar@
- DateCreated: 2019:12:28
- System
- XMP-aux
- Lens: Summicron-M 1:2/50
- XMP-crs
- AlreadyApplied: True
- Blacks2012: -33
- Clarity2012: +4
- Contrast2012: +23
- ConvertToGrayscale: False
- Dehaze: 0
- Exposure2012: -0.75
- GrainAmount: 0
- HasCrop: False
- HasSettings: True
- Highlights2012: -28
- LensManualDistortionAmount: 0
- LensProfileEnable: 0
- LensProfileSetup: LensDefaults
- LuminanceNoiseReductionContrast: 0
- LuminanceNoiseReductionDetail: 50
- LuminanceSmoothing: 8
- OverrideLookVignette: False
- ParametricDarks: -10
- ParametricHighlightSplit: 75
- ParametricHighlights: 0
- ParametricLights: +16
- ParametricMidtoneSplit: 50
- ParametricShadowSplit: 25
- ParametricShadows: +23
- PerspectiveAspect: 0
- PerspectiveHorizontal: 0
- PerspectiveRotate: 0.0
- PerspectiveScale: 100
- PerspectiveUpright: 0
- PerspectiveVertical: 0
- PerspectiveX: 0.00
- PerspectiveY: 0.00
- PostCropVignetteAmount: 0
- ProcessVersion: 11.0
- Shadows2012: -20
- SharpenDetail: 46
- SharpenEdgeMasking: 16
- SharpenRadius: +0.8
- Sharpness: 0
- SplitToningBalance: 0
- SplitToningHighlightHue: 0
- SplitToningHighlightSaturation: 0
- SplitToningShadowHue: 0
- SplitToningShadowSaturation: 0
- Texture: 0
- ToneCurve: 0, 0, 32, 22, 64, 56, 128, 128, 192, 196, 255, 255
- ToneCurveBlue: 0, 0, 255, 255
- ToneCurveGreen: 0, 0, 255, 255
- ToneCurveName: Medium Contrast
- ToneCurveName2012: Linear
- ToneCurvePV2012: 0, 0, 255, 255
- ToneCurvePV2012Blue: 0, 0, 255, 255
- ToneCurvePV2012Green: 0, 0, 255, 255
- ToneCurvePV2012Red: 0, 0, 255, 255
- ToneCurveRed: 0, 0, 255, 255
- ToneMapStrength: 0
- Version: 12.0
- VignetteAmount: 0
- Whites2012: 0
- XMP-dc
- Creator: muar@
- Format: image/jpeg
- XMP-exifEX
- XMP-xmp
- CreatorTool: 1.0.2.0
- ModifyDate: 2019:12:28 23:40:52+03:00
- XMP-xmpMM
- Просмотров: 232
- Рейтинг: голосов еще нет
- Отзывов: 0
Получить код для блога
Вставка фотографии в текущем разрешении |
Вставка миниатюры |
HTML (для вставки в блог):
BBCode (для вставки в форум):
Ссылка на фото:
Ссылка на миниатюру:
- Послать ссылку другу
Комментарии к фотографии |