- Раздел: Другое, разное
- Дата съёмки: неизвестно
- Дата загрузки фото: 06.02.2020 14:39
- Оригинальная фотография: 5976 x 3992 (5,4 Мб)
- Технические характеристики:
- Фотоаппарат: Leica Camera AG LEICA M MONOCHROM (Typ 246)
- Выдержка: 0,0
- Гиперфокальное расстояние: inf m
- Диафрагма: 3,4
- Светочувствительность: 2000
- Фокусное расстояние: 50,0 mm
- Полный EXIF
- Adobe
- ColorTransform: Unknown (RGB or CMYK)
- Composite
- Aperture: 3,4
- CircleOfConfusion: 0,030 mm
- FocalLength35efl: 50,0 mm
- GPSAltitude: 0 m Above Sea Level
- GPSDateTime: 2000:00:00 00:00:00Z
- HyperfocalDistance: inf m
- Megapixels: 23,9
- ScaleFactor35efl: 1,0
- ShutterSpeed: 0,0
- ExifIFD
- ApertureValue: 2,8
- ColorSpace: Uncalibrated
- Contrast: High
- CreateDate: 2020:02:06 14:18:43
- CustomRendered: Normal
- DateTimeOriginal: 2020:02:06 14:18:43
- DigitalZoomRatio: 0
- ExifImageHeight: 3992
- ExifImageWidth: 5976
- ExposureCompensation: 0
- ExposureMode: Auto
- ExposureProgram: Aperture-priority AE
- ExposureTime: 0,0
- FNumber: 3,4
- Flash: No Flash
- FocalLength: 50,0 mm
- ISO: 2000
- LensInfo: 50mm f/2-16
- LensMake: Leica Camera AG
- LensModel: Summicron-M 1:2/50
- LensSerialNumber: -------
- LightSource: Unknown
- MaxApertureValue: 1,4
- MeteringMode: Center-weighted average
- SceneCaptureType: Standard
- SceneType: Directly photographed
- SerialNumber: 4831265
- Sharpness: Hard
- ShutterSpeedValue: 1/32
- GPS
- GPSAltitude: 0 m
- GPSAltitudeRef: Above Sea Level
- GPSDOP: 0
- GPSDateStamp: 2000:00:00
- GPSSpeed: 0
- GPSStatus: Measurement Void
- GPSTimeStamp: 00:00:00
- GPSTrack: 0
- GPSVersionID: 2.2.0.0
- ICC-header
- IFD0
- Artist: muar@
- Make: Leica Camera AG
- Model: LEICA M MONOCHROM (Typ 246)
- ModifyDate: 2020:02:06 14:36:53
- Orientation: Horizontal (normal)
- IFD1
- IPTC
- By-line: muar@
- DateCreated: 2020:02:06
- System
- XMP-aux
- Lens: Summicron-M 1:2/50
- XMP-crs
- AlreadyApplied: True
- Blacks2012: -29
- Clarity2012: +25
- Contrast2012: +39
- ConvertToGrayscale: False
- Dehaze: 0
- Exposure2012: -0.55
- GrainAmount: 0
- HasCrop: False
- HasSettings: True
- Highlights2012: -62
- LensManualDistortionAmount: 0
- LensProfileEnable: 0
- LensProfileSetup: LensDefaults
- LuminanceNoiseReductionContrast: 0
- LuminanceNoiseReductionDetail: 50
- LuminanceSmoothing: 8
- OverrideLookVignette: False
- ParametricDarks: 0
- ParametricHighlightSplit: 75
- ParametricHighlights: 0
- ParametricLights: 0
- ParametricMidtoneSplit: 50
- ParametricShadowSplit: 25
- ParametricShadows: 0
- PerspectiveAspect: 0
- PerspectiveHorizontal: 0
- PerspectiveRotate: 0.0
- PerspectiveScale: 100
- PerspectiveUpright: 0
- PerspectiveVertical: 0
- PerspectiveX: 0.00
- PerspectiveY: 0.00
- PostCropVignetteAmount: 0
- ProcessVersion: 11.0
- Shadows2012: -13
- SharpenDetail: 46
- SharpenEdgeMasking: 16
- SharpenRadius: +0.8
- Sharpness: 0
- SplitToningBalance: 0
- SplitToningHighlightHue: 0
- SplitToningHighlightSaturation: 0
- SplitToningShadowHue: 0
- SplitToningShadowSaturation: 0
- Texture: 0
- ToneCurve: 0, 0, 32, 22, 64, 56, 128, 128, 192, 196, 255, 255
- ToneCurveBlue: 0, 0, 255, 255
- ToneCurveGreen: 0, 0, 255, 255
- ToneCurveName: Medium Contrast
- ToneCurveName2012: Linear
- ToneCurvePV2012: 0, 0, 255, 255
- ToneCurvePV2012Blue: 0, 0, 255, 255
- ToneCurvePV2012Green: 0, 0, 255, 255
- ToneCurvePV2012Red: 0, 0, 255, 255
- ToneCurveRed: 0, 0, 255, 255
- ToneMapStrength: 0
- Version: 12.0
- VignetteAmount: 0
- Whites2012: -42
- XMP-dc
- Creator: muar@
- Format: image/jpeg
- XMP-exifEX
- XMP-xmp
- CreatorTool: 1.0.2.0
- ModifyDate: 2020:02:06 14:36:53+03:00
- XMP-xmpMM
- Просмотров: 119
- Рейтинг: голосов еще нет
- Отзывов: отключены